BEGIN:VCALENDAR
VERSION:2.0
PRODID:-//Human House Delft - ECPv6.15.20//NONSGML v1.0//EN
CALSCALE:GREGORIAN
METHOD:PUBLISH
X-ORIGINAL-URL:https://humanhousedelft.nl
X-WR-CALDESC:Evenementen voor Human House Delft
REFRESH-INTERVAL;VALUE=DURATION:PT1H
X-Robots-Tag:noindex
X-PUBLISHED-TTL:PT1H
BEGIN:VTIMEZONE
TZID:Europe/Amsterdam
BEGIN:DAYLIGHT
TZOFFSETFROM:+0100
TZOFFSETTO:+0200
TZNAME:CEST
DTSTART:20280326T010000
END:DAYLIGHT
BEGIN:STANDARD
TZOFFSETFROM:+0200
TZOFFSETTO:+0100
TZNAME:CET
DTSTART:20281029T010000
END:STANDARD
BEGIN:DAYLIGHT
TZOFFSETFROM:+0100
TZOFFSETTO:+0200
TZNAME:CEST
DTSTART:20290325T010000
END:DAYLIGHT
BEGIN:STANDARD
TZOFFSETFROM:+0200
TZOFFSETTO:+0100
TZNAME:CET
DTSTART:20291028T010000
END:STANDARD
BEGIN:DAYLIGHT
TZOFFSETFROM:+0100
TZOFFSETTO:+0200
TZNAME:CEST
DTSTART:20300331T010000
END:DAYLIGHT
BEGIN:STANDARD
TZOFFSETFROM:+0200
TZOFFSETTO:+0100
TZNAME:CET
DTSTART:20301027T010000
END:STANDARD
END:VTIMEZONE
BEGIN:VEVENT
DTSTART;TZID=Europe/Amsterdam:20290124T100000
DTEND;TZID=Europe/Amsterdam:20290124T120000
DTSTAMP:20260420T105926
CREATED:20240506T093655Z
LAST-MODIFIED:20241112T122941Z
UID:10005133-1863943200-1863950400@humanhousedelft.nl
SUMMARY:KoffieNL
DESCRIPTION:KoffieNL: Koffie drinken en gezellig Nederlands praten in kleine groepjes! \nData alle woensdagen\nKosten gratis\nContactpersoon voor Informatie en opgave Luc 0612424882/ Bernadette 0620837565\nAangeboden door DelftseBuur
URL:https://humanhousedelft.nl/event/koffienl-2/2029-01-24/
LOCATION:Jessehof\, Burgwal 50\, Delft\, Nederland
CATEGORIES:Human House Delft
END:VEVENT
BEGIN:VEVENT
DTSTART;TZID=Europe/Amsterdam:20290131T100000
DTEND;TZID=Europe/Amsterdam:20290131T120000
DTSTAMP:20260420T105926
CREATED:20240506T093655Z
LAST-MODIFIED:20241112T122941Z
UID:10005135-1864548000-1864555200@humanhousedelft.nl
SUMMARY:KoffieNL
DESCRIPTION:KoffieNL: Koffie drinken en gezellig Nederlands praten in kleine groepjes! \nData alle woensdagen\nKosten gratis\nContactpersoon voor Informatie en opgave Luc 0612424882/ Bernadette 0620837565\nAangeboden door DelftseBuur
URL:https://humanhousedelft.nl/event/koffienl-2/2029-01-31/
LOCATION:Jessehof\, Burgwal 50\, Delft\, Nederland
CATEGORIES:Human House Delft
END:VEVENT
BEGIN:VEVENT
DTSTART;TZID=Europe/Amsterdam:20290207T100000
DTEND;TZID=Europe/Amsterdam:20290207T120000
DTSTAMP:20260420T105926
CREATED:20240506T093655Z
LAST-MODIFIED:20241112T122941Z
UID:10005137-1865152800-1865160000@humanhousedelft.nl
SUMMARY:KoffieNL
DESCRIPTION:KoffieNL: Koffie drinken en gezellig Nederlands praten in kleine groepjes! \nData alle woensdagen\nKosten gratis\nContactpersoon voor Informatie en opgave Luc 0612424882/ Bernadette 0620837565\nAangeboden door DelftseBuur
URL:https://humanhousedelft.nl/event/koffienl-2/2029-02-07/
LOCATION:Jessehof\, Burgwal 50\, Delft\, Nederland
CATEGORIES:Human House Delft
END:VEVENT
BEGIN:VEVENT
DTSTART;TZID=Europe/Amsterdam:20290214T100000
DTEND;TZID=Europe/Amsterdam:20290214T120000
DTSTAMP:20260420T105926
CREATED:20240506T093655Z
LAST-MODIFIED:20241112T122941Z
UID:10005139-1865757600-1865764800@humanhousedelft.nl
SUMMARY:KoffieNL
DESCRIPTION:KoffieNL: Koffie drinken en gezellig Nederlands praten in kleine groepjes! \nData alle woensdagen\nKosten gratis\nContactpersoon voor Informatie en opgave Luc 0612424882/ Bernadette 0620837565\nAangeboden door DelftseBuur
URL:https://humanhousedelft.nl/event/koffienl-2/2029-02-14/
LOCATION:Jessehof\, Burgwal 50\, Delft\, Nederland
CATEGORIES:Human House Delft
END:VEVENT
BEGIN:VEVENT
DTSTART;TZID=Europe/Amsterdam:20290221T100000
DTEND;TZID=Europe/Amsterdam:20290221T120000
DTSTAMP:20260420T105926
CREATED:20240506T093655Z
LAST-MODIFIED:20241112T122941Z
UID:10005141-1866362400-1866369600@humanhousedelft.nl
SUMMARY:KoffieNL
DESCRIPTION:KoffieNL: Koffie drinken en gezellig Nederlands praten in kleine groepjes! \nData alle woensdagen\nKosten gratis\nContactpersoon voor Informatie en opgave Luc 0612424882/ Bernadette 0620837565\nAangeboden door DelftseBuur
URL:https://humanhousedelft.nl/event/koffienl-2/2029-02-21/
LOCATION:Jessehof\, Burgwal 50\, Delft\, Nederland
CATEGORIES:Human House Delft
END:VEVENT
BEGIN:VEVENT
DTSTART;TZID=Europe/Amsterdam:20290228T100000
DTEND;TZID=Europe/Amsterdam:20290228T120000
DTSTAMP:20260420T105926
CREATED:20240506T093655Z
LAST-MODIFIED:20241112T122941Z
UID:10005143-1866967200-1866974400@humanhousedelft.nl
SUMMARY:KoffieNL
DESCRIPTION:KoffieNL: Koffie drinken en gezellig Nederlands praten in kleine groepjes! \nData alle woensdagen\nKosten gratis\nContactpersoon voor Informatie en opgave Luc 0612424882/ Bernadette 0620837565\nAangeboden door DelftseBuur
URL:https://humanhousedelft.nl/event/koffienl-2/2029-02-28/
LOCATION:Jessehof\, Burgwal 50\, Delft\, Nederland
CATEGORIES:Human House Delft
END:VEVENT
BEGIN:VEVENT
DTSTART;TZID=Europe/Amsterdam:20290307T100000
DTEND;TZID=Europe/Amsterdam:20290307T120000
DTSTAMP:20260420T105926
CREATED:20240506T093655Z
LAST-MODIFIED:20241112T122941Z
UID:10005145-1867572000-1867579200@humanhousedelft.nl
SUMMARY:KoffieNL
DESCRIPTION:KoffieNL: Koffie drinken en gezellig Nederlands praten in kleine groepjes! \nData alle woensdagen\nKosten gratis\nContactpersoon voor Informatie en opgave Luc 0612424882/ Bernadette 0620837565\nAangeboden door DelftseBuur
URL:https://humanhousedelft.nl/event/koffienl-2/2029-03-07/
LOCATION:Jessehof\, Burgwal 50\, Delft\, Nederland
CATEGORIES:Human House Delft
END:VEVENT
BEGIN:VEVENT
DTSTART;TZID=Europe/Amsterdam:20290314T100000
DTEND;TZID=Europe/Amsterdam:20290314T120000
DTSTAMP:20260420T105926
CREATED:20240506T093655Z
LAST-MODIFIED:20241112T122941Z
UID:10005147-1868176800-1868184000@humanhousedelft.nl
SUMMARY:KoffieNL
DESCRIPTION:KoffieNL: Koffie drinken en gezellig Nederlands praten in kleine groepjes! \nData alle woensdagen\nKosten gratis\nContactpersoon voor Informatie en opgave Luc 0612424882/ Bernadette 0620837565\nAangeboden door DelftseBuur
URL:https://humanhousedelft.nl/event/koffienl-2/2029-03-14/
LOCATION:Jessehof\, Burgwal 50\, Delft\, Nederland
CATEGORIES:Human House Delft
END:VEVENT
BEGIN:VEVENT
DTSTART;TZID=Europe/Amsterdam:20290321T100000
DTEND;TZID=Europe/Amsterdam:20290321T120000
DTSTAMP:20260420T105926
CREATED:20240506T093655Z
LAST-MODIFIED:20241112T122941Z
UID:10005149-1868781600-1868788800@humanhousedelft.nl
SUMMARY:KoffieNL
DESCRIPTION:KoffieNL: Koffie drinken en gezellig Nederlands praten in kleine groepjes! \nData alle woensdagen\nKosten gratis\nContactpersoon voor Informatie en opgave Luc 0612424882/ Bernadette 0620837565\nAangeboden door DelftseBuur
URL:https://humanhousedelft.nl/event/koffienl-2/2029-03-21/
LOCATION:Jessehof\, Burgwal 50\, Delft\, Nederland
CATEGORIES:Human House Delft
END:VEVENT
BEGIN:VEVENT
DTSTART;TZID=Europe/Amsterdam:20290328T100000
DTEND;TZID=Europe/Amsterdam:20290328T120000
DTSTAMP:20260420T105926
CREATED:20240506T093655Z
LAST-MODIFIED:20241112T122941Z
UID:10005151-1869386400-1869393600@humanhousedelft.nl
SUMMARY:KoffieNL
DESCRIPTION:KoffieNL: Koffie drinken en gezellig Nederlands praten in kleine groepjes! \nData alle woensdagen\nKosten gratis\nContactpersoon voor Informatie en opgave Luc 0612424882/ Bernadette 0620837565\nAangeboden door DelftseBuur
URL:https://humanhousedelft.nl/event/koffienl-2/2029-03-28/
LOCATION:Jessehof\, Burgwal 50\, Delft\, Nederland
CATEGORIES:Human House Delft
END:VEVENT
BEGIN:VEVENT
DTSTART;TZID=Europe/Amsterdam:20290404T100000
DTEND;TZID=Europe/Amsterdam:20290404T120000
DTSTAMP:20260420T105926
CREATED:20240506T093655Z
LAST-MODIFIED:20241112T122941Z
UID:10005153-1869991200-1869998400@humanhousedelft.nl
SUMMARY:KoffieNL
DESCRIPTION:KoffieNL: Koffie drinken en gezellig Nederlands praten in kleine groepjes! \nData alle woensdagen\nKosten gratis\nContactpersoon voor Informatie en opgave Luc 0612424882/ Bernadette 0620837565\nAangeboden door DelftseBuur
URL:https://humanhousedelft.nl/event/koffienl-2/2029-04-04/
LOCATION:Jessehof\, Burgwal 50\, Delft\, Nederland
CATEGORIES:Human House Delft
END:VEVENT
BEGIN:VEVENT
DTSTART;TZID=Europe/Amsterdam:20290411T100000
DTEND;TZID=Europe/Amsterdam:20290411T120000
DTSTAMP:20260420T105926
CREATED:20240506T093655Z
LAST-MODIFIED:20241112T122941Z
UID:10005155-1870596000-1870603200@humanhousedelft.nl
SUMMARY:KoffieNL
DESCRIPTION:KoffieNL: Koffie drinken en gezellig Nederlands praten in kleine groepjes! \nData alle woensdagen\nKosten gratis\nContactpersoon voor Informatie en opgave Luc 0612424882/ Bernadette 0620837565\nAangeboden door DelftseBuur
URL:https://humanhousedelft.nl/event/koffienl-2/2029-04-11/
LOCATION:Jessehof\, Burgwal 50\, Delft\, Nederland
CATEGORIES:Human House Delft
END:VEVENT
BEGIN:VEVENT
DTSTART;TZID=Europe/Amsterdam:20290418T100000
DTEND;TZID=Europe/Amsterdam:20290418T120000
DTSTAMP:20260420T105926
CREATED:20240506T093655Z
LAST-MODIFIED:20241112T122941Z
UID:10005157-1871200800-1871208000@humanhousedelft.nl
SUMMARY:KoffieNL
DESCRIPTION:KoffieNL: Koffie drinken en gezellig Nederlands praten in kleine groepjes! \nData alle woensdagen\nKosten gratis\nContactpersoon voor Informatie en opgave Luc 0612424882/ Bernadette 0620837565\nAangeboden door DelftseBuur
URL:https://humanhousedelft.nl/event/koffienl-2/2029-04-18/
LOCATION:Jessehof\, Burgwal 50\, Delft\, Nederland
CATEGORIES:Human House Delft
END:VEVENT
BEGIN:VEVENT
DTSTART;TZID=Europe/Amsterdam:20290425T100000
DTEND;TZID=Europe/Amsterdam:20290425T120000
DTSTAMP:20260420T105926
CREATED:20240506T093655Z
LAST-MODIFIED:20241112T122941Z
UID:10005159-1871805600-1871812800@humanhousedelft.nl
SUMMARY:KoffieNL
DESCRIPTION:KoffieNL: Koffie drinken en gezellig Nederlands praten in kleine groepjes! \nData alle woensdagen\nKosten gratis\nContactpersoon voor Informatie en opgave Luc 0612424882/ Bernadette 0620837565\nAangeboden door DelftseBuur
URL:https://humanhousedelft.nl/event/koffienl-2/2029-04-25/
LOCATION:Jessehof\, Burgwal 50\, Delft\, Nederland
CATEGORIES:Human House Delft
END:VEVENT
BEGIN:VEVENT
DTSTART;TZID=Europe/Amsterdam:20290502T100000
DTEND;TZID=Europe/Amsterdam:20290502T120000
DTSTAMP:20260420T105926
CREATED:20240506T093655Z
LAST-MODIFIED:20241112T122941Z
UID:10005161-1872410400-1872417600@humanhousedelft.nl
SUMMARY:KoffieNL
DESCRIPTION:KoffieNL: Koffie drinken en gezellig Nederlands praten in kleine groepjes! \nData alle woensdagen\nKosten gratis\nContactpersoon voor Informatie en opgave Luc 0612424882/ Bernadette 0620837565\nAangeboden door DelftseBuur
URL:https://humanhousedelft.nl/event/koffienl-2/2029-05-02/
LOCATION:Jessehof\, Burgwal 50\, Delft\, Nederland
CATEGORIES:Human House Delft
END:VEVENT
BEGIN:VEVENT
DTSTART;TZID=Europe/Amsterdam:20290509T100000
DTEND;TZID=Europe/Amsterdam:20290509T120000
DTSTAMP:20260420T105926
CREATED:20240506T093655Z
LAST-MODIFIED:20241112T122941Z
UID:10005479-1873015200-1873022400@humanhousedelft.nl
SUMMARY:KoffieNL
DESCRIPTION:KoffieNL: Koffie drinken en gezellig Nederlands praten in kleine groepjes! \nData alle woensdagen\nKosten gratis\nContactpersoon voor Informatie en opgave Luc 0612424882/ Bernadette 0620837565\nAangeboden door DelftseBuur
URL:https://humanhousedelft.nl/event/koffienl-2/2029-05-09/
LOCATION:Jessehof\, Burgwal 50\, Delft\, Nederland
CATEGORIES:Human House Delft
END:VEVENT
BEGIN:VEVENT
DTSTART;TZID=Europe/Amsterdam:20290516T100000
DTEND;TZID=Europe/Amsterdam:20290516T120000
DTSTAMP:20260420T105926
CREATED:20240506T093655Z
LAST-MODIFIED:20241112T122941Z
UID:10005480-1873620000-1873627200@humanhousedelft.nl
SUMMARY:KoffieNL
DESCRIPTION:KoffieNL: Koffie drinken en gezellig Nederlands praten in kleine groepjes! \nData alle woensdagen\nKosten gratis\nContactpersoon voor Informatie en opgave Luc 0612424882/ Bernadette 0620837565\nAangeboden door DelftseBuur
URL:https://humanhousedelft.nl/event/koffienl-2/2029-05-16/
LOCATION:Jessehof\, Burgwal 50\, Delft\, Nederland
CATEGORIES:Human House Delft
END:VEVENT
BEGIN:VEVENT
DTSTART;TZID=Europe/Amsterdam:20290523T100000
DTEND;TZID=Europe/Amsterdam:20290523T120000
DTSTAMP:20260420T105926
CREATED:20240506T093655Z
LAST-MODIFIED:20241112T122941Z
UID:10005481-1874224800-1874232000@humanhousedelft.nl
SUMMARY:KoffieNL
DESCRIPTION:KoffieNL: Koffie drinken en gezellig Nederlands praten in kleine groepjes! \nData alle woensdagen\nKosten gratis\nContactpersoon voor Informatie en opgave Luc 0612424882/ Bernadette 0620837565\nAangeboden door DelftseBuur
URL:https://humanhousedelft.nl/event/koffienl-2/2029-05-23/
LOCATION:Jessehof\, Burgwal 50\, Delft\, Nederland
CATEGORIES:Human House Delft
END:VEVENT
BEGIN:VEVENT
DTSTART;TZID=Europe/Amsterdam:20290530T100000
DTEND;TZID=Europe/Amsterdam:20290530T120000
DTSTAMP:20260420T105926
CREATED:20240506T093655Z
LAST-MODIFIED:20241112T122941Z
UID:10005482-1874829600-1874836800@humanhousedelft.nl
SUMMARY:KoffieNL
DESCRIPTION:KoffieNL: Koffie drinken en gezellig Nederlands praten in kleine groepjes! \nData alle woensdagen\nKosten gratis\nContactpersoon voor Informatie en opgave Luc 0612424882/ Bernadette 0620837565\nAangeboden door DelftseBuur
URL:https://humanhousedelft.nl/event/koffienl-2/2029-05-30/
LOCATION:Jessehof\, Burgwal 50\, Delft\, Nederland
CATEGORIES:Human House Delft
END:VEVENT
BEGIN:VEVENT
DTSTART;TZID=Europe/Amsterdam:20290606T100000
DTEND;TZID=Europe/Amsterdam:20290606T120000
DTSTAMP:20260420T105926
CREATED:20240506T093655Z
LAST-MODIFIED:20241112T122941Z
UID:10005483-1875434400-1875441600@humanhousedelft.nl
SUMMARY:KoffieNL
DESCRIPTION:KoffieNL: Koffie drinken en gezellig Nederlands praten in kleine groepjes! \nData alle woensdagen\nKosten gratis\nContactpersoon voor Informatie en opgave Luc 0612424882/ Bernadette 0620837565\nAangeboden door DelftseBuur
URL:https://humanhousedelft.nl/event/koffienl-2/2029-06-06/
LOCATION:Jessehof\, Burgwal 50\, Delft\, Nederland
CATEGORIES:Human House Delft
END:VEVENT
BEGIN:VEVENT
DTSTART;TZID=Europe/Amsterdam:20290613T100000
DTEND;TZID=Europe/Amsterdam:20290613T120000
DTSTAMP:20260420T105926
CREATED:20240506T093655Z
LAST-MODIFIED:20241112T122941Z
UID:10005495-1876039200-1876046400@humanhousedelft.nl
SUMMARY:KoffieNL
DESCRIPTION:KoffieNL: Koffie drinken en gezellig Nederlands praten in kleine groepjes! \nData alle woensdagen\nKosten gratis\nContactpersoon voor Informatie en opgave Luc 0612424882/ Bernadette 0620837565\nAangeboden door DelftseBuur
URL:https://humanhousedelft.nl/event/koffienl-2/2029-06-13/
LOCATION:Jessehof\, Burgwal 50\, Delft\, Nederland
CATEGORIES:Human House Delft
END:VEVENT
BEGIN:VEVENT
DTSTART;TZID=Europe/Amsterdam:20290620T100000
DTEND;TZID=Europe/Amsterdam:20290620T120000
DTSTAMP:20260420T105926
CREATED:20240506T093655Z
LAST-MODIFIED:20241112T122941Z
UID:10005507-1876644000-1876651200@humanhousedelft.nl
SUMMARY:KoffieNL
DESCRIPTION:KoffieNL: Koffie drinken en gezellig Nederlands praten in kleine groepjes! \nData alle woensdagen\nKosten gratis\nContactpersoon voor Informatie en opgave Luc 0612424882/ Bernadette 0620837565\nAangeboden door DelftseBuur
URL:https://humanhousedelft.nl/event/koffienl-2/2029-06-20/
LOCATION:Jessehof\, Burgwal 50\, Delft\, Nederland
CATEGORIES:Human House Delft
END:VEVENT
BEGIN:VEVENT
DTSTART;TZID=Europe/Amsterdam:20290627T100000
DTEND;TZID=Europe/Amsterdam:20290627T120000
DTSTAMP:20260420T105926
CREATED:20240506T093655Z
LAST-MODIFIED:20241112T122941Z
UID:10005519-1877248800-1877256000@humanhousedelft.nl
SUMMARY:KoffieNL
DESCRIPTION:KoffieNL: Koffie drinken en gezellig Nederlands praten in kleine groepjes! \nData alle woensdagen\nKosten gratis\nContactpersoon voor Informatie en opgave Luc 0612424882/ Bernadette 0620837565\nAangeboden door DelftseBuur
URL:https://humanhousedelft.nl/event/koffienl-2/2029-06-27/
LOCATION:Jessehof\, Burgwal 50\, Delft\, Nederland
CATEGORIES:Human House Delft
END:VEVENT
BEGIN:VEVENT
DTSTART;TZID=Europe/Amsterdam:20290704T100000
DTEND;TZID=Europe/Amsterdam:20290704T120000
DTSTAMP:20260420T105926
CREATED:20240506T093655Z
LAST-MODIFIED:20241112T122941Z
UID:10005531-1877853600-1877860800@humanhousedelft.nl
SUMMARY:KoffieNL
DESCRIPTION:KoffieNL: Koffie drinken en gezellig Nederlands praten in kleine groepjes! \nData alle woensdagen\nKosten gratis\nContactpersoon voor Informatie en opgave Luc 0612424882/ Bernadette 0620837565\nAangeboden door DelftseBuur
URL:https://humanhousedelft.nl/event/koffienl-2/2029-07-04/
LOCATION:Jessehof\, Burgwal 50\, Delft\, Nederland
CATEGORIES:Human House Delft
END:VEVENT
BEGIN:VEVENT
DTSTART;TZID=Europe/Amsterdam:20290711T100000
DTEND;TZID=Europe/Amsterdam:20290711T120000
DTSTAMP:20260420T105926
CREATED:20240506T093655Z
LAST-MODIFIED:20241112T122941Z
UID:10005543-1878458400-1878465600@humanhousedelft.nl
SUMMARY:KoffieNL
DESCRIPTION:KoffieNL: Koffie drinken en gezellig Nederlands praten in kleine groepjes! \nData alle woensdagen\nKosten gratis\nContactpersoon voor Informatie en opgave Luc 0612424882/ Bernadette 0620837565\nAangeboden door DelftseBuur
URL:https://humanhousedelft.nl/event/koffienl-2/2029-07-11/
LOCATION:Jessehof\, Burgwal 50\, Delft\, Nederland
CATEGORIES:Human House Delft
END:VEVENT
BEGIN:VEVENT
DTSTART;TZID=Europe/Amsterdam:20290718T100000
DTEND;TZID=Europe/Amsterdam:20290718T120000
DTSTAMP:20260420T105926
CREATED:20240506T093655Z
LAST-MODIFIED:20241112T122941Z
UID:10005555-1879063200-1879070400@humanhousedelft.nl
SUMMARY:KoffieNL
DESCRIPTION:KoffieNL: Koffie drinken en gezellig Nederlands praten in kleine groepjes! \nData alle woensdagen\nKosten gratis\nContactpersoon voor Informatie en opgave Luc 0612424882/ Bernadette 0620837565\nAangeboden door DelftseBuur
URL:https://humanhousedelft.nl/event/koffienl-2/2029-07-18/
LOCATION:Jessehof\, Burgwal 50\, Delft\, Nederland
CATEGORIES:Human House Delft
END:VEVENT
BEGIN:VEVENT
DTSTART;TZID=Europe/Amsterdam:20290725T100000
DTEND;TZID=Europe/Amsterdam:20290725T120000
DTSTAMP:20260420T105926
CREATED:20240506T093655Z
LAST-MODIFIED:20241112T122941Z
UID:10005567-1879668000-1879675200@humanhousedelft.nl
SUMMARY:KoffieNL
DESCRIPTION:KoffieNL: Koffie drinken en gezellig Nederlands praten in kleine groepjes! \nData alle woensdagen\nKosten gratis\nContactpersoon voor Informatie en opgave Luc 0612424882/ Bernadette 0620837565\nAangeboden door DelftseBuur
URL:https://humanhousedelft.nl/event/koffienl-2/2029-07-25/
LOCATION:Jessehof\, Burgwal 50\, Delft\, Nederland
CATEGORIES:Human House Delft
END:VEVENT
BEGIN:VEVENT
DTSTART;TZID=Europe/Amsterdam:20290801T100000
DTEND;TZID=Europe/Amsterdam:20290801T120000
DTSTAMP:20260420T105926
CREATED:20240506T093655Z
LAST-MODIFIED:20241112T122941Z
UID:10005580-1880272800-1880280000@humanhousedelft.nl
SUMMARY:KoffieNL
DESCRIPTION:KoffieNL: Koffie drinken en gezellig Nederlands praten in kleine groepjes! \nData alle woensdagen\nKosten gratis\nContactpersoon voor Informatie en opgave Luc 0612424882/ Bernadette 0620837565\nAangeboden door DelftseBuur
URL:https://humanhousedelft.nl/event/koffienl-2/2029-08-01/
LOCATION:Jessehof\, Burgwal 50\, Delft\, Nederland
CATEGORIES:Human House Delft
END:VEVENT
BEGIN:VEVENT
DTSTART;TZID=Europe/Amsterdam:20290808T100000
DTEND;TZID=Europe/Amsterdam:20290808T120000
DTSTAMP:20260420T105926
CREATED:20240506T093655Z
LAST-MODIFIED:20241112T122941Z
UID:10005593-1880877600-1880884800@humanhousedelft.nl
SUMMARY:KoffieNL
DESCRIPTION:KoffieNL: Koffie drinken en gezellig Nederlands praten in kleine groepjes! \nData alle woensdagen\nKosten gratis\nContactpersoon voor Informatie en opgave Luc 0612424882/ Bernadette 0620837565\nAangeboden door DelftseBuur
URL:https://humanhousedelft.nl/event/koffienl-2/2029-08-08/
LOCATION:Jessehof\, Burgwal 50\, Delft\, Nederland
CATEGORIES:Human House Delft
END:VEVENT
BEGIN:VEVENT
DTSTART;TZID=Europe/Amsterdam:20290815T100000
DTEND;TZID=Europe/Amsterdam:20290815T120000
DTSTAMP:20260420T105926
CREATED:20240506T093655Z
LAST-MODIFIED:20241112T122941Z
UID:10005605-1881482400-1881489600@humanhousedelft.nl
SUMMARY:KoffieNL
DESCRIPTION:KoffieNL: Koffie drinken en gezellig Nederlands praten in kleine groepjes! \nData alle woensdagen\nKosten gratis\nContactpersoon voor Informatie en opgave Luc 0612424882/ Bernadette 0620837565\nAangeboden door DelftseBuur
URL:https://humanhousedelft.nl/event/koffienl-2/2029-08-15/
LOCATION:Jessehof\, Burgwal 50\, Delft\, Nederland
CATEGORIES:Human House Delft
END:VEVENT
END:VCALENDAR