BEGIN:VCALENDAR
VERSION:2.0
PRODID:-//Human House Delft - ECPv6.15.20//NONSGML v1.0//EN
CALSCALE:GREGORIAN
METHOD:PUBLISH
X-ORIGINAL-URL:https://humanhousedelft.nl
X-WR-CALDESC:Evenementen voor Human House Delft
REFRESH-INTERVAL;VALUE=DURATION:PT1H
X-Robots-Tag:noindex
X-PUBLISHED-TTL:PT1H
BEGIN:VTIMEZONE
TZID:Europe/Amsterdam
BEGIN:DAYLIGHT
TZOFFSETFROM:+0100
TZOFFSETTO:+0200
TZNAME:CEST
DTSTART:20290325T010000
END:DAYLIGHT
BEGIN:STANDARD
TZOFFSETFROM:+0200
TZOFFSETTO:+0100
TZNAME:CET
DTSTART:20291028T010000
END:STANDARD
BEGIN:DAYLIGHT
TZOFFSETFROM:+0100
TZOFFSETTO:+0200
TZNAME:CEST
DTSTART:20300331T010000
END:DAYLIGHT
BEGIN:STANDARD
TZOFFSETFROM:+0200
TZOFFSETTO:+0100
TZNAME:CET
DTSTART:20301027T010000
END:STANDARD
BEGIN:DAYLIGHT
TZOFFSETFROM:+0100
TZOFFSETTO:+0200
TZNAME:CEST
DTSTART:20310330T010000
END:DAYLIGHT
BEGIN:STANDARD
TZOFFSETFROM:+0200
TZOFFSETTO:+0100
TZNAME:CET
DTSTART:20311026T010000
END:STANDARD
BEGIN:DAYLIGHT
TZOFFSETFROM:+0100
TZOFFSETTO:+0200
TZNAME:CEST
DTSTART:20320328T010000
END:DAYLIGHT
BEGIN:STANDARD
TZOFFSETFROM:+0200
TZOFFSETTO:+0100
TZNAME:CET
DTSTART:20321031T010000
END:STANDARD
END:VTIMEZONE
BEGIN:VEVENT
DTSTART;TZID=Europe/Amsterdam:20301127T100000
DTEND;TZID=Europe/Amsterdam:20301127T120000
DTSTAMP:20260421T000155
CREATED:20240506T093655Z
LAST-MODIFIED:20241112T122941Z
UID:10008290-1922004000-1922011200@humanhousedelft.nl
SUMMARY:KoffieNL
DESCRIPTION:KoffieNL: Koffie drinken en gezellig Nederlands praten in kleine groepjes! \nData alle woensdagen\nKosten gratis\nContactpersoon voor Informatie en opgave Luc 0612424882/ Bernadette 0620837565\nAangeboden door DelftseBuur
URL:https://humanhousedelft.nl/event/koffienl-2/2030-11-27/
LOCATION:Jessehof\, Burgwal 50\, Delft\, Nederland
CATEGORIES:Human House Delft
END:VEVENT
BEGIN:VEVENT
DTSTART;TZID=Europe/Amsterdam:20301204T100000
DTEND;TZID=Europe/Amsterdam:20301204T120000
DTSTAMP:20260421T000155
CREATED:20240506T093655Z
LAST-MODIFIED:20241112T122941Z
UID:10008304-1922608800-1922616000@humanhousedelft.nl
SUMMARY:KoffieNL
DESCRIPTION:KoffieNL: Koffie drinken en gezellig Nederlands praten in kleine groepjes! \nData alle woensdagen\nKosten gratis\nContactpersoon voor Informatie en opgave Luc 0612424882/ Bernadette 0620837565\nAangeboden door DelftseBuur
URL:https://humanhousedelft.nl/event/koffienl-2/2030-12-04/
LOCATION:Jessehof\, Burgwal 50\, Delft\, Nederland
CATEGORIES:Human House Delft
END:VEVENT
BEGIN:VEVENT
DTSTART;TZID=Europe/Amsterdam:20301211T100000
DTEND;TZID=Europe/Amsterdam:20301211T120000
DTSTAMP:20260421T000155
CREATED:20240506T093655Z
LAST-MODIFIED:20241112T122941Z
UID:10008512-1923213600-1923220800@humanhousedelft.nl
SUMMARY:KoffieNL
DESCRIPTION:KoffieNL: Koffie drinken en gezellig Nederlands praten in kleine groepjes! \nData alle woensdagen\nKosten gratis\nContactpersoon voor Informatie en opgave Luc 0612424882/ Bernadette 0620837565\nAangeboden door DelftseBuur
URL:https://humanhousedelft.nl/event/koffienl-2/2030-12-11/
LOCATION:Jessehof\, Burgwal 50\, Delft\, Nederland
CATEGORIES:Human House Delft
END:VEVENT
BEGIN:VEVENT
DTSTART;TZID=Europe/Amsterdam:20301218T100000
DTEND;TZID=Europe/Amsterdam:20301218T120000
DTSTAMP:20260421T000155
CREATED:20240506T093655Z
LAST-MODIFIED:20241112T122941Z
UID:10008817-1923818400-1923825600@humanhousedelft.nl
SUMMARY:KoffieNL
DESCRIPTION:KoffieNL: Koffie drinken en gezellig Nederlands praten in kleine groepjes! \nData alle woensdagen\nKosten gratis\nContactpersoon voor Informatie en opgave Luc 0612424882/ Bernadette 0620837565\nAangeboden door DelftseBuur
URL:https://humanhousedelft.nl/event/koffienl-2/2030-12-18/
LOCATION:Jessehof\, Burgwal 50\, Delft\, Nederland
CATEGORIES:Human House Delft
END:VEVENT
BEGIN:VEVENT
DTSTART;TZID=Europe/Amsterdam:20301225T100000
DTEND;TZID=Europe/Amsterdam:20301225T120000
DTSTAMP:20260421T000155
CREATED:20240506T093655Z
LAST-MODIFIED:20241112T122941Z
UID:10008831-1924423200-1924430400@humanhousedelft.nl
SUMMARY:KoffieNL
DESCRIPTION:KoffieNL: Koffie drinken en gezellig Nederlands praten in kleine groepjes! \nData alle woensdagen\nKosten gratis\nContactpersoon voor Informatie en opgave Luc 0612424882/ Bernadette 0620837565\nAangeboden door DelftseBuur
URL:https://humanhousedelft.nl/event/koffienl-2/2030-12-25/
LOCATION:Jessehof\, Burgwal 50\, Delft\, Nederland
CATEGORIES:Human House Delft
END:VEVENT
BEGIN:VEVENT
DTSTART;TZID=Europe/Amsterdam:20310101T100000
DTEND;TZID=Europe/Amsterdam:20310101T120000
DTSTAMP:20260421T000155
CREATED:20240506T093655Z
LAST-MODIFIED:20241112T122941Z
UID:10008859-1925028000-1925035200@humanhousedelft.nl
SUMMARY:KoffieNL
DESCRIPTION:KoffieNL: Koffie drinken en gezellig Nederlands praten in kleine groepjes! \nData alle woensdagen\nKosten gratis\nContactpersoon voor Informatie en opgave Luc 0612424882/ Bernadette 0620837565\nAangeboden door DelftseBuur
URL:https://humanhousedelft.nl/event/koffienl-2/2031-01-01/
LOCATION:Jessehof\, Burgwal 50\, Delft\, Nederland
CATEGORIES:Human House Delft
END:VEVENT
BEGIN:VEVENT
DTSTART;TZID=Europe/Amsterdam:20310108T100000
DTEND;TZID=Europe/Amsterdam:20310108T120000
DTSTAMP:20260421T000155
CREATED:20240506T093655Z
LAST-MODIFIED:20241112T122941Z
UID:10008876-1925632800-1925640000@humanhousedelft.nl
SUMMARY:KoffieNL
DESCRIPTION:KoffieNL: Koffie drinken en gezellig Nederlands praten in kleine groepjes! \nData alle woensdagen\nKosten gratis\nContactpersoon voor Informatie en opgave Luc 0612424882/ Bernadette 0620837565\nAangeboden door DelftseBuur
URL:https://humanhousedelft.nl/event/koffienl-2/2031-01-08/
LOCATION:Jessehof\, Burgwal 50\, Delft\, Nederland
CATEGORIES:Human House Delft
END:VEVENT
BEGIN:VEVENT
DTSTART;TZID=Europe/Amsterdam:20310115T100000
DTEND;TZID=Europe/Amsterdam:20310115T120000
DTSTAMP:20260421T000155
CREATED:20240506T093655Z
LAST-MODIFIED:20241112T122941Z
UID:10008892-1926237600-1926244800@humanhousedelft.nl
SUMMARY:KoffieNL
DESCRIPTION:KoffieNL: Koffie drinken en gezellig Nederlands praten in kleine groepjes! \nData alle woensdagen\nKosten gratis\nContactpersoon voor Informatie en opgave Luc 0612424882/ Bernadette 0620837565\nAangeboden door DelftseBuur
URL:https://humanhousedelft.nl/event/koffienl-2/2031-01-15/
LOCATION:Jessehof\, Burgwal 50\, Delft\, Nederland
CATEGORIES:Human House Delft
END:VEVENT
BEGIN:VEVENT
DTSTART;TZID=Europe/Amsterdam:20310122T100000
DTEND;TZID=Europe/Amsterdam:20310122T120000
DTSTAMP:20260421T000155
CREATED:20240506T093655Z
LAST-MODIFIED:20241112T122941Z
UID:10008908-1926842400-1926849600@humanhousedelft.nl
SUMMARY:KoffieNL
DESCRIPTION:KoffieNL: Koffie drinken en gezellig Nederlands praten in kleine groepjes! \nData alle woensdagen\nKosten gratis\nContactpersoon voor Informatie en opgave Luc 0612424882/ Bernadette 0620837565\nAangeboden door DelftseBuur
URL:https://humanhousedelft.nl/event/koffienl-2/2031-01-22/
LOCATION:Jessehof\, Burgwal 50\, Delft\, Nederland
CATEGORIES:Human House Delft
END:VEVENT
BEGIN:VEVENT
DTSTART;TZID=Europe/Amsterdam:20310129T100000
DTEND;TZID=Europe/Amsterdam:20310129T120000
DTSTAMP:20260421T000155
CREATED:20240506T093655Z
LAST-MODIFIED:20241112T122941Z
UID:10008924-1927447200-1927454400@humanhousedelft.nl
SUMMARY:KoffieNL
DESCRIPTION:KoffieNL: Koffie drinken en gezellig Nederlands praten in kleine groepjes! \nData alle woensdagen\nKosten gratis\nContactpersoon voor Informatie en opgave Luc 0612424882/ Bernadette 0620837565\nAangeboden door DelftseBuur
URL:https://humanhousedelft.nl/event/koffienl-2/2031-01-29/
LOCATION:Jessehof\, Burgwal 50\, Delft\, Nederland
CATEGORIES:Human House Delft
END:VEVENT
BEGIN:VEVENT
DTSTART;TZID=Europe/Amsterdam:20310205T100000
DTEND;TZID=Europe/Amsterdam:20310205T120000
DTSTAMP:20260421T000155
CREATED:20240506T093655Z
LAST-MODIFIED:20241112T122941Z
UID:10008941-1928052000-1928059200@humanhousedelft.nl
SUMMARY:KoffieNL
DESCRIPTION:KoffieNL: Koffie drinken en gezellig Nederlands praten in kleine groepjes! \nData alle woensdagen\nKosten gratis\nContactpersoon voor Informatie en opgave Luc 0612424882/ Bernadette 0620837565\nAangeboden door DelftseBuur
URL:https://humanhousedelft.nl/event/koffienl-2/2031-02-05/
LOCATION:Jessehof\, Burgwal 50\, Delft\, Nederland
CATEGORIES:Human House Delft
END:VEVENT
BEGIN:VEVENT
DTSTART;TZID=Europe/Amsterdam:20310212T100000
DTEND;TZID=Europe/Amsterdam:20310212T120000
DTSTAMP:20260421T000155
CREATED:20240506T093655Z
LAST-MODIFIED:20241112T122941Z
UID:10009021-1928656800-1928664000@humanhousedelft.nl
SUMMARY:KoffieNL
DESCRIPTION:KoffieNL: Koffie drinken en gezellig Nederlands praten in kleine groepjes! \nData alle woensdagen\nKosten gratis\nContactpersoon voor Informatie en opgave Luc 0612424882/ Bernadette 0620837565\nAangeboden door DelftseBuur
URL:https://humanhousedelft.nl/event/koffienl-2/2031-02-12/
LOCATION:Jessehof\, Burgwal 50\, Delft\, Nederland
CATEGORIES:Human House Delft
END:VEVENT
BEGIN:VEVENT
DTSTART;TZID=Europe/Amsterdam:20310219T100000
DTEND;TZID=Europe/Amsterdam:20310219T120000
DTSTAMP:20260421T000155
CREATED:20240506T093655Z
LAST-MODIFIED:20241112T122941Z
UID:10009362-1929261600-1929268800@humanhousedelft.nl
SUMMARY:KoffieNL
DESCRIPTION:KoffieNL: Koffie drinken en gezellig Nederlands praten in kleine groepjes! \nData alle woensdagen\nKosten gratis\nContactpersoon voor Informatie en opgave Luc 0612424882/ Bernadette 0620837565\nAangeboden door DelftseBuur
URL:https://humanhousedelft.nl/event/koffienl-2/2031-02-19/
LOCATION:Jessehof\, Burgwal 50\, Delft\, Nederland
CATEGORIES:Human House Delft
END:VEVENT
BEGIN:VEVENT
DTSTART;TZID=Europe/Amsterdam:20310226T100000
DTEND;TZID=Europe/Amsterdam:20310226T120000
DTSTAMP:20260421T000155
CREATED:20240506T093655Z
LAST-MODIFIED:20241112T122941Z
UID:10009378-1929866400-1929873600@humanhousedelft.nl
SUMMARY:KoffieNL
DESCRIPTION:KoffieNL: Koffie drinken en gezellig Nederlands praten in kleine groepjes! \nData alle woensdagen\nKosten gratis\nContactpersoon voor Informatie en opgave Luc 0612424882/ Bernadette 0620837565\nAangeboden door DelftseBuur
URL:https://humanhousedelft.nl/event/koffienl-2/2031-02-26/
LOCATION:Jessehof\, Burgwal 50\, Delft\, Nederland
CATEGORIES:Human House Delft
END:VEVENT
BEGIN:VEVENT
DTSTART;TZID=Europe/Amsterdam:20310305T100000
DTEND;TZID=Europe/Amsterdam:20310305T120000
DTSTAMP:20260421T000155
CREATED:20240506T093655Z
LAST-MODIFIED:20241112T122941Z
UID:10009403-1930471200-1930478400@humanhousedelft.nl
SUMMARY:KoffieNL
DESCRIPTION:KoffieNL: Koffie drinken en gezellig Nederlands praten in kleine groepjes! \nData alle woensdagen\nKosten gratis\nContactpersoon voor Informatie en opgave Luc 0612424882/ Bernadette 0620837565\nAangeboden door DelftseBuur
URL:https://humanhousedelft.nl/event/koffienl-2/2031-03-05/
LOCATION:Jessehof\, Burgwal 50\, Delft\, Nederland
CATEGORIES:Human House Delft
END:VEVENT
BEGIN:VEVENT
DTSTART;TZID=Europe/Amsterdam:20310312T100000
DTEND;TZID=Europe/Amsterdam:20310312T120000
DTSTAMP:20260421T000155
CREATED:20240506T093655Z
LAST-MODIFIED:20241112T122941Z
UID:10009419-1931076000-1931083200@humanhousedelft.nl
SUMMARY:KoffieNL
DESCRIPTION:KoffieNL: Koffie drinken en gezellig Nederlands praten in kleine groepjes! \nData alle woensdagen\nKosten gratis\nContactpersoon voor Informatie en opgave Luc 0612424882/ Bernadette 0620837565\nAangeboden door DelftseBuur
URL:https://humanhousedelft.nl/event/koffienl-2/2031-03-12/
LOCATION:Jessehof\, Burgwal 50\, Delft\, Nederland
CATEGORIES:Human House Delft
END:VEVENT
BEGIN:VEVENT
DTSTART;TZID=Europe/Amsterdam:20310319T100000
DTEND;TZID=Europe/Amsterdam:20310319T120000
DTSTAMP:20260421T000155
CREATED:20240506T093655Z
LAST-MODIFIED:20241112T122941Z
UID:10009909-1931680800-1931688000@humanhousedelft.nl
SUMMARY:KoffieNL
DESCRIPTION:KoffieNL: Koffie drinken en gezellig Nederlands praten in kleine groepjes! \nData alle woensdagen\nKosten gratis\nContactpersoon voor Informatie en opgave Luc 0612424882/ Bernadette 0620837565\nAangeboden door DelftseBuur
URL:https://humanhousedelft.nl/event/koffienl-2/2031-03-19/
LOCATION:Jessehof\, Burgwal 50\, Delft\, Nederland
CATEGORIES:Human House Delft
END:VEVENT
BEGIN:VEVENT
DTSTART;TZID=Europe/Amsterdam:20310326T100000
DTEND;TZID=Europe/Amsterdam:20310326T120000
DTSTAMP:20260421T000155
CREATED:20240506T093655Z
LAST-MODIFIED:20241112T122941Z
UID:10009936-1932285600-1932292800@humanhousedelft.nl
SUMMARY:KoffieNL
DESCRIPTION:KoffieNL: Koffie drinken en gezellig Nederlands praten in kleine groepjes! \nData alle woensdagen\nKosten gratis\nContactpersoon voor Informatie en opgave Luc 0612424882/ Bernadette 0620837565\nAangeboden door DelftseBuur
URL:https://humanhousedelft.nl/event/koffienl-2/2031-03-26/
LOCATION:Jessehof\, Burgwal 50\, Delft\, Nederland
CATEGORIES:Human House Delft
END:VEVENT
BEGIN:VEVENT
DTSTART;TZID=Europe/Amsterdam:20310402T100000
DTEND;TZID=Europe/Amsterdam:20310402T120000
DTSTAMP:20260421T000155
CREATED:20240506T093655Z
LAST-MODIFIED:20241112T122941Z
UID:10009937-1932890400-1932897600@humanhousedelft.nl
SUMMARY:KoffieNL
DESCRIPTION:KoffieNL: Koffie drinken en gezellig Nederlands praten in kleine groepjes! \nData alle woensdagen\nKosten gratis\nContactpersoon voor Informatie en opgave Luc 0612424882/ Bernadette 0620837565\nAangeboden door DelftseBuur
URL:https://humanhousedelft.nl/event/koffienl-2/2031-04-02/
LOCATION:Jessehof\, Burgwal 50\, Delft\, Nederland
CATEGORIES:Human House Delft
END:VEVENT
BEGIN:VEVENT
DTSTART;TZID=Europe/Amsterdam:20310409T100000
DTEND;TZID=Europe/Amsterdam:20310409T120000
DTSTAMP:20260421T000155
CREATED:20240506T093655Z
LAST-MODIFIED:20241112T122941Z
UID:10010218-1933495200-1933502400@humanhousedelft.nl
SUMMARY:KoffieNL
DESCRIPTION:KoffieNL: Koffie drinken en gezellig Nederlands praten in kleine groepjes! \nData alle woensdagen\nKosten gratis\nContactpersoon voor Informatie en opgave Luc 0612424882/ Bernadette 0620837565\nAangeboden door DelftseBuur
URL:https://humanhousedelft.nl/event/koffienl-2/2031-04-09/
LOCATION:Jessehof\, Burgwal 50\, Delft\, Nederland
CATEGORIES:Human House Delft
END:VEVENT
BEGIN:VEVENT
DTSTART;TZID=Europe/Amsterdam:20310416T100000
DTEND;TZID=Europe/Amsterdam:20310416T120000
DTSTAMP:20260421T000155
CREATED:20240506T093655Z
LAST-MODIFIED:20241112T122941Z
UID:10010234-1934100000-1934107200@humanhousedelft.nl
SUMMARY:KoffieNL
DESCRIPTION:KoffieNL: Koffie drinken en gezellig Nederlands praten in kleine groepjes! \nData alle woensdagen\nKosten gratis\nContactpersoon voor Informatie en opgave Luc 0612424882/ Bernadette 0620837565\nAangeboden door DelftseBuur
URL:https://humanhousedelft.nl/event/koffienl-2/2031-04-16/
LOCATION:Jessehof\, Burgwal 50\, Delft\, Nederland
CATEGORIES:Human House Delft
END:VEVENT
END:VCALENDAR