BEGIN:VCALENDAR
VERSION:2.0
PRODID:-//Human House Delft - ECPv6.15.20//NONSGML v1.0//EN
CALSCALE:GREGORIAN
METHOD:PUBLISH
X-WR-CALNAME:Human House Delft
X-ORIGINAL-URL:https://humanhousedelft.nl
X-WR-CALDESC:Evenementen voor Human House Delft
REFRESH-INTERVAL;VALUE=DURATION:PT1H
X-Robots-Tag:noindex
X-PUBLISHED-TTL:PT1H
BEGIN:VTIMEZONE
TZID:Europe/Amsterdam
BEGIN:DAYLIGHT
TZOFFSETFROM:+0100
TZOFFSETTO:+0200
TZNAME:CEST
DTSTART:20290325T010000
END:DAYLIGHT
BEGIN:STANDARD
TZOFFSETFROM:+0200
TZOFFSETTO:+0100
TZNAME:CET
DTSTART:20291028T010000
END:STANDARD
BEGIN:DAYLIGHT
TZOFFSETFROM:+0100
TZOFFSETTO:+0200
TZNAME:CEST
DTSTART:20300331T010000
END:DAYLIGHT
BEGIN:STANDARD
TZOFFSETFROM:+0200
TZOFFSETTO:+0100
TZNAME:CET
DTSTART:20301027T010000
END:STANDARD
BEGIN:DAYLIGHT
TZOFFSETFROM:+0100
TZOFFSETTO:+0200
TZNAME:CEST
DTSTART:20310330T010000
END:DAYLIGHT
BEGIN:STANDARD
TZOFFSETFROM:+0200
TZOFFSETTO:+0100
TZNAME:CET
DTSTART:20311026T010000
END:STANDARD
END:VTIMEZONE
BEGIN:VEVENT
DTSTART;TZID=Europe/Amsterdam:20300609T170000
DTEND;TZID=Europe/Amsterdam:20300609T200000
DTSTAMP:20260419T174034
CREATED:20231104T200219Z
LAST-MODIFIED:20241112T123134Z
UID:10007049-1907254800-1907265600@humanhousedelft.nl
SUMMARY:Taste! Feest
DESCRIPTION:Taste! Feest Een viering rond de Bijbel. Er is koffie\, thee en ontmoeting en een ontspannen\, afwisselende\, interactieve overdenking rond een bijbelgedeelte. \nData: Wekelijks\nKosten: gratis\nContactpersoon voor Informatie en opgave: Pieter-Jan Rodenburg\, pieterjan@tastedelft.nl.\nAangeboden door: Taste!
URL:https://humanhousedelft.nl/event/taste-feest/2030-06-09/
LOCATION:Taste! Voorhof\, Roland Holstlaan 751\, Delft\, Nederland
CATEGORIES:Human House Delft
END:VEVENT
BEGIN:VEVENT
DTSTART;TZID=Europe/Amsterdam:20300614T120000
DTEND;TZID=Europe/Amsterdam:20300614T200000
DTSTAMP:20260419T174034
CREATED:20231104T201546Z
LAST-MODIFIED:20241112T122426Z
UID:10007058-1907668800-1907697600@humanhousedelft.nl
SUMMARY:Buurtcafé Taste! Friday een huiskamer voor de wijk
DESCRIPTION:Buurtcafé Taste! Friday een huiskamer voor de wijk; buurtbewoners van de Voorhof ontmoeten elkaar bij goede koffie en huisgemaakte taart. Er zijn geen vaste prijzen\, maar een ‘betaal wat je het waard vindt’-systeem. \nPlaats en tijd: Buurtcafé Taste! aan de Roland Holstlaan 751. Iedere vrijdag tussen 10.00 en 18.00 \nData: Wekelijks\, met een stop tijdens de zomervakantie\nKosten: ‘betaal wat je het waard vindt’\nContactpersoon voor Informatie en opgave: Pieter-Jan Rodenburg\, pieterjan@tastedelft.nl. Opgeven niet nodig\nAangeboden door: Taste!
URL:https://humanhousedelft.nl/event/buurtcafe-taste-friday-een-huiskamer-voor-de-wijk/2030-06-14/
LOCATION:Taste! Voorhof\, Roland Holstlaan 751\, Delft\, Nederland
CATEGORIES:Human House Delft
END:VEVENT
BEGIN:VEVENT
DTSTART;TZID=Europe/Amsterdam:20300616T170000
DTEND;TZID=Europe/Amsterdam:20300616T200000
DTSTAMP:20260419T174034
CREATED:20231104T200219Z
LAST-MODIFIED:20241112T123134Z
UID:10007062-1907859600-1907870400@humanhousedelft.nl
SUMMARY:Taste! Feest
DESCRIPTION:Taste! Feest Een viering rond de Bijbel. Er is koffie\, thee en ontmoeting en een ontspannen\, afwisselende\, interactieve overdenking rond een bijbelgedeelte. \nData: Wekelijks\nKosten: gratis\nContactpersoon voor Informatie en opgave: Pieter-Jan Rodenburg\, pieterjan@tastedelft.nl.\nAangeboden door: Taste!
URL:https://humanhousedelft.nl/event/taste-feest/2030-06-16/
LOCATION:Taste! Voorhof\, Roland Holstlaan 751\, Delft\, Nederland
CATEGORIES:Human House Delft
END:VEVENT
BEGIN:VEVENT
DTSTART;TZID=Europe/Amsterdam:20300621T120000
DTEND;TZID=Europe/Amsterdam:20300621T200000
DTSTAMP:20260419T174034
CREATED:20231104T201546Z
LAST-MODIFIED:20241112T122426Z
UID:10007071-1908273600-1908302400@humanhousedelft.nl
SUMMARY:Buurtcafé Taste! Friday een huiskamer voor de wijk
DESCRIPTION:Buurtcafé Taste! Friday een huiskamer voor de wijk; buurtbewoners van de Voorhof ontmoeten elkaar bij goede koffie en huisgemaakte taart. Er zijn geen vaste prijzen\, maar een ‘betaal wat je het waard vindt’-systeem. \nPlaats en tijd: Buurtcafé Taste! aan de Roland Holstlaan 751. Iedere vrijdag tussen 10.00 en 18.00 \nData: Wekelijks\, met een stop tijdens de zomervakantie\nKosten: ‘betaal wat je het waard vindt’\nContactpersoon voor Informatie en opgave: Pieter-Jan Rodenburg\, pieterjan@tastedelft.nl. Opgeven niet nodig\nAangeboden door: Taste!
URL:https://humanhousedelft.nl/event/buurtcafe-taste-friday-een-huiskamer-voor-de-wijk/2030-06-21/
LOCATION:Taste! Voorhof\, Roland Holstlaan 751\, Delft\, Nederland
CATEGORIES:Human House Delft
END:VEVENT
BEGIN:VEVENT
DTSTART;TZID=Europe/Amsterdam:20300623T170000
DTEND;TZID=Europe/Amsterdam:20300623T200000
DTSTAMP:20260419T174034
CREATED:20231104T200219Z
LAST-MODIFIED:20241112T123134Z
UID:10007075-1908464400-1908475200@humanhousedelft.nl
SUMMARY:Taste! Feest
DESCRIPTION:Taste! Feest Een viering rond de Bijbel. Er is koffie\, thee en ontmoeting en een ontspannen\, afwisselende\, interactieve overdenking rond een bijbelgedeelte. \nData: Wekelijks\nKosten: gratis\nContactpersoon voor Informatie en opgave: Pieter-Jan Rodenburg\, pieterjan@tastedelft.nl.\nAangeboden door: Taste!
URL:https://humanhousedelft.nl/event/taste-feest/2030-06-23/
LOCATION:Taste! Voorhof\, Roland Holstlaan 751\, Delft\, Nederland
CATEGORIES:Human House Delft
END:VEVENT
BEGIN:VEVENT
DTSTART;TZID=Europe/Amsterdam:20300628T120000
DTEND;TZID=Europe/Amsterdam:20300628T200000
DTSTAMP:20260419T174034
CREATED:20231104T201546Z
LAST-MODIFIED:20241112T122426Z
UID:10007345-1908878400-1908907200@humanhousedelft.nl
SUMMARY:Buurtcafé Taste! Friday een huiskamer voor de wijk
DESCRIPTION:Buurtcafé Taste! Friday een huiskamer voor de wijk; buurtbewoners van de Voorhof ontmoeten elkaar bij goede koffie en huisgemaakte taart. Er zijn geen vaste prijzen\, maar een ‘betaal wat je het waard vindt’-systeem. \nPlaats en tijd: Buurtcafé Taste! aan de Roland Holstlaan 751. Iedere vrijdag tussen 10.00 en 18.00 \nData: Wekelijks\, met een stop tijdens de zomervakantie\nKosten: ‘betaal wat je het waard vindt’\nContactpersoon voor Informatie en opgave: Pieter-Jan Rodenburg\, pieterjan@tastedelft.nl. Opgeven niet nodig\nAangeboden door: Taste!
URL:https://humanhousedelft.nl/event/buurtcafe-taste-friday-een-huiskamer-voor-de-wijk/2030-06-28/
LOCATION:Taste! Voorhof\, Roland Holstlaan 751\, Delft\, Nederland
CATEGORIES:Human House Delft
END:VEVENT
BEGIN:VEVENT
DTSTART;TZID=Europe/Amsterdam:20300630T170000
DTEND;TZID=Europe/Amsterdam:20300630T200000
DTSTAMP:20260419T174034
CREATED:20231104T200219Z
LAST-MODIFIED:20241112T123134Z
UID:10007348-1909069200-1909080000@humanhousedelft.nl
SUMMARY:Taste! Feest
DESCRIPTION:Taste! Feest Een viering rond de Bijbel. Er is koffie\, thee en ontmoeting en een ontspannen\, afwisselende\, interactieve overdenking rond een bijbelgedeelte. \nData: Wekelijks\nKosten: gratis\nContactpersoon voor Informatie en opgave: Pieter-Jan Rodenburg\, pieterjan@tastedelft.nl.\nAangeboden door: Taste!
URL:https://humanhousedelft.nl/event/taste-feest/2030-06-30/
LOCATION:Taste! Voorhof\, Roland Holstlaan 751\, Delft\, Nederland
CATEGORIES:Human House Delft
END:VEVENT
BEGIN:VEVENT
DTSTART;TZID=Europe/Amsterdam:20300705T120000
DTEND;TZID=Europe/Amsterdam:20300705T200000
DTSTAMP:20260419T174034
CREATED:20231104T201546Z
LAST-MODIFIED:20241112T122426Z
UID:10007357-1909483200-1909512000@humanhousedelft.nl
SUMMARY:Buurtcafé Taste! Friday een huiskamer voor de wijk
DESCRIPTION:Buurtcafé Taste! Friday een huiskamer voor de wijk; buurtbewoners van de Voorhof ontmoeten elkaar bij goede koffie en huisgemaakte taart. Er zijn geen vaste prijzen\, maar een ‘betaal wat je het waard vindt’-systeem. \nPlaats en tijd: Buurtcafé Taste! aan de Roland Holstlaan 751. Iedere vrijdag tussen 10.00 en 18.00 \nData: Wekelijks\, met een stop tijdens de zomervakantie\nKosten: ‘betaal wat je het waard vindt’\nContactpersoon voor Informatie en opgave: Pieter-Jan Rodenburg\, pieterjan@tastedelft.nl. Opgeven niet nodig\nAangeboden door: Taste!
URL:https://humanhousedelft.nl/event/buurtcafe-taste-friday-een-huiskamer-voor-de-wijk/2030-07-05/
LOCATION:Taste! Voorhof\, Roland Holstlaan 751\, Delft\, Nederland
CATEGORIES:Human House Delft
END:VEVENT
BEGIN:VEVENT
DTSTART;TZID=Europe/Amsterdam:20300707T170000
DTEND;TZID=Europe/Amsterdam:20300707T200000
DTSTAMP:20260419T174034
CREATED:20231104T200219Z
LAST-MODIFIED:20241112T123134Z
UID:10007361-1909674000-1909684800@humanhousedelft.nl
SUMMARY:Taste! Feest
DESCRIPTION:Taste! Feest Een viering rond de Bijbel. Er is koffie\, thee en ontmoeting en een ontspannen\, afwisselende\, interactieve overdenking rond een bijbelgedeelte. \nData: Wekelijks\nKosten: gratis\nContactpersoon voor Informatie en opgave: Pieter-Jan Rodenburg\, pieterjan@tastedelft.nl.\nAangeboden door: Taste!
URL:https://humanhousedelft.nl/event/taste-feest/2030-07-07/
LOCATION:Taste! Voorhof\, Roland Holstlaan 751\, Delft\, Nederland
CATEGORIES:Human House Delft
END:VEVENT
BEGIN:VEVENT
DTSTART;TZID=Europe/Amsterdam:20300712T120000
DTEND;TZID=Europe/Amsterdam:20300712T200000
DTSTAMP:20260419T174034
CREATED:20231104T201546Z
LAST-MODIFIED:20241112T122426Z
UID:10007370-1910088000-1910116800@humanhousedelft.nl
SUMMARY:Buurtcafé Taste! Friday een huiskamer voor de wijk
DESCRIPTION:Buurtcafé Taste! Friday een huiskamer voor de wijk; buurtbewoners van de Voorhof ontmoeten elkaar bij goede koffie en huisgemaakte taart. Er zijn geen vaste prijzen\, maar een ‘betaal wat je het waard vindt’-systeem. \nPlaats en tijd: Buurtcafé Taste! aan de Roland Holstlaan 751. Iedere vrijdag tussen 10.00 en 18.00 \nData: Wekelijks\, met een stop tijdens de zomervakantie\nKosten: ‘betaal wat je het waard vindt’\nContactpersoon voor Informatie en opgave: Pieter-Jan Rodenburg\, pieterjan@tastedelft.nl. Opgeven niet nodig\nAangeboden door: Taste!
URL:https://humanhousedelft.nl/event/buurtcafe-taste-friday-een-huiskamer-voor-de-wijk/2030-07-12/
LOCATION:Taste! Voorhof\, Roland Holstlaan 751\, Delft\, Nederland
CATEGORIES:Human House Delft
END:VEVENT
BEGIN:VEVENT
DTSTART;TZID=Europe/Amsterdam:20300714T170000
DTEND;TZID=Europe/Amsterdam:20300714T200000
DTSTAMP:20260419T174034
CREATED:20231104T200219Z
LAST-MODIFIED:20241112T123134Z
UID:10007374-1910278800-1910289600@humanhousedelft.nl
SUMMARY:Taste! Feest
DESCRIPTION:Taste! Feest Een viering rond de Bijbel. Er is koffie\, thee en ontmoeting en een ontspannen\, afwisselende\, interactieve overdenking rond een bijbelgedeelte. \nData: Wekelijks\nKosten: gratis\nContactpersoon voor Informatie en opgave: Pieter-Jan Rodenburg\, pieterjan@tastedelft.nl.\nAangeboden door: Taste!
URL:https://humanhousedelft.nl/event/taste-feest/2030-07-14/
LOCATION:Taste! Voorhof\, Roland Holstlaan 751\, Delft\, Nederland
CATEGORIES:Human House Delft
END:VEVENT
BEGIN:VEVENT
DTSTART;TZID=Europe/Amsterdam:20300719T120000
DTEND;TZID=Europe/Amsterdam:20300719T200000
DTSTAMP:20260419T174034
CREATED:20231104T201546Z
LAST-MODIFIED:20241112T122426Z
UID:10007383-1910692800-1910721600@humanhousedelft.nl
SUMMARY:Buurtcafé Taste! Friday een huiskamer voor de wijk
DESCRIPTION:Buurtcafé Taste! Friday een huiskamer voor de wijk; buurtbewoners van de Voorhof ontmoeten elkaar bij goede koffie en huisgemaakte taart. Er zijn geen vaste prijzen\, maar een ‘betaal wat je het waard vindt’-systeem. \nPlaats en tijd: Buurtcafé Taste! aan de Roland Holstlaan 751. Iedere vrijdag tussen 10.00 en 18.00 \nData: Wekelijks\, met een stop tijdens de zomervakantie\nKosten: ‘betaal wat je het waard vindt’\nContactpersoon voor Informatie en opgave: Pieter-Jan Rodenburg\, pieterjan@tastedelft.nl. Opgeven niet nodig\nAangeboden door: Taste!
URL:https://humanhousedelft.nl/event/buurtcafe-taste-friday-een-huiskamer-voor-de-wijk/2030-07-19/
LOCATION:Taste! Voorhof\, Roland Holstlaan 751\, Delft\, Nederland
CATEGORIES:Human House Delft
END:VEVENT
BEGIN:VEVENT
DTSTART;TZID=Europe/Amsterdam:20300721T170000
DTEND;TZID=Europe/Amsterdam:20300721T200000
DTSTAMP:20260419T174034
CREATED:20231104T200219Z
LAST-MODIFIED:20241112T123134Z
UID:10007387-1910883600-1910894400@humanhousedelft.nl
SUMMARY:Taste! Feest
DESCRIPTION:Taste! Feest Een viering rond de Bijbel. Er is koffie\, thee en ontmoeting en een ontspannen\, afwisselende\, interactieve overdenking rond een bijbelgedeelte. \nData: Wekelijks\nKosten: gratis\nContactpersoon voor Informatie en opgave: Pieter-Jan Rodenburg\, pieterjan@tastedelft.nl.\nAangeboden door: Taste!
URL:https://humanhousedelft.nl/event/taste-feest/2030-07-21/
LOCATION:Taste! Voorhof\, Roland Holstlaan 751\, Delft\, Nederland
CATEGORIES:Human House Delft
END:VEVENT
BEGIN:VEVENT
DTSTART;TZID=Europe/Amsterdam:20300726T120000
DTEND;TZID=Europe/Amsterdam:20300726T200000
DTSTAMP:20260419T174034
CREATED:20231104T201546Z
LAST-MODIFIED:20241112T122426Z
UID:10007396-1911297600-1911326400@humanhousedelft.nl
SUMMARY:Buurtcafé Taste! Friday een huiskamer voor de wijk
DESCRIPTION:Buurtcafé Taste! Friday een huiskamer voor de wijk; buurtbewoners van de Voorhof ontmoeten elkaar bij goede koffie en huisgemaakte taart. Er zijn geen vaste prijzen\, maar een ‘betaal wat je het waard vindt’-systeem. \nPlaats en tijd: Buurtcafé Taste! aan de Roland Holstlaan 751. Iedere vrijdag tussen 10.00 en 18.00 \nData: Wekelijks\, met een stop tijdens de zomervakantie\nKosten: ‘betaal wat je het waard vindt’\nContactpersoon voor Informatie en opgave: Pieter-Jan Rodenburg\, pieterjan@tastedelft.nl. Opgeven niet nodig\nAangeboden door: Taste!
URL:https://humanhousedelft.nl/event/buurtcafe-taste-friday-een-huiskamer-voor-de-wijk/2030-07-26/
LOCATION:Taste! Voorhof\, Roland Holstlaan 751\, Delft\, Nederland
CATEGORIES:Human House Delft
END:VEVENT
BEGIN:VEVENT
DTSTART;TZID=Europe/Amsterdam:20300728T170000
DTEND;TZID=Europe/Amsterdam:20300728T200000
DTSTAMP:20260419T174034
CREATED:20231104T200219Z
LAST-MODIFIED:20241112T123134Z
UID:10007400-1911488400-1911499200@humanhousedelft.nl
SUMMARY:Taste! Feest
DESCRIPTION:Taste! Feest Een viering rond de Bijbel. Er is koffie\, thee en ontmoeting en een ontspannen\, afwisselende\, interactieve overdenking rond een bijbelgedeelte. \nData: Wekelijks\nKosten: gratis\nContactpersoon voor Informatie en opgave: Pieter-Jan Rodenburg\, pieterjan@tastedelft.nl.\nAangeboden door: Taste!
URL:https://humanhousedelft.nl/event/taste-feest/2030-07-28/
LOCATION:Taste! Voorhof\, Roland Holstlaan 751\, Delft\, Nederland
CATEGORIES:Human House Delft
END:VEVENT
BEGIN:VEVENT
DTSTART;TZID=Europe/Amsterdam:20300802T120000
DTEND;TZID=Europe/Amsterdam:20300802T200000
DTSTAMP:20260419T174034
CREATED:20231104T201546Z
LAST-MODIFIED:20241112T122426Z
UID:10007415-1911902400-1911931200@humanhousedelft.nl
SUMMARY:Buurtcafé Taste! Friday een huiskamer voor de wijk
DESCRIPTION:Buurtcafé Taste! Friday een huiskamer voor de wijk; buurtbewoners van de Voorhof ontmoeten elkaar bij goede koffie en huisgemaakte taart. Er zijn geen vaste prijzen\, maar een ‘betaal wat je het waard vindt’-systeem. \nPlaats en tijd: Buurtcafé Taste! aan de Roland Holstlaan 751. Iedere vrijdag tussen 10.00 en 18.00 \nData: Wekelijks\, met een stop tijdens de zomervakantie\nKosten: ‘betaal wat je het waard vindt’\nContactpersoon voor Informatie en opgave: Pieter-Jan Rodenburg\, pieterjan@tastedelft.nl. Opgeven niet nodig\nAangeboden door: Taste!
URL:https://humanhousedelft.nl/event/buurtcafe-taste-friday-een-huiskamer-voor-de-wijk/2030-08-02/
LOCATION:Taste! Voorhof\, Roland Holstlaan 751\, Delft\, Nederland
CATEGORIES:Human House Delft
END:VEVENT
BEGIN:VEVENT
DTSTART;TZID=Europe/Amsterdam:20300804T170000
DTEND;TZID=Europe/Amsterdam:20300804T200000
DTSTAMP:20260419T174035
CREATED:20231104T200219Z
LAST-MODIFIED:20241112T123134Z
UID:10007421-1912093200-1912104000@humanhousedelft.nl
SUMMARY:Taste! Feest
DESCRIPTION:Taste! Feest Een viering rond de Bijbel. Er is koffie\, thee en ontmoeting en een ontspannen\, afwisselende\, interactieve overdenking rond een bijbelgedeelte. \nData: Wekelijks\nKosten: gratis\nContactpersoon voor Informatie en opgave: Pieter-Jan Rodenburg\, pieterjan@tastedelft.nl.\nAangeboden door: Taste!
URL:https://humanhousedelft.nl/event/taste-feest/2030-08-04/
LOCATION:Taste! Voorhof\, Roland Holstlaan 751\, Delft\, Nederland
CATEGORIES:Human House Delft
END:VEVENT
BEGIN:VEVENT
DTSTART;TZID=Europe/Amsterdam:20300809T120000
DTEND;TZID=Europe/Amsterdam:20300809T200000
DTSTAMP:20260419T174035
CREATED:20231104T201546Z
LAST-MODIFIED:20241112T122426Z
UID:10007431-1912507200-1912536000@humanhousedelft.nl
SUMMARY:Buurtcafé Taste! Friday een huiskamer voor de wijk
DESCRIPTION:Buurtcafé Taste! Friday een huiskamer voor de wijk; buurtbewoners van de Voorhof ontmoeten elkaar bij goede koffie en huisgemaakte taart. Er zijn geen vaste prijzen\, maar een ‘betaal wat je het waard vindt’-systeem. \nPlaats en tijd: Buurtcafé Taste! aan de Roland Holstlaan 751. Iedere vrijdag tussen 10.00 en 18.00 \nData: Wekelijks\, met een stop tijdens de zomervakantie\nKosten: ‘betaal wat je het waard vindt’\nContactpersoon voor Informatie en opgave: Pieter-Jan Rodenburg\, pieterjan@tastedelft.nl. Opgeven niet nodig\nAangeboden door: Taste!
URL:https://humanhousedelft.nl/event/buurtcafe-taste-friday-een-huiskamer-voor-de-wijk/2030-08-09/
LOCATION:Taste! Voorhof\, Roland Holstlaan 751\, Delft\, Nederland
CATEGORIES:Human House Delft
END:VEVENT
BEGIN:VEVENT
DTSTART;TZID=Europe/Amsterdam:20300811T170000
DTEND;TZID=Europe/Amsterdam:20300811T200000
DTSTAMP:20260419T174035
CREATED:20231104T200219Z
LAST-MODIFIED:20241112T123134Z
UID:10007435-1912698000-1912708800@humanhousedelft.nl
SUMMARY:Taste! Feest
DESCRIPTION:Taste! Feest Een viering rond de Bijbel. Er is koffie\, thee en ontmoeting en een ontspannen\, afwisselende\, interactieve overdenking rond een bijbelgedeelte. \nData: Wekelijks\nKosten: gratis\nContactpersoon voor Informatie en opgave: Pieter-Jan Rodenburg\, pieterjan@tastedelft.nl.\nAangeboden door: Taste!
URL:https://humanhousedelft.nl/event/taste-feest/2030-08-11/
LOCATION:Taste! Voorhof\, Roland Holstlaan 751\, Delft\, Nederland
CATEGORIES:Human House Delft
END:VEVENT
BEGIN:VEVENT
DTSTART;TZID=Europe/Amsterdam:20300816T120000
DTEND;TZID=Europe/Amsterdam:20300816T200000
DTSTAMP:20260419T174035
CREATED:20231104T201546Z
LAST-MODIFIED:20241112T122426Z
UID:10007445-1913112000-1913140800@humanhousedelft.nl
SUMMARY:Buurtcafé Taste! Friday een huiskamer voor de wijk
DESCRIPTION:Buurtcafé Taste! Friday een huiskamer voor de wijk; buurtbewoners van de Voorhof ontmoeten elkaar bij goede koffie en huisgemaakte taart. Er zijn geen vaste prijzen\, maar een ‘betaal wat je het waard vindt’-systeem. \nPlaats en tijd: Buurtcafé Taste! aan de Roland Holstlaan 751. Iedere vrijdag tussen 10.00 en 18.00 \nData: Wekelijks\, met een stop tijdens de zomervakantie\nKosten: ‘betaal wat je het waard vindt’\nContactpersoon voor Informatie en opgave: Pieter-Jan Rodenburg\, pieterjan@tastedelft.nl. Opgeven niet nodig\nAangeboden door: Taste!
URL:https://humanhousedelft.nl/event/buurtcafe-taste-friday-een-huiskamer-voor-de-wijk/2030-08-16/
LOCATION:Taste! Voorhof\, Roland Holstlaan 751\, Delft\, Nederland
CATEGORIES:Human House Delft
END:VEVENT
BEGIN:VEVENT
DTSTART;TZID=Europe/Amsterdam:20300818T170000
DTEND;TZID=Europe/Amsterdam:20300818T200000
DTSTAMP:20260419T174035
CREATED:20231104T200219Z
LAST-MODIFIED:20241112T123134Z
UID:10007449-1913302800-1913313600@humanhousedelft.nl
SUMMARY:Taste! Feest
DESCRIPTION:Taste! Feest Een viering rond de Bijbel. Er is koffie\, thee en ontmoeting en een ontspannen\, afwisselende\, interactieve overdenking rond een bijbelgedeelte. \nData: Wekelijks\nKosten: gratis\nContactpersoon voor Informatie en opgave: Pieter-Jan Rodenburg\, pieterjan@tastedelft.nl.\nAangeboden door: Taste!
URL:https://humanhousedelft.nl/event/taste-feest/2030-08-18/
LOCATION:Taste! Voorhof\, Roland Holstlaan 751\, Delft\, Nederland
CATEGORIES:Human House Delft
END:VEVENT
BEGIN:VEVENT
DTSTART;TZID=Europe/Amsterdam:20300823T120000
DTEND;TZID=Europe/Amsterdam:20300823T200000
DTSTAMP:20260419T174035
CREATED:20231104T201546Z
LAST-MODIFIED:20241112T122426Z
UID:10007459-1913716800-1913745600@humanhousedelft.nl
SUMMARY:Buurtcafé Taste! Friday een huiskamer voor de wijk
DESCRIPTION:Buurtcafé Taste! Friday een huiskamer voor de wijk; buurtbewoners van de Voorhof ontmoeten elkaar bij goede koffie en huisgemaakte taart. Er zijn geen vaste prijzen\, maar een ‘betaal wat je het waard vindt’-systeem. \nPlaats en tijd: Buurtcafé Taste! aan de Roland Holstlaan 751. Iedere vrijdag tussen 10.00 en 18.00 \nData: Wekelijks\, met een stop tijdens de zomervakantie\nKosten: ‘betaal wat je het waard vindt’\nContactpersoon voor Informatie en opgave: Pieter-Jan Rodenburg\, pieterjan@tastedelft.nl. Opgeven niet nodig\nAangeboden door: Taste!
URL:https://humanhousedelft.nl/event/buurtcafe-taste-friday-een-huiskamer-voor-de-wijk/2030-08-23/
LOCATION:Taste! Voorhof\, Roland Holstlaan 751\, Delft\, Nederland
CATEGORIES:Human House Delft
END:VEVENT
BEGIN:VEVENT
DTSTART;TZID=Europe/Amsterdam:20300825T170000
DTEND;TZID=Europe/Amsterdam:20300825T200000
DTSTAMP:20260419T174035
CREATED:20231104T200219Z
LAST-MODIFIED:20241112T123134Z
UID:10007463-1913907600-1913918400@humanhousedelft.nl
SUMMARY:Taste! Feest
DESCRIPTION:Taste! Feest Een viering rond de Bijbel. Er is koffie\, thee en ontmoeting en een ontspannen\, afwisselende\, interactieve overdenking rond een bijbelgedeelte. \nData: Wekelijks\nKosten: gratis\nContactpersoon voor Informatie en opgave: Pieter-Jan Rodenburg\, pieterjan@tastedelft.nl.\nAangeboden door: Taste!
URL:https://humanhousedelft.nl/event/taste-feest/2030-08-25/
LOCATION:Taste! Voorhof\, Roland Holstlaan 751\, Delft\, Nederland
CATEGORIES:Human House Delft
END:VEVENT
BEGIN:VEVENT
DTSTART;TZID=Europe/Amsterdam:20300830T120000
DTEND;TZID=Europe/Amsterdam:20300830T200000
DTSTAMP:20260419T174035
CREATED:20231104T201546Z
LAST-MODIFIED:20241112T122426Z
UID:10007473-1914321600-1914350400@humanhousedelft.nl
SUMMARY:Buurtcafé Taste! Friday een huiskamer voor de wijk
DESCRIPTION:Buurtcafé Taste! Friday een huiskamer voor de wijk; buurtbewoners van de Voorhof ontmoeten elkaar bij goede koffie en huisgemaakte taart. Er zijn geen vaste prijzen\, maar een ‘betaal wat je het waard vindt’-systeem. \nPlaats en tijd: Buurtcafé Taste! aan de Roland Holstlaan 751. Iedere vrijdag tussen 10.00 en 18.00 \nData: Wekelijks\, met een stop tijdens de zomervakantie\nKosten: ‘betaal wat je het waard vindt’\nContactpersoon voor Informatie en opgave: Pieter-Jan Rodenburg\, pieterjan@tastedelft.nl. Opgeven niet nodig\nAangeboden door: Taste!
URL:https://humanhousedelft.nl/event/buurtcafe-taste-friday-een-huiskamer-voor-de-wijk/2030-08-30/
LOCATION:Taste! Voorhof\, Roland Holstlaan 751\, Delft\, Nederland
CATEGORIES:Human House Delft
END:VEVENT
BEGIN:VEVENT
DTSTART;TZID=Europe/Amsterdam:20300901T170000
DTEND;TZID=Europe/Amsterdam:20300901T200000
DTSTAMP:20260419T174035
CREATED:20231104T200219Z
LAST-MODIFIED:20241112T123134Z
UID:10007478-1914512400-1914523200@humanhousedelft.nl
SUMMARY:Taste! Feest
DESCRIPTION:Taste! Feest Een viering rond de Bijbel. Er is koffie\, thee en ontmoeting en een ontspannen\, afwisselende\, interactieve overdenking rond een bijbelgedeelte. \nData: Wekelijks\nKosten: gratis\nContactpersoon voor Informatie en opgave: Pieter-Jan Rodenburg\, pieterjan@tastedelft.nl.\nAangeboden door: Taste!
URL:https://humanhousedelft.nl/event/taste-feest/2030-09-01/
LOCATION:Taste! Voorhof\, Roland Holstlaan 751\, Delft\, Nederland
CATEGORIES:Human House Delft
END:VEVENT
BEGIN:VEVENT
DTSTART;TZID=Europe/Amsterdam:20300906T120000
DTEND;TZID=Europe/Amsterdam:20300906T200000
DTSTAMP:20260419T174035
CREATED:20231104T201546Z
LAST-MODIFIED:20241112T122426Z
UID:10007488-1914926400-1914955200@humanhousedelft.nl
SUMMARY:Buurtcafé Taste! Friday een huiskamer voor de wijk
DESCRIPTION:Buurtcafé Taste! Friday een huiskamer voor de wijk; buurtbewoners van de Voorhof ontmoeten elkaar bij goede koffie en huisgemaakte taart. Er zijn geen vaste prijzen\, maar een ‘betaal wat je het waard vindt’-systeem. \nPlaats en tijd: Buurtcafé Taste! aan de Roland Holstlaan 751. Iedere vrijdag tussen 10.00 en 18.00 \nData: Wekelijks\, met een stop tijdens de zomervakantie\nKosten: ‘betaal wat je het waard vindt’\nContactpersoon voor Informatie en opgave: Pieter-Jan Rodenburg\, pieterjan@tastedelft.nl. Opgeven niet nodig\nAangeboden door: Taste!
URL:https://humanhousedelft.nl/event/buurtcafe-taste-friday-een-huiskamer-voor-de-wijk/2030-09-06/
LOCATION:Taste! Voorhof\, Roland Holstlaan 751\, Delft\, Nederland
CATEGORIES:Human House Delft
END:VEVENT
BEGIN:VEVENT
DTSTART;TZID=Europe/Amsterdam:20300908T170000
DTEND;TZID=Europe/Amsterdam:20300908T200000
DTSTAMP:20260419T174035
CREATED:20231104T200219Z
LAST-MODIFIED:20241112T123134Z
UID:10007492-1915117200-1915128000@humanhousedelft.nl
SUMMARY:Taste! Feest
DESCRIPTION:Taste! Feest Een viering rond de Bijbel. Er is koffie\, thee en ontmoeting en een ontspannen\, afwisselende\, interactieve overdenking rond een bijbelgedeelte. \nData: Wekelijks\nKosten: gratis\nContactpersoon voor Informatie en opgave: Pieter-Jan Rodenburg\, pieterjan@tastedelft.nl.\nAangeboden door: Taste!
URL:https://humanhousedelft.nl/event/taste-feest/2030-09-08/
LOCATION:Taste! Voorhof\, Roland Holstlaan 751\, Delft\, Nederland
CATEGORIES:Human House Delft
END:VEVENT
BEGIN:VEVENT
DTSTART;TZID=Europe/Amsterdam:20300913T120000
DTEND;TZID=Europe/Amsterdam:20300913T200000
DTSTAMP:20260419T174035
CREATED:20231104T201546Z
LAST-MODIFIED:20241112T122426Z
UID:10007502-1915531200-1915560000@humanhousedelft.nl
SUMMARY:Buurtcafé Taste! Friday een huiskamer voor de wijk
DESCRIPTION:Buurtcafé Taste! Friday een huiskamer voor de wijk; buurtbewoners van de Voorhof ontmoeten elkaar bij goede koffie en huisgemaakte taart. Er zijn geen vaste prijzen\, maar een ‘betaal wat je het waard vindt’-systeem. \nPlaats en tijd: Buurtcafé Taste! aan de Roland Holstlaan 751. Iedere vrijdag tussen 10.00 en 18.00 \nData: Wekelijks\, met een stop tijdens de zomervakantie\nKosten: ‘betaal wat je het waard vindt’\nContactpersoon voor Informatie en opgave: Pieter-Jan Rodenburg\, pieterjan@tastedelft.nl. Opgeven niet nodig\nAangeboden door: Taste!
URL:https://humanhousedelft.nl/event/buurtcafe-taste-friday-een-huiskamer-voor-de-wijk/2030-09-13/
LOCATION:Taste! Voorhof\, Roland Holstlaan 751\, Delft\, Nederland
CATEGORIES:Human House Delft
END:VEVENT
BEGIN:VEVENT
DTSTART;TZID=Europe/Amsterdam:20300915T170000
DTEND;TZID=Europe/Amsterdam:20300915T200000
DTSTAMP:20260419T174035
CREATED:20231104T200219Z
LAST-MODIFIED:20241112T123134Z
UID:10007506-1915722000-1915732800@humanhousedelft.nl
SUMMARY:Taste! Feest
DESCRIPTION:Taste! Feest Een viering rond de Bijbel. Er is koffie\, thee en ontmoeting en een ontspannen\, afwisselende\, interactieve overdenking rond een bijbelgedeelte. \nData: Wekelijks\nKosten: gratis\nContactpersoon voor Informatie en opgave: Pieter-Jan Rodenburg\, pieterjan@tastedelft.nl.\nAangeboden door: Taste!
URL:https://humanhousedelft.nl/event/taste-feest/2030-09-15/
LOCATION:Taste! Voorhof\, Roland Holstlaan 751\, Delft\, Nederland
CATEGORIES:Human House Delft
END:VEVENT
BEGIN:VEVENT
DTSTART;TZID=Europe/Amsterdam:20300920T120000
DTEND;TZID=Europe/Amsterdam:20300920T200000
DTSTAMP:20260419T174035
CREATED:20231104T201546Z
LAST-MODIFIED:20241112T122426Z
UID:10007516-1916136000-1916164800@humanhousedelft.nl
SUMMARY:Buurtcafé Taste! Friday een huiskamer voor de wijk
DESCRIPTION:Buurtcafé Taste! Friday een huiskamer voor de wijk; buurtbewoners van de Voorhof ontmoeten elkaar bij goede koffie en huisgemaakte taart. Er zijn geen vaste prijzen\, maar een ‘betaal wat je het waard vindt’-systeem. \nPlaats en tijd: Buurtcafé Taste! aan de Roland Holstlaan 751. Iedere vrijdag tussen 10.00 en 18.00 \nData: Wekelijks\, met een stop tijdens de zomervakantie\nKosten: ‘betaal wat je het waard vindt’\nContactpersoon voor Informatie en opgave: Pieter-Jan Rodenburg\, pieterjan@tastedelft.nl. Opgeven niet nodig\nAangeboden door: Taste!
URL:https://humanhousedelft.nl/event/buurtcafe-taste-friday-een-huiskamer-voor-de-wijk/2030-09-20/
LOCATION:Taste! Voorhof\, Roland Holstlaan 751\, Delft\, Nederland
CATEGORIES:Human House Delft
END:VEVENT
END:VCALENDAR