BEGIN:VCALENDAR
VERSION:2.0
PRODID:-//Human House Delft - ECPv6.15.20//NONSGML v1.0//EN
CALSCALE:GREGORIAN
METHOD:PUBLISH
X-WR-CALNAME:Human House Delft
X-ORIGINAL-URL:https://humanhousedelft.nl
X-WR-CALDESC:Evenementen voor Human House Delft
REFRESH-INTERVAL;VALUE=DURATION:PT1H
X-Robots-Tag:noindex
X-PUBLISHED-TTL:PT1H
BEGIN:VTIMEZONE
TZID:Europe/Amsterdam
BEGIN:DAYLIGHT
TZOFFSETFROM:+0100
TZOFFSETTO:+0200
TZNAME:CEST
DTSTART:20290325T010000
END:DAYLIGHT
BEGIN:STANDARD
TZOFFSETFROM:+0200
TZOFFSETTO:+0100
TZNAME:CET
DTSTART:20291028T010000
END:STANDARD
BEGIN:DAYLIGHT
TZOFFSETFROM:+0100
TZOFFSETTO:+0200
TZNAME:CEST
DTSTART:20300331T010000
END:DAYLIGHT
BEGIN:STANDARD
TZOFFSETFROM:+0200
TZOFFSETTO:+0100
TZNAME:CET
DTSTART:20301027T010000
END:STANDARD
BEGIN:DAYLIGHT
TZOFFSETFROM:+0100
TZOFFSETTO:+0200
TZNAME:CEST
DTSTART:20310330T010000
END:DAYLIGHT
BEGIN:STANDARD
TZOFFSETFROM:+0200
TZOFFSETTO:+0100
TZNAME:CET
DTSTART:20311026T010000
END:STANDARD
BEGIN:DAYLIGHT
TZOFFSETFROM:+0100
TZOFFSETTO:+0200
TZNAME:CEST
DTSTART:20320328T010000
END:DAYLIGHT
BEGIN:STANDARD
TZOFFSETFROM:+0200
TZOFFSETTO:+0100
TZNAME:CET
DTSTART:20321031T010000
END:STANDARD
END:VTIMEZONE
BEGIN:VEVENT
DTSTART;TZID=Europe/Amsterdam:20301129T110000
DTEND;TZID=Europe/Amsterdam:20301129T190000
DTSTAMP:20260420T002419
CREATED:20231104T201546Z
LAST-MODIFIED:20241112T122426Z
UID:10008293-1922180400-1922209200@humanhousedelft.nl
SUMMARY:Buurtcafé Taste! Friday een huiskamer voor de wijk
DESCRIPTION:Buurtcafé Taste! Friday een huiskamer voor de wijk; buurtbewoners van de Voorhof ontmoeten elkaar bij goede koffie en huisgemaakte taart. Er zijn geen vaste prijzen\, maar een ‘betaal wat je het waard vindt’-systeem. \nPlaats en tijd: Buurtcafé Taste! aan de Roland Holstlaan 751. Iedere vrijdag tussen 10.00 en 18.00 \nData: Wekelijks\, met een stop tijdens de zomervakantie\nKosten: ‘betaal wat je het waard vindt’\nContactpersoon voor Informatie en opgave: Pieter-Jan Rodenburg\, pieterjan@tastedelft.nl. Opgeven niet nodig\nAangeboden door: Taste!
URL:https://humanhousedelft.nl/event/buurtcafe-taste-friday-een-huiskamer-voor-de-wijk/2030-11-29/
LOCATION:Taste! Voorhof\, Roland Holstlaan 751\, Delft\, Nederland
CATEGORIES:Human House Delft
END:VEVENT
BEGIN:VEVENT
DTSTART;TZID=Europe/Amsterdam:20301201T160000
DTEND;TZID=Europe/Amsterdam:20301201T190000
DTSTAMP:20260420T002419
CREATED:20231104T200219Z
LAST-MODIFIED:20241112T123134Z
UID:10008298-1922371200-1922382000@humanhousedelft.nl
SUMMARY:Taste! Feest
DESCRIPTION:Taste! Feest Een viering rond de Bijbel. Er is koffie\, thee en ontmoeting en een ontspannen\, afwisselende\, interactieve overdenking rond een bijbelgedeelte. \nData: Wekelijks\nKosten: gratis\nContactpersoon voor Informatie en opgave: Pieter-Jan Rodenburg\, pieterjan@tastedelft.nl.\nAangeboden door: Taste!
URL:https://humanhousedelft.nl/event/taste-feest/2030-12-01/
LOCATION:Taste! Voorhof\, Roland Holstlaan 751\, Delft\, Nederland
CATEGORIES:Human House Delft
END:VEVENT
BEGIN:VEVENT
DTSTART;TZID=Europe/Amsterdam:20301206T110000
DTEND;TZID=Europe/Amsterdam:20301206T190000
DTSTAMP:20260420T002419
CREATED:20231104T201546Z
LAST-MODIFIED:20241112T122426Z
UID:10008308-1922785200-1922814000@humanhousedelft.nl
SUMMARY:Buurtcafé Taste! Friday een huiskamer voor de wijk
DESCRIPTION:Buurtcafé Taste! Friday een huiskamer voor de wijk; buurtbewoners van de Voorhof ontmoeten elkaar bij goede koffie en huisgemaakte taart. Er zijn geen vaste prijzen\, maar een ‘betaal wat je het waard vindt’-systeem. \nPlaats en tijd: Buurtcafé Taste! aan de Roland Holstlaan 751. Iedere vrijdag tussen 10.00 en 18.00 \nData: Wekelijks\, met een stop tijdens de zomervakantie\nKosten: ‘betaal wat je het waard vindt’\nContactpersoon voor Informatie en opgave: Pieter-Jan Rodenburg\, pieterjan@tastedelft.nl. Opgeven niet nodig\nAangeboden door: Taste!
URL:https://humanhousedelft.nl/event/buurtcafe-taste-friday-een-huiskamer-voor-de-wijk/2030-12-06/
LOCATION:Taste! Voorhof\, Roland Holstlaan 751\, Delft\, Nederland
CATEGORIES:Human House Delft
END:VEVENT
BEGIN:VEVENT
DTSTART;TZID=Europe/Amsterdam:20301208T160000
DTEND;TZID=Europe/Amsterdam:20301208T190000
DTSTAMP:20260420T002419
CREATED:20231104T200219Z
LAST-MODIFIED:20241112T123134Z
UID:10008506-1922976000-1922986800@humanhousedelft.nl
SUMMARY:Taste! Feest
DESCRIPTION:Taste! Feest Een viering rond de Bijbel. Er is koffie\, thee en ontmoeting en een ontspannen\, afwisselende\, interactieve overdenking rond een bijbelgedeelte. \nData: Wekelijks\nKosten: gratis\nContactpersoon voor Informatie en opgave: Pieter-Jan Rodenburg\, pieterjan@tastedelft.nl.\nAangeboden door: Taste!
URL:https://humanhousedelft.nl/event/taste-feest/2030-12-08/
LOCATION:Taste! Voorhof\, Roland Holstlaan 751\, Delft\, Nederland
CATEGORIES:Human House Delft
END:VEVENT
BEGIN:VEVENT
DTSTART;TZID=Europe/Amsterdam:20301213T110000
DTEND;TZID=Europe/Amsterdam:20301213T190000
DTSTAMP:20260420T002419
CREATED:20231104T201546Z
LAST-MODIFIED:20241112T122426Z
UID:10008805-1923390000-1923418800@humanhousedelft.nl
SUMMARY:Buurtcafé Taste! Friday een huiskamer voor de wijk
DESCRIPTION:Buurtcafé Taste! Friday een huiskamer voor de wijk; buurtbewoners van de Voorhof ontmoeten elkaar bij goede koffie en huisgemaakte taart. Er zijn geen vaste prijzen\, maar een ‘betaal wat je het waard vindt’-systeem. \nPlaats en tijd: Buurtcafé Taste! aan de Roland Holstlaan 751. Iedere vrijdag tussen 10.00 en 18.00 \nData: Wekelijks\, met een stop tijdens de zomervakantie\nKosten: ‘betaal wat je het waard vindt’\nContactpersoon voor Informatie en opgave: Pieter-Jan Rodenburg\, pieterjan@tastedelft.nl. Opgeven niet nodig\nAangeboden door: Taste!
URL:https://humanhousedelft.nl/event/buurtcafe-taste-friday-een-huiskamer-voor-de-wijk/2030-12-13/
LOCATION:Taste! Voorhof\, Roland Holstlaan 751\, Delft\, Nederland
CATEGORIES:Human House Delft
END:VEVENT
BEGIN:VEVENT
DTSTART;TZID=Europe/Amsterdam:20301215T160000
DTEND;TZID=Europe/Amsterdam:20301215T190000
DTSTAMP:20260420T002419
CREATED:20231104T200219Z
LAST-MODIFIED:20241112T123134Z
UID:10008811-1923580800-1923591600@humanhousedelft.nl
SUMMARY:Taste! Feest
DESCRIPTION:Taste! Feest Een viering rond de Bijbel. Er is koffie\, thee en ontmoeting en een ontspannen\, afwisselende\, interactieve overdenking rond een bijbelgedeelte. \nData: Wekelijks\nKosten: gratis\nContactpersoon voor Informatie en opgave: Pieter-Jan Rodenburg\, pieterjan@tastedelft.nl.\nAangeboden door: Taste!
URL:https://humanhousedelft.nl/event/taste-feest/2030-12-15/
LOCATION:Taste! Voorhof\, Roland Holstlaan 751\, Delft\, Nederland
CATEGORIES:Human House Delft
END:VEVENT
BEGIN:VEVENT
DTSTART;TZID=Europe/Amsterdam:20301220T110000
DTEND;TZID=Europe/Amsterdam:20301220T190000
DTSTAMP:20260420T002419
CREATED:20231104T201546Z
LAST-MODIFIED:20241112T122426Z
UID:10008821-1923994800-1924023600@humanhousedelft.nl
SUMMARY:Buurtcafé Taste! Friday een huiskamer voor de wijk
DESCRIPTION:Buurtcafé Taste! Friday een huiskamer voor de wijk; buurtbewoners van de Voorhof ontmoeten elkaar bij goede koffie en huisgemaakte taart. Er zijn geen vaste prijzen\, maar een ‘betaal wat je het waard vindt’-systeem. \nPlaats en tijd: Buurtcafé Taste! aan de Roland Holstlaan 751. Iedere vrijdag tussen 10.00 en 18.00 \nData: Wekelijks\, met een stop tijdens de zomervakantie\nKosten: ‘betaal wat je het waard vindt’\nContactpersoon voor Informatie en opgave: Pieter-Jan Rodenburg\, pieterjan@tastedelft.nl. Opgeven niet nodig\nAangeboden door: Taste!
URL:https://humanhousedelft.nl/event/buurtcafe-taste-friday-een-huiskamer-voor-de-wijk/2030-12-20/
LOCATION:Taste! Voorhof\, Roland Holstlaan 751\, Delft\, Nederland
CATEGORIES:Human House Delft
END:VEVENT
BEGIN:VEVENT
DTSTART;TZID=Europe/Amsterdam:20301222T160000
DTEND;TZID=Europe/Amsterdam:20301222T190000
DTSTAMP:20260420T002419
CREATED:20231104T200219Z
LAST-MODIFIED:20241112T123134Z
UID:10008825-1924185600-1924196400@humanhousedelft.nl
SUMMARY:Taste! Feest
DESCRIPTION:Taste! Feest Een viering rond de Bijbel. Er is koffie\, thee en ontmoeting en een ontspannen\, afwisselende\, interactieve overdenking rond een bijbelgedeelte. \nData: Wekelijks\nKosten: gratis\nContactpersoon voor Informatie en opgave: Pieter-Jan Rodenburg\, pieterjan@tastedelft.nl.\nAangeboden door: Taste!
URL:https://humanhousedelft.nl/event/taste-feest/2030-12-22/
LOCATION:Taste! Voorhof\, Roland Holstlaan 751\, Delft\, Nederland
CATEGORIES:Human House Delft
END:VEVENT
BEGIN:VEVENT
DTSTART;TZID=Europe/Amsterdam:20301227T110000
DTEND;TZID=Europe/Amsterdam:20301227T190000
DTSTAMP:20260420T002419
CREATED:20231104T201546Z
LAST-MODIFIED:20241112T122426Z
UID:10008846-1924599600-1924628400@humanhousedelft.nl
SUMMARY:Buurtcafé Taste! Friday een huiskamer voor de wijk
DESCRIPTION:Buurtcafé Taste! Friday een huiskamer voor de wijk; buurtbewoners van de Voorhof ontmoeten elkaar bij goede koffie en huisgemaakte taart. Er zijn geen vaste prijzen\, maar een ‘betaal wat je het waard vindt’-systeem. \nPlaats en tijd: Buurtcafé Taste! aan de Roland Holstlaan 751. Iedere vrijdag tussen 10.00 en 18.00 \nData: Wekelijks\, met een stop tijdens de zomervakantie\nKosten: ‘betaal wat je het waard vindt’\nContactpersoon voor Informatie en opgave: Pieter-Jan Rodenburg\, pieterjan@tastedelft.nl. Opgeven niet nodig\nAangeboden door: Taste!
URL:https://humanhousedelft.nl/event/buurtcafe-taste-friday-een-huiskamer-voor-de-wijk/2030-12-27/
LOCATION:Taste! Voorhof\, Roland Holstlaan 751\, Delft\, Nederland
CATEGORIES:Human House Delft
END:VEVENT
BEGIN:VEVENT
DTSTART;TZID=Europe/Amsterdam:20301229T160000
DTEND;TZID=Europe/Amsterdam:20301229T190000
DTSTAMP:20260420T002419
CREATED:20231104T200219Z
LAST-MODIFIED:20241112T123134Z
UID:10008851-1924790400-1924801200@humanhousedelft.nl
SUMMARY:Taste! Feest
DESCRIPTION:Taste! Feest Een viering rond de Bijbel. Er is koffie\, thee en ontmoeting en een ontspannen\, afwisselende\, interactieve overdenking rond een bijbelgedeelte. \nData: Wekelijks\nKosten: gratis\nContactpersoon voor Informatie en opgave: Pieter-Jan Rodenburg\, pieterjan@tastedelft.nl.\nAangeboden door: Taste!
URL:https://humanhousedelft.nl/event/taste-feest/2030-12-29/
LOCATION:Taste! Voorhof\, Roland Holstlaan 751\, Delft\, Nederland
CATEGORIES:Human House Delft
END:VEVENT
BEGIN:VEVENT
DTSTART;TZID=Europe/Amsterdam:20310103T110000
DTEND;TZID=Europe/Amsterdam:20310103T190000
DTSTAMP:20260420T002419
CREATED:20231104T201546Z
LAST-MODIFIED:20241112T122426Z
UID:10008863-1925204400-1925233200@humanhousedelft.nl
SUMMARY:Buurtcafé Taste! Friday een huiskamer voor de wijk
DESCRIPTION:Buurtcafé Taste! Friday een huiskamer voor de wijk; buurtbewoners van de Voorhof ontmoeten elkaar bij goede koffie en huisgemaakte taart. Er zijn geen vaste prijzen\, maar een ‘betaal wat je het waard vindt’-systeem. \nPlaats en tijd: Buurtcafé Taste! aan de Roland Holstlaan 751. Iedere vrijdag tussen 10.00 en 18.00 \nData: Wekelijks\, met een stop tijdens de zomervakantie\nKosten: ‘betaal wat je het waard vindt’\nContactpersoon voor Informatie en opgave: Pieter-Jan Rodenburg\, pieterjan@tastedelft.nl. Opgeven niet nodig\nAangeboden door: Taste!
URL:https://humanhousedelft.nl/event/buurtcafe-taste-friday-een-huiskamer-voor-de-wijk/2031-01-03/
LOCATION:Taste! Voorhof\, Roland Holstlaan 751\, Delft\, Nederland
CATEGORIES:Human House Delft
END:VEVENT
BEGIN:VEVENT
DTSTART;TZID=Europe/Amsterdam:20310105T160000
DTEND;TZID=Europe/Amsterdam:20310105T190000
DTSTAMP:20260420T002419
CREATED:20231104T200219Z
LAST-MODIFIED:20241112T123134Z
UID:10008868-1925395200-1925406000@humanhousedelft.nl
SUMMARY:Taste! Feest
DESCRIPTION:Taste! Feest Een viering rond de Bijbel. Er is koffie\, thee en ontmoeting en een ontspannen\, afwisselende\, interactieve overdenking rond een bijbelgedeelte. \nData: Wekelijks\nKosten: gratis\nContactpersoon voor Informatie en opgave: Pieter-Jan Rodenburg\, pieterjan@tastedelft.nl.\nAangeboden door: Taste!
URL:https://humanhousedelft.nl/event/taste-feest/2031-01-05/
LOCATION:Taste! Voorhof\, Roland Holstlaan 751\, Delft\, Nederland
CATEGORIES:Human House Delft
END:VEVENT
BEGIN:VEVENT
DTSTART;TZID=Europe/Amsterdam:20310110T110000
DTEND;TZID=Europe/Amsterdam:20310110T190000
DTSTAMP:20260420T002419
CREATED:20231104T201546Z
LAST-MODIFIED:20241112T122426Z
UID:10008880-1925809200-1925838000@humanhousedelft.nl
SUMMARY:Buurtcafé Taste! Friday een huiskamer voor de wijk
DESCRIPTION:Buurtcafé Taste! Friday een huiskamer voor de wijk; buurtbewoners van de Voorhof ontmoeten elkaar bij goede koffie en huisgemaakte taart. Er zijn geen vaste prijzen\, maar een ‘betaal wat je het waard vindt’-systeem. \nPlaats en tijd: Buurtcafé Taste! aan de Roland Holstlaan 751. Iedere vrijdag tussen 10.00 en 18.00 \nData: Wekelijks\, met een stop tijdens de zomervakantie\nKosten: ‘betaal wat je het waard vindt’\nContactpersoon voor Informatie en opgave: Pieter-Jan Rodenburg\, pieterjan@tastedelft.nl. Opgeven niet nodig\nAangeboden door: Taste!
URL:https://humanhousedelft.nl/event/buurtcafe-taste-friday-een-huiskamer-voor-de-wijk/2031-01-10/
LOCATION:Taste! Voorhof\, Roland Holstlaan 751\, Delft\, Nederland
CATEGORIES:Human House Delft
END:VEVENT
BEGIN:VEVENT
DTSTART;TZID=Europe/Amsterdam:20310112T160000
DTEND;TZID=Europe/Amsterdam:20310112T190000
DTSTAMP:20260420T002419
CREATED:20231104T200219Z
LAST-MODIFIED:20241112T123134Z
UID:10008884-1926000000-1926010800@humanhousedelft.nl
SUMMARY:Taste! Feest
DESCRIPTION:Taste! Feest Een viering rond de Bijbel. Er is koffie\, thee en ontmoeting en een ontspannen\, afwisselende\, interactieve overdenking rond een bijbelgedeelte. \nData: Wekelijks\nKosten: gratis\nContactpersoon voor Informatie en opgave: Pieter-Jan Rodenburg\, pieterjan@tastedelft.nl.\nAangeboden door: Taste!
URL:https://humanhousedelft.nl/event/taste-feest/2031-01-12/
LOCATION:Taste! Voorhof\, Roland Holstlaan 751\, Delft\, Nederland
CATEGORIES:Human House Delft
END:VEVENT
BEGIN:VEVENT
DTSTART;TZID=Europe/Amsterdam:20310117T110000
DTEND;TZID=Europe/Amsterdam:20310117T190000
DTSTAMP:20260420T002419
CREATED:20231104T201546Z
LAST-MODIFIED:20241112T122426Z
UID:10008896-1926414000-1926442800@humanhousedelft.nl
SUMMARY:Buurtcafé Taste! Friday een huiskamer voor de wijk
DESCRIPTION:Buurtcafé Taste! Friday een huiskamer voor de wijk; buurtbewoners van de Voorhof ontmoeten elkaar bij goede koffie en huisgemaakte taart. Er zijn geen vaste prijzen\, maar een ‘betaal wat je het waard vindt’-systeem. \nPlaats en tijd: Buurtcafé Taste! aan de Roland Holstlaan 751. Iedere vrijdag tussen 10.00 en 18.00 \nData: Wekelijks\, met een stop tijdens de zomervakantie\nKosten: ‘betaal wat je het waard vindt’\nContactpersoon voor Informatie en opgave: Pieter-Jan Rodenburg\, pieterjan@tastedelft.nl. Opgeven niet nodig\nAangeboden door: Taste!
URL:https://humanhousedelft.nl/event/buurtcafe-taste-friday-een-huiskamer-voor-de-wijk/2031-01-17/
LOCATION:Taste! Voorhof\, Roland Holstlaan 751\, Delft\, Nederland
CATEGORIES:Human House Delft
END:VEVENT
BEGIN:VEVENT
DTSTART;TZID=Europe/Amsterdam:20310119T160000
DTEND;TZID=Europe/Amsterdam:20310119T190000
DTSTAMP:20260420T002419
CREATED:20231104T200219Z
LAST-MODIFIED:20241112T123134Z
UID:10008900-1926604800-1926615600@humanhousedelft.nl
SUMMARY:Taste! Feest
DESCRIPTION:Taste! Feest Een viering rond de Bijbel. Er is koffie\, thee en ontmoeting en een ontspannen\, afwisselende\, interactieve overdenking rond een bijbelgedeelte. \nData: Wekelijks\nKosten: gratis\nContactpersoon voor Informatie en opgave: Pieter-Jan Rodenburg\, pieterjan@tastedelft.nl.\nAangeboden door: Taste!
URL:https://humanhousedelft.nl/event/taste-feest/2031-01-19/
LOCATION:Taste! Voorhof\, Roland Holstlaan 751\, Delft\, Nederland
CATEGORIES:Human House Delft
END:VEVENT
BEGIN:VEVENT
DTSTART;TZID=Europe/Amsterdam:20310124T110000
DTEND;TZID=Europe/Amsterdam:20310124T190000
DTSTAMP:20260420T002419
CREATED:20231104T201546Z
LAST-MODIFIED:20241112T122426Z
UID:10008912-1927018800-1927047600@humanhousedelft.nl
SUMMARY:Buurtcafé Taste! Friday een huiskamer voor de wijk
DESCRIPTION:Buurtcafé Taste! Friday een huiskamer voor de wijk; buurtbewoners van de Voorhof ontmoeten elkaar bij goede koffie en huisgemaakte taart. Er zijn geen vaste prijzen\, maar een ‘betaal wat je het waard vindt’-systeem. \nPlaats en tijd: Buurtcafé Taste! aan de Roland Holstlaan 751. Iedere vrijdag tussen 10.00 en 18.00 \nData: Wekelijks\, met een stop tijdens de zomervakantie\nKosten: ‘betaal wat je het waard vindt’\nContactpersoon voor Informatie en opgave: Pieter-Jan Rodenburg\, pieterjan@tastedelft.nl. Opgeven niet nodig\nAangeboden door: Taste!
URL:https://humanhousedelft.nl/event/buurtcafe-taste-friday-een-huiskamer-voor-de-wijk/2031-01-24/
LOCATION:Taste! Voorhof\, Roland Holstlaan 751\, Delft\, Nederland
CATEGORIES:Human House Delft
END:VEVENT
BEGIN:VEVENT
DTSTART;TZID=Europe/Amsterdam:20310126T160000
DTEND;TZID=Europe/Amsterdam:20310126T190000
DTSTAMP:20260420T002419
CREATED:20231104T200219Z
LAST-MODIFIED:20241112T123134Z
UID:10008916-1927209600-1927220400@humanhousedelft.nl
SUMMARY:Taste! Feest
DESCRIPTION:Taste! Feest Een viering rond de Bijbel. Er is koffie\, thee en ontmoeting en een ontspannen\, afwisselende\, interactieve overdenking rond een bijbelgedeelte. \nData: Wekelijks\nKosten: gratis\nContactpersoon voor Informatie en opgave: Pieter-Jan Rodenburg\, pieterjan@tastedelft.nl.\nAangeboden door: Taste!
URL:https://humanhousedelft.nl/event/taste-feest/2031-01-26/
LOCATION:Taste! Voorhof\, Roland Holstlaan 751\, Delft\, Nederland
CATEGORIES:Human House Delft
END:VEVENT
BEGIN:VEVENT
DTSTART;TZID=Europe/Amsterdam:20310131T110000
DTEND;TZID=Europe/Amsterdam:20310131T190000
DTSTAMP:20260420T002419
CREATED:20231104T201546Z
LAST-MODIFIED:20241112T122426Z
UID:10008928-1927623600-1927652400@humanhousedelft.nl
SUMMARY:Buurtcafé Taste! Friday een huiskamer voor de wijk
DESCRIPTION:Buurtcafé Taste! Friday een huiskamer voor de wijk; buurtbewoners van de Voorhof ontmoeten elkaar bij goede koffie en huisgemaakte taart. Er zijn geen vaste prijzen\, maar een ‘betaal wat je het waard vindt’-systeem. \nPlaats en tijd: Buurtcafé Taste! aan de Roland Holstlaan 751. Iedere vrijdag tussen 10.00 en 18.00 \nData: Wekelijks\, met een stop tijdens de zomervakantie\nKosten: ‘betaal wat je het waard vindt’\nContactpersoon voor Informatie en opgave: Pieter-Jan Rodenburg\, pieterjan@tastedelft.nl. Opgeven niet nodig\nAangeboden door: Taste!
URL:https://humanhousedelft.nl/event/buurtcafe-taste-friday-een-huiskamer-voor-de-wijk/2031-01-31/
LOCATION:Taste! Voorhof\, Roland Holstlaan 751\, Delft\, Nederland
CATEGORIES:Human House Delft
END:VEVENT
BEGIN:VEVENT
DTSTART;TZID=Europe/Amsterdam:20310202T160000
DTEND;TZID=Europe/Amsterdam:20310202T190000
DTSTAMP:20260420T002419
CREATED:20231104T200219Z
LAST-MODIFIED:20241112T123134Z
UID:10008933-1927814400-1927825200@humanhousedelft.nl
SUMMARY:Taste! Feest
DESCRIPTION:Taste! Feest Een viering rond de Bijbel. Er is koffie\, thee en ontmoeting en een ontspannen\, afwisselende\, interactieve overdenking rond een bijbelgedeelte. \nData: Wekelijks\nKosten: gratis\nContactpersoon voor Informatie en opgave: Pieter-Jan Rodenburg\, pieterjan@tastedelft.nl.\nAangeboden door: Taste!
URL:https://humanhousedelft.nl/event/taste-feest/2031-02-02/
LOCATION:Taste! Voorhof\, Roland Holstlaan 751\, Delft\, Nederland
CATEGORIES:Human House Delft
END:VEVENT
BEGIN:VEVENT
DTSTART;TZID=Europe/Amsterdam:20310207T110000
DTEND;TZID=Europe/Amsterdam:20310207T190000
DTSTAMP:20260420T002419
CREATED:20231104T201546Z
LAST-MODIFIED:20241112T122426Z
UID:10009009-1928228400-1928257200@humanhousedelft.nl
SUMMARY:Buurtcafé Taste! Friday een huiskamer voor de wijk
DESCRIPTION:Buurtcafé Taste! Friday een huiskamer voor de wijk; buurtbewoners van de Voorhof ontmoeten elkaar bij goede koffie en huisgemaakte taart. Er zijn geen vaste prijzen\, maar een ‘betaal wat je het waard vindt’-systeem. \nPlaats en tijd: Buurtcafé Taste! aan de Roland Holstlaan 751. Iedere vrijdag tussen 10.00 en 18.00 \nData: Wekelijks\, met een stop tijdens de zomervakantie\nKosten: ‘betaal wat je het waard vindt’\nContactpersoon voor Informatie en opgave: Pieter-Jan Rodenburg\, pieterjan@tastedelft.nl. Opgeven niet nodig\nAangeboden door: Taste!
URL:https://humanhousedelft.nl/event/buurtcafe-taste-friday-een-huiskamer-voor-de-wijk/2031-02-07/
LOCATION:Taste! Voorhof\, Roland Holstlaan 751\, Delft\, Nederland
CATEGORIES:Human House Delft
END:VEVENT
BEGIN:VEVENT
DTSTART;TZID=Europe/Amsterdam:20310209T160000
DTEND;TZID=Europe/Amsterdam:20310209T190000
DTSTAMP:20260420T002419
CREATED:20231104T200219Z
LAST-MODIFIED:20241112T123134Z
UID:10009013-1928419200-1928430000@humanhousedelft.nl
SUMMARY:Taste! Feest
DESCRIPTION:Taste! Feest Een viering rond de Bijbel. Er is koffie\, thee en ontmoeting en een ontspannen\, afwisselende\, interactieve overdenking rond een bijbelgedeelte. \nData: Wekelijks\nKosten: gratis\nContactpersoon voor Informatie en opgave: Pieter-Jan Rodenburg\, pieterjan@tastedelft.nl.\nAangeboden door: Taste!
URL:https://humanhousedelft.nl/event/taste-feest/2031-02-09/
LOCATION:Taste! Voorhof\, Roland Holstlaan 751\, Delft\, Nederland
CATEGORIES:Human House Delft
END:VEVENT
BEGIN:VEVENT
DTSTART;TZID=Europe/Amsterdam:20310214T110000
DTEND;TZID=Europe/Amsterdam:20310214T190000
DTSTAMP:20260420T002419
CREATED:20231104T201546Z
LAST-MODIFIED:20241112T122426Z
UID:10009025-1928833200-1928862000@humanhousedelft.nl
SUMMARY:Buurtcafé Taste! Friday een huiskamer voor de wijk
DESCRIPTION:Buurtcafé Taste! Friday een huiskamer voor de wijk; buurtbewoners van de Voorhof ontmoeten elkaar bij goede koffie en huisgemaakte taart. Er zijn geen vaste prijzen\, maar een ‘betaal wat je het waard vindt’-systeem. \nPlaats en tijd: Buurtcafé Taste! aan de Roland Holstlaan 751. Iedere vrijdag tussen 10.00 en 18.00 \nData: Wekelijks\, met een stop tijdens de zomervakantie\nKosten: ‘betaal wat je het waard vindt’\nContactpersoon voor Informatie en opgave: Pieter-Jan Rodenburg\, pieterjan@tastedelft.nl. Opgeven niet nodig\nAangeboden door: Taste!
URL:https://humanhousedelft.nl/event/buurtcafe-taste-friday-een-huiskamer-voor-de-wijk/2031-02-14/
LOCATION:Taste! Voorhof\, Roland Holstlaan 751\, Delft\, Nederland
CATEGORIES:Human House Delft
END:VEVENT
BEGIN:VEVENT
DTSTART;TZID=Europe/Amsterdam:20310216T160000
DTEND;TZID=Europe/Amsterdam:20310216T190000
DTSTAMP:20260420T002419
CREATED:20231104T200219Z
LAST-MODIFIED:20241112T123134Z
UID:10009354-1929024000-1929034800@humanhousedelft.nl
SUMMARY:Taste! Feest
DESCRIPTION:Taste! Feest Een viering rond de Bijbel. Er is koffie\, thee en ontmoeting en een ontspannen\, afwisselende\, interactieve overdenking rond een bijbelgedeelte. \nData: Wekelijks\nKosten: gratis\nContactpersoon voor Informatie en opgave: Pieter-Jan Rodenburg\, pieterjan@tastedelft.nl.\nAangeboden door: Taste!
URL:https://humanhousedelft.nl/event/taste-feest/2031-02-16/
LOCATION:Taste! Voorhof\, Roland Holstlaan 751\, Delft\, Nederland
CATEGORIES:Human House Delft
END:VEVENT
BEGIN:VEVENT
DTSTART;TZID=Europe/Amsterdam:20310221T110000
DTEND;TZID=Europe/Amsterdam:20310221T190000
DTSTAMP:20260420T002419
CREATED:20231104T201546Z
LAST-MODIFIED:20241112T122426Z
UID:10009366-1929438000-1929466800@humanhousedelft.nl
SUMMARY:Buurtcafé Taste! Friday een huiskamer voor de wijk
DESCRIPTION:Buurtcafé Taste! Friday een huiskamer voor de wijk; buurtbewoners van de Voorhof ontmoeten elkaar bij goede koffie en huisgemaakte taart. Er zijn geen vaste prijzen\, maar een ‘betaal wat je het waard vindt’-systeem. \nPlaats en tijd: Buurtcafé Taste! aan de Roland Holstlaan 751. Iedere vrijdag tussen 10.00 en 18.00 \nData: Wekelijks\, met een stop tijdens de zomervakantie\nKosten: ‘betaal wat je het waard vindt’\nContactpersoon voor Informatie en opgave: Pieter-Jan Rodenburg\, pieterjan@tastedelft.nl. Opgeven niet nodig\nAangeboden door: Taste!
URL:https://humanhousedelft.nl/event/buurtcafe-taste-friday-een-huiskamer-voor-de-wijk/2031-02-21/
LOCATION:Taste! Voorhof\, Roland Holstlaan 751\, Delft\, Nederland
CATEGORIES:Human House Delft
END:VEVENT
BEGIN:VEVENT
DTSTART;TZID=Europe/Amsterdam:20310223T160000
DTEND;TZID=Europe/Amsterdam:20310223T190000
DTSTAMP:20260420T002419
CREATED:20231104T200219Z
LAST-MODIFIED:20241112T123134Z
UID:10009370-1929628800-1929639600@humanhousedelft.nl
SUMMARY:Taste! Feest
DESCRIPTION:Taste! Feest Een viering rond de Bijbel. Er is koffie\, thee en ontmoeting en een ontspannen\, afwisselende\, interactieve overdenking rond een bijbelgedeelte. \nData: Wekelijks\nKosten: gratis\nContactpersoon voor Informatie en opgave: Pieter-Jan Rodenburg\, pieterjan@tastedelft.nl.\nAangeboden door: Taste!
URL:https://humanhousedelft.nl/event/taste-feest/2031-02-23/
LOCATION:Taste! Voorhof\, Roland Holstlaan 751\, Delft\, Nederland
CATEGORIES:Human House Delft
END:VEVENT
BEGIN:VEVENT
DTSTART;TZID=Europe/Amsterdam:20310228T110000
DTEND;TZID=Europe/Amsterdam:20310228T190000
DTSTAMP:20260420T002419
CREATED:20231104T201546Z
LAST-MODIFIED:20241112T122426Z
UID:10009380-1930042800-1930071600@humanhousedelft.nl
SUMMARY:Buurtcafé Taste! Friday een huiskamer voor de wijk
DESCRIPTION:Buurtcafé Taste! Friday een huiskamer voor de wijk; buurtbewoners van de Voorhof ontmoeten elkaar bij goede koffie en huisgemaakte taart. Er zijn geen vaste prijzen\, maar een ‘betaal wat je het waard vindt’-systeem. \nPlaats en tijd: Buurtcafé Taste! aan de Roland Holstlaan 751. Iedere vrijdag tussen 10.00 en 18.00 \nData: Wekelijks\, met een stop tijdens de zomervakantie\nKosten: ‘betaal wat je het waard vindt’\nContactpersoon voor Informatie en opgave: Pieter-Jan Rodenburg\, pieterjan@tastedelft.nl. Opgeven niet nodig\nAangeboden door: Taste!
URL:https://humanhousedelft.nl/event/buurtcafe-taste-friday-een-huiskamer-voor-de-wijk/2031-02-28/
LOCATION:Taste! Voorhof\, Roland Holstlaan 751\, Delft\, Nederland
CATEGORIES:Human House Delft
END:VEVENT
BEGIN:VEVENT
DTSTART;TZID=Europe/Amsterdam:20310302T160000
DTEND;TZID=Europe/Amsterdam:20310302T190000
DTSTAMP:20260420T002419
CREATED:20231104T200219Z
LAST-MODIFIED:20241112T123134Z
UID:10009383-1930233600-1930244400@humanhousedelft.nl
SUMMARY:Taste! Feest
DESCRIPTION:Taste! Feest Een viering rond de Bijbel. Er is koffie\, thee en ontmoeting en een ontspannen\, afwisselende\, interactieve overdenking rond een bijbelgedeelte. \nData: Wekelijks\nKosten: gratis\nContactpersoon voor Informatie en opgave: Pieter-Jan Rodenburg\, pieterjan@tastedelft.nl.\nAangeboden door: Taste!
URL:https://humanhousedelft.nl/event/taste-feest/2031-03-02/
LOCATION:Taste! Voorhof\, Roland Holstlaan 751\, Delft\, Nederland
CATEGORIES:Human House Delft
END:VEVENT
BEGIN:VEVENT
DTSTART;TZID=Europe/Amsterdam:20310307T110000
DTEND;TZID=Europe/Amsterdam:20310307T190000
DTSTAMP:20260420T002419
CREATED:20231104T201546Z
LAST-MODIFIED:20241112T122426Z
UID:10009392-1930647600-1930676400@humanhousedelft.nl
SUMMARY:Buurtcafé Taste! Friday een huiskamer voor de wijk
DESCRIPTION:Buurtcafé Taste! Friday een huiskamer voor de wijk; buurtbewoners van de Voorhof ontmoeten elkaar bij goede koffie en huisgemaakte taart. Er zijn geen vaste prijzen\, maar een ‘betaal wat je het waard vindt’-systeem. \nPlaats en tijd: Buurtcafé Taste! aan de Roland Holstlaan 751. Iedere vrijdag tussen 10.00 en 18.00 \nData: Wekelijks\, met een stop tijdens de zomervakantie\nKosten: ‘betaal wat je het waard vindt’\nContactpersoon voor Informatie en opgave: Pieter-Jan Rodenburg\, pieterjan@tastedelft.nl. Opgeven niet nodig\nAangeboden door: Taste!
URL:https://humanhousedelft.nl/event/buurtcafe-taste-friday-een-huiskamer-voor-de-wijk/2031-03-07/
LOCATION:Taste! Voorhof\, Roland Holstlaan 751\, Delft\, Nederland
CATEGORIES:Human House Delft
END:VEVENT
BEGIN:VEVENT
DTSTART;TZID=Europe/Amsterdam:20310309T160000
DTEND;TZID=Europe/Amsterdam:20310309T190000
DTSTAMP:20260420T002419
CREATED:20231104T200219Z
LAST-MODIFIED:20241112T123134Z
UID:10009396-1930838400-1930849200@humanhousedelft.nl
SUMMARY:Taste! Feest
DESCRIPTION:Taste! Feest Een viering rond de Bijbel. Er is koffie\, thee en ontmoeting en een ontspannen\, afwisselende\, interactieve overdenking rond een bijbelgedeelte. \nData: Wekelijks\nKosten: gratis\nContactpersoon voor Informatie en opgave: Pieter-Jan Rodenburg\, pieterjan@tastedelft.nl.\nAangeboden door: Taste!
URL:https://humanhousedelft.nl/event/taste-feest/2031-03-09/
LOCATION:Taste! Voorhof\, Roland Holstlaan 751\, Delft\, Nederland
CATEGORIES:Human House Delft
END:VEVENT
END:VCALENDAR