BEGIN:VCALENDAR
VERSION:2.0
PRODID:-//Human House Delft - ECPv6.15.20//NONSGML v1.0//EN
CALSCALE:GREGORIAN
METHOD:PUBLISH
X-ORIGINAL-URL:https://humanhousedelft.nl
X-WR-CALDESC:Evenementen voor Human House Delft
REFRESH-INTERVAL;VALUE=DURATION:PT1H
X-Robots-Tag:noindex
X-PUBLISHED-TTL:PT1H
BEGIN:VTIMEZONE
TZID:Europe/Amsterdam
BEGIN:DAYLIGHT
TZOFFSETFROM:+0100
TZOFFSETTO:+0200
TZNAME:CEST
DTSTART:20300331T010000
END:DAYLIGHT
BEGIN:STANDARD
TZOFFSETFROM:+0200
TZOFFSETTO:+0100
TZNAME:CET
DTSTART:20301027T010000
END:STANDARD
BEGIN:DAYLIGHT
TZOFFSETFROM:+0100
TZOFFSETTO:+0200
TZNAME:CEST
DTSTART:20310330T010000
END:DAYLIGHT
BEGIN:STANDARD
TZOFFSETFROM:+0200
TZOFFSETTO:+0100
TZNAME:CET
DTSTART:20311026T010000
END:STANDARD
BEGIN:DAYLIGHT
TZOFFSETFROM:+0100
TZOFFSETTO:+0200
TZNAME:CEST
DTSTART:20320328T010000
END:DAYLIGHT
BEGIN:STANDARD
TZOFFSETFROM:+0200
TZOFFSETTO:+0100
TZNAME:CET
DTSTART:20321031T010000
END:STANDARD
END:VTIMEZONE
BEGIN:VEVENT
DTSTART;TZID=Europe/Amsterdam:20310404T120000
DTEND;TZID=Europe/Amsterdam:20310404T200000
DTSTAMP:20260420T045229
CREATED:20231104T201546Z
LAST-MODIFIED:20241112T122426Z
UID:10009943-1933070400-1933099200@humanhousedelft.nl
SUMMARY:Buurtcafé Taste! Friday een huiskamer voor de wijk
DESCRIPTION:Buurtcafé Taste! Friday een huiskamer voor de wijk; buurtbewoners van de Voorhof ontmoeten elkaar bij goede koffie en huisgemaakte taart. Er zijn geen vaste prijzen\, maar een ‘betaal wat je het waard vindt’-systeem. \nPlaats en tijd: Buurtcafé Taste! aan de Roland Holstlaan 751. Iedere vrijdag tussen 10.00 en 18.00 \nData: Wekelijks\, met een stop tijdens de zomervakantie\nKosten: ‘betaal wat je het waard vindt’\nContactpersoon voor Informatie en opgave: Pieter-Jan Rodenburg\, pieterjan@tastedelft.nl. Opgeven niet nodig\nAangeboden door: Taste!
URL:https://humanhousedelft.nl/event/buurtcafe-taste-friday-een-huiskamer-voor-de-wijk/2031-04-04/
LOCATION:Taste! Voorhof\, Roland Holstlaan 751\, Delft\, Nederland
CATEGORIES:Human House Delft
END:VEVENT
BEGIN:VEVENT
DTSTART;TZID=Europe/Amsterdam:20310406T170000
DTEND;TZID=Europe/Amsterdam:20310406T200000
DTSTAMP:20260420T045229
CREATED:20231104T200219Z
LAST-MODIFIED:20241112T123134Z
UID:10009947-1933261200-1933272000@humanhousedelft.nl
SUMMARY:Taste! Feest
DESCRIPTION:Taste! Feest Een viering rond de Bijbel. Er is koffie\, thee en ontmoeting en een ontspannen\, afwisselende\, interactieve overdenking rond een bijbelgedeelte. \nData: Wekelijks\nKosten: gratis\nContactpersoon voor Informatie en opgave: Pieter-Jan Rodenburg\, pieterjan@tastedelft.nl.\nAangeboden door: Taste!
URL:https://humanhousedelft.nl/event/taste-feest/2031-04-06/
LOCATION:Taste! Voorhof\, Roland Holstlaan 751\, Delft\, Nederland
CATEGORIES:Human House Delft
END:VEVENT
BEGIN:VEVENT
DTSTART;TZID=Europe/Amsterdam:20310411T120000
DTEND;TZID=Europe/Amsterdam:20310411T200000
DTSTAMP:20260420T045229
CREATED:20231104T201546Z
LAST-MODIFIED:20241112T122426Z
UID:10010222-1933675200-1933704000@humanhousedelft.nl
SUMMARY:Buurtcafé Taste! Friday een huiskamer voor de wijk
DESCRIPTION:Buurtcafé Taste! Friday een huiskamer voor de wijk; buurtbewoners van de Voorhof ontmoeten elkaar bij goede koffie en huisgemaakte taart. Er zijn geen vaste prijzen\, maar een ‘betaal wat je het waard vindt’-systeem. \nPlaats en tijd: Buurtcafé Taste! aan de Roland Holstlaan 751. Iedere vrijdag tussen 10.00 en 18.00 \nData: Wekelijks\, met een stop tijdens de zomervakantie\nKosten: ‘betaal wat je het waard vindt’\nContactpersoon voor Informatie en opgave: Pieter-Jan Rodenburg\, pieterjan@tastedelft.nl. Opgeven niet nodig\nAangeboden door: Taste!
URL:https://humanhousedelft.nl/event/buurtcafe-taste-friday-een-huiskamer-voor-de-wijk/2031-04-11/
LOCATION:Taste! Voorhof\, Roland Holstlaan 751\, Delft\, Nederland
CATEGORIES:Human House Delft
END:VEVENT
BEGIN:VEVENT
DTSTART;TZID=Europe/Amsterdam:20310413T170000
DTEND;TZID=Europe/Amsterdam:20310413T200000
DTSTAMP:20260420T045229
CREATED:20231104T200219Z
LAST-MODIFIED:20241112T123134Z
UID:10010226-1933866000-1933876800@humanhousedelft.nl
SUMMARY:Taste! Feest
DESCRIPTION:Taste! Feest Een viering rond de Bijbel. Er is koffie\, thee en ontmoeting en een ontspannen\, afwisselende\, interactieve overdenking rond een bijbelgedeelte. \nData: Wekelijks\nKosten: gratis\nContactpersoon voor Informatie en opgave: Pieter-Jan Rodenburg\, pieterjan@tastedelft.nl.\nAangeboden door: Taste!
URL:https://humanhousedelft.nl/event/taste-feest/2031-04-13/
LOCATION:Taste! Voorhof\, Roland Holstlaan 751\, Delft\, Nederland
CATEGORIES:Human House Delft
END:VEVENT
END:VCALENDAR