BEGIN:VCALENDAR
VERSION:2.0
PRODID:-//Human House Delft - ECPv6.15.20//NONSGML v1.0//EN
CALSCALE:GREGORIAN
METHOD:PUBLISH
X-WR-CALNAME:Human House Delft
X-ORIGINAL-URL:https://humanhousedelft.nl
X-WR-CALDESC:Evenementen voor Human House Delft
REFRESH-INTERVAL;VALUE=DURATION:PT1H
X-Robots-Tag:noindex
X-PUBLISHED-TTL:PT1H
BEGIN:VTIMEZONE
TZID:Europe/Amsterdam
BEGIN:DAYLIGHT
TZOFFSETFROM:+0100
TZOFFSETTO:+0200
TZNAME:CEST
DTSTART:20250330T010000
END:DAYLIGHT
BEGIN:STANDARD
TZOFFSETFROM:+0200
TZOFFSETTO:+0100
TZNAME:CET
DTSTART:20251026T010000
END:STANDARD
BEGIN:DAYLIGHT
TZOFFSETFROM:+0100
TZOFFSETTO:+0200
TZNAME:CEST
DTSTART:20260329T010000
END:DAYLIGHT
BEGIN:STANDARD
TZOFFSETFROM:+0200
TZOFFSETTO:+0100
TZNAME:CET
DTSTART:20261025T010000
END:STANDARD
BEGIN:DAYLIGHT
TZOFFSETFROM:+0100
TZOFFSETTO:+0200
TZNAME:CEST
DTSTART:20270328T010000
END:DAYLIGHT
BEGIN:STANDARD
TZOFFSETFROM:+0200
TZOFFSETTO:+0100
TZNAME:CET
DTSTART:20271031T010000
END:STANDARD
END:VTIMEZONE
BEGIN:VEVENT
DTSTART;TZID=Europe/Amsterdam:20261207T100000
DTEND;TZID=Europe/Amsterdam:20261207T120000
DTSTAMP:20260421T075215
CREATED:20260320T160907Z
LAST-MODIFIED:20260402T202325Z
UID:10009673-1796637600-1796644800@humanhousedelft.nl
SUMMARY:Spreekuur Huiselijk Geweld
DESCRIPTION:Op maandag is er spreekuur Huiselijk Geweld bij Wij West in winkelcentrum de Hoven.\nTijdens het spreekuur kunnen burgers en professionals terecht met vragen omtrent Huiselijk Geweld.\nProfessionals van Arosa in samenwerking met ervaringsdeskundige vanuit Worriors United staan u hier te woord.
URL:https://humanhousedelft.nl/event/spreekuur-huiselijk-geweld/2026-12-07/
LOCATION:Winkelcentrum ‘De Hoven Passage’\, Delft\, Nederland
CATEGORIES:Human House Delft,Orange The World
ATTACH;FMTTYPE=image/png:https://humanhousedelft.nl/wp-content/uploads/2025/12/logo-arosa-nieuwe-slogan-def-bae1518b0dfc00a4d7fa852603dc18cf.png
END:VEVENT
BEGIN:VEVENT
DTSTART;TZID=Europe/Amsterdam:20261207T180000
DTEND;TZID=Europe/Amsterdam:20261207T193000
DTSTAMP:20260421T075215
CREATED:20251118T094913Z
LAST-MODIFIED:20251118T094913Z
UID:10007837-1796666400-1796671800@humanhousedelft.nl
SUMMARY:Inloop spreekuur Wetswinkel Delfland
DESCRIPTION:Wij zijn elke maandag en woensdag geopend van 18:15-19:30! Kom bij ons langs voor gratis juridisch advies!
URL:https://humanhousedelft.nl/event/inloop-spreekuur-wetswinkel-delfland/2026-12-07/
LOCATION:Wetswinel Delft\, Van Bleyswijckstraat 91\, Delft\, 2613 RR\, Nederland
CATEGORIES:Human House Delft
ATTACH;FMTTYPE=image/png:https://humanhousedelft.nl/wp-content/uploads/2025/10/Wetswinkel-Delfland_Logo-0ea1b6fc315fc5d7b1ddcafe1d61329b.png
END:VEVENT
BEGIN:VEVENT
DTSTART;TZID=Europe/Amsterdam:20261208T093000
DTEND;TZID=Europe/Amsterdam:20261208T120000
DTSTAMP:20260421T075215
CREATED:20250627T111609Z
LAST-MODIFIED:20250627T111609Z
UID:10007152-1796722200-1796731200@humanhousedelft.nl
SUMMARY:spreekuur SchuldHulpMaatje
DESCRIPTION:Het spreekuur van SchuldHulpMaatje is er voor inwoners van Delft die vragen hebben rond hun financiën en administratie. Deze hulp is gratis en zonder oordeel. Wij helpen je graag op weg. Binnenlopen kan zonder afspraak.
URL:https://humanhousedelft.nl/event/spreekuur-schuldhulpmaatje/2026-12-08/
CATEGORIES:Human House Delft
ATTACH;FMTTYPE=image/png:https://humanhousedelft.nl/wp-content/uploads/2025/06/SHM_Delft-logo-b983bb326940eca37f67760cee9a1706.png
END:VEVENT
BEGIN:VEVENT
DTSTART;TZID=Europe/Amsterdam:20261208T110000
DTEND;TZID=Europe/Amsterdam:20261208T130000
DTSTAMP:20260421T075215
CREATED:20231104T201223Z
LAST-MODIFIED:20241112T123007Z
UID:10002849-1796727600-1796734800@humanhousedelft.nl
SUMMARY:Koffieochtend
DESCRIPTION:Koffieochtend om uit het isolement te komen en gelijktijdig de Nederlandse taal te verbeteren \nPlaats en tijd: elke dinsdagochtend van 10-12 uur in het gebouw van het Apostolische Genootschap\, van Adrichemstraat 277\, 2614 BP te Delft\nData: elke dinsdagochtend\nKosten: gratis\nContactpersoon voor Informatie: Nushaba Mirzazade; 0642387299 of via de mail mndr53@live.nl\nAangeboden door: Wereldparels
URL:https://humanhousedelft.nl/event/koffieochtend/2026-12-08/
LOCATION:Apostolische Genootschap\, Adrichemstraat 277\, Delft\, 2614 BP\, Nederland
CATEGORIES:Human House Delft
END:VEVENT
BEGIN:VEVENT
DTSTART;TZID=Europe/Amsterdam:20261209T090000
DTEND;TZID=Europe/Amsterdam:20261209T103000
DTSTAMP:20260421T075215
CREATED:20241229T115325Z
LAST-MODIFIED:20241229T115325Z
UID:10006575-1796806800-1796812200@humanhousedelft.nl
SUMMARY:Gratis Sportochtend
DESCRIPTION:Het initiatief heeft als doel een gezonde leefstijl bij vrouwen te bevorderen. Door zich te richten op bewustwording en ondersteuning op het gebied van voeding\, beweging\, mentale gezondheid en preventieve zorg\, wil het programma vrouwen helpen bij het aannemen en behouden van gezonde gewoontes. \nWij gaan een combinatie van sportactiviteiten en voorlichtingsworkshops organiseren. Vrouwen krijgen elke week de mogelijkheid om deel te nemen aan de inloop sportochtend. De lessen variëren: soms zijn er Zumba-lessen\, andere keren tafeltennis of stoelgymnastiek voor oudere vrouwen\, en spierversterkende oefeningen\, enzovoort. \nWij gaan begeleiding en individuele coaching aanbieden\, vooral gericht op vrouwen die willen afvallen\, omdat persoonlijke begeleiding vaak effectiever is dan algemene programma’s. \nAf en toe organiseren we ook een workshop gezond koken en samen eten\, zodat de vrouwen kunnen ervaren hoe lekker gezond eten is\, en om verbinding en gezelligheid te creëren.
URL:https://humanhousedelft.nl/event/gratis-sportochtend/2026-12-09/
LOCATION:Wijkcentrum de Vleugel\, Aart van der Leeuwlaan 4\, Delft\, Nederland
CATEGORIES:Human House Delft
ATTACH;FMTTYPE=image/jpeg:https://humanhousedelft.nl/wp-content/uploads/2024/12/gym-5e678ff17ea634174d770fd788a7250d.jpg
END:VEVENT
BEGIN:VEVENT
DTSTART;TZID=Europe/Amsterdam:20261209T100000
DTEND;TZID=Europe/Amsterdam:20261209T120000
DTSTAMP:20260421T075215
CREATED:20240506T093655Z
LAST-MODIFIED:20241112T122941Z
UID:10004911-1796810400-1796817600@humanhousedelft.nl
SUMMARY:KoffieNL
DESCRIPTION:KoffieNL: Koffie drinken en gezellig Nederlands praten in kleine groepjes! \nData alle woensdagen\nKosten gratis\nContactpersoon voor Informatie en opgave Luc 0612424882/ Bernadette 0620837565\nAangeboden door DelftseBuur
URL:https://humanhousedelft.nl/event/koffienl-2/2026-12-09/
LOCATION:Jessehof\, Burgwal 50\, Delft\, Nederland
CATEGORIES:Human House Delft
END:VEVENT
BEGIN:VEVENT
DTSTART;TZID=Europe/Amsterdam:20261209T160000
DTEND;TZID=Europe/Amsterdam:20261209T180000
DTSTAMP:20260421T075215
CREATED:20260409T214700Z
LAST-MODIFIED:20260409T214730Z
UID:10009984-1796832000-1796839200@humanhousedelft.nl
SUMMARY:Carrouselgroep
DESCRIPTION:De Carrouselgroep is een laagdrempelige groepstraining voor volwassen mannen die (als pleger) betrokken zijn bij huiselijk geweld. Het kan gaan om geweld tegen partner of kinderen. Hoe kun je geweld thuis voorkomen? Met die vraag gaan de deelnemers aan de slag. \nDe Carrouselgroep is een training dat bestaat uit een intakegesprek\, acht groepsbijeenkomsten en een afrondende evaluatie met nazorgmoment. \naan deelname zijn geen kosten verbonden en we hanteren gezien de doorstroming geen wachtlijst!
URL:https://humanhousedelft.nl/event/carrouselgroep/2026-12-09/
LOCATION:Wijkcentrum de Vleugel\, Aart van der Leeuwlaan 4\, Delft\, Nederland
CATEGORIES:Human House Delft,Orange The World
ATTACH;FMTTYPE=image/webp:https://humanhousedelft.nl/wp-content/uploads/2026/04/Carrouselgroep_beeld_pratende_mensen-600x375-1.webp
ORGANIZER;CN="Reclassering":MAILTO:carrouselgroep-delft@reclassering.nl
END:VEVENT
BEGIN:VEVENT
DTSTART;TZID=Europe/Amsterdam:20261209T180000
DTEND;TZID=Europe/Amsterdam:20261209T193000
DTSTAMP:20260421T075215
CREATED:20251118T094913Z
LAST-MODIFIED:20251118T094913Z
UID:10007838-1796839200-1796844600@humanhousedelft.nl
SUMMARY:Inloop spreekuur Wetswinkel Delfland
DESCRIPTION:Wij zijn elke maandag en woensdag geopend van 18:15-19:30! Kom bij ons langs voor gratis juridisch advies!
URL:https://humanhousedelft.nl/event/inloop-spreekuur-wetswinkel-delfland/2026-12-09/
LOCATION:Wetswinel Delft\, Van Bleyswijckstraat 91\, Delft\, 2613 RR\, Nederland
CATEGORIES:Human House Delft
ATTACH;FMTTYPE=image/png:https://humanhousedelft.nl/wp-content/uploads/2025/10/Wetswinkel-Delfland_Logo-0ea1b6fc315fc5d7b1ddcafe1d61329b.png
END:VEVENT
BEGIN:VEVENT
DTSTART;TZID=Europe/Amsterdam:20261211T110000
DTEND;TZID=Europe/Amsterdam:20261211T190000
DTSTAMP:20260421T075215
CREATED:20231104T201546Z
LAST-MODIFIED:20241112T122426Z
UID:10003631-1796986800-1797015600@humanhousedelft.nl
SUMMARY:Buurtcafé Taste! Friday een huiskamer voor de wijk
DESCRIPTION:Buurtcafé Taste! Friday een huiskamer voor de wijk; buurtbewoners van de Voorhof ontmoeten elkaar bij goede koffie en huisgemaakte taart. Er zijn geen vaste prijzen\, maar een ‘betaal wat je het waard vindt’-systeem. \nPlaats en tijd: Buurtcafé Taste! aan de Roland Holstlaan 751. Iedere vrijdag tussen 10.00 en 18.00 \nData: Wekelijks\, met een stop tijdens de zomervakantie\nKosten: ‘betaal wat je het waard vindt’\nContactpersoon voor Informatie en opgave: Pieter-Jan Rodenburg\, pieterjan@tastedelft.nl. Opgeven niet nodig\nAangeboden door: Taste!
URL:https://humanhousedelft.nl/event/buurtcafe-taste-friday-een-huiskamer-voor-de-wijk/2026-12-11/
LOCATION:Taste! Voorhof\, Roland Holstlaan 751\, Delft\, Nederland
CATEGORIES:Human House Delft
END:VEVENT
BEGIN:VEVENT
DTSTART;TZID=Europe/Amsterdam:20261213T160000
DTEND;TZID=Europe/Amsterdam:20261213T190000
DTSTAMP:20260421T075215
CREATED:20231104T200219Z
LAST-MODIFIED:20241112T123134Z
UID:10002589-1797177600-1797188400@humanhousedelft.nl
SUMMARY:Taste! Feest
DESCRIPTION:Taste! Feest Een viering rond de Bijbel. Er is koffie\, thee en ontmoeting en een ontspannen\, afwisselende\, interactieve overdenking rond een bijbelgedeelte. \nData: Wekelijks\nKosten: gratis\nContactpersoon voor Informatie en opgave: Pieter-Jan Rodenburg\, pieterjan@tastedelft.nl.\nAangeboden door: Taste!
URL:https://humanhousedelft.nl/event/taste-feest/2026-12-13/
LOCATION:Taste! Voorhof\, Roland Holstlaan 751\, Delft\, Nederland
CATEGORIES:Human House Delft
END:VEVENT
BEGIN:VEVENT
DTSTART;TZID=Europe/Amsterdam:20261214T100000
DTEND;TZID=Europe/Amsterdam:20261214T120000
DTSTAMP:20260421T075215
CREATED:20260320T160907Z
LAST-MODIFIED:20260402T202325Z
UID:10009674-1797242400-1797249600@humanhousedelft.nl
SUMMARY:Spreekuur Huiselijk Geweld
DESCRIPTION:Op maandag is er spreekuur Huiselijk Geweld bij Wij West in winkelcentrum de Hoven.\nTijdens het spreekuur kunnen burgers en professionals terecht met vragen omtrent Huiselijk Geweld.\nProfessionals van Arosa in samenwerking met ervaringsdeskundige vanuit Worriors United staan u hier te woord.
URL:https://humanhousedelft.nl/event/spreekuur-huiselijk-geweld/2026-12-14/
LOCATION:Winkelcentrum ‘De Hoven Passage’\, Delft\, Nederland
CATEGORIES:Human House Delft,Orange The World
ATTACH;FMTTYPE=image/png:https://humanhousedelft.nl/wp-content/uploads/2025/12/logo-arosa-nieuwe-slogan-def-bae1518b0dfc00a4d7fa852603dc18cf.png
END:VEVENT
BEGIN:VEVENT
DTSTART;TZID=Europe/Amsterdam:20261214T180000
DTEND;TZID=Europe/Amsterdam:20261214T193000
DTSTAMP:20260421T075215
CREATED:20251118T094913Z
LAST-MODIFIED:20251118T094913Z
UID:10007839-1797271200-1797276600@humanhousedelft.nl
SUMMARY:Inloop spreekuur Wetswinkel Delfland
DESCRIPTION:Wij zijn elke maandag en woensdag geopend van 18:15-19:30! Kom bij ons langs voor gratis juridisch advies!
URL:https://humanhousedelft.nl/event/inloop-spreekuur-wetswinkel-delfland/2026-12-14/
LOCATION:Wetswinel Delft\, Van Bleyswijckstraat 91\, Delft\, 2613 RR\, Nederland
CATEGORIES:Human House Delft
ATTACH;FMTTYPE=image/png:https://humanhousedelft.nl/wp-content/uploads/2025/10/Wetswinkel-Delfland_Logo-0ea1b6fc315fc5d7b1ddcafe1d61329b.png
END:VEVENT
BEGIN:VEVENT
DTSTART;TZID=Europe/Amsterdam:20261215T093000
DTEND;TZID=Europe/Amsterdam:20261215T120000
DTSTAMP:20260421T075215
CREATED:20250627T111609Z
LAST-MODIFIED:20250627T111609Z
UID:10007153-1797327000-1797336000@humanhousedelft.nl
SUMMARY:spreekuur SchuldHulpMaatje
DESCRIPTION:Het spreekuur van SchuldHulpMaatje is er voor inwoners van Delft die vragen hebben rond hun financiën en administratie. Deze hulp is gratis en zonder oordeel. Wij helpen je graag op weg. Binnenlopen kan zonder afspraak.
URL:https://humanhousedelft.nl/event/spreekuur-schuldhulpmaatje/2026-12-15/
CATEGORIES:Human House Delft
ATTACH;FMTTYPE=image/png:https://humanhousedelft.nl/wp-content/uploads/2025/06/SHM_Delft-logo-b983bb326940eca37f67760cee9a1706.png
END:VEVENT
BEGIN:VEVENT
DTSTART;TZID=Europe/Amsterdam:20261215T110000
DTEND;TZID=Europe/Amsterdam:20261215T130000
DTSTAMP:20260421T075215
CREATED:20231104T201223Z
LAST-MODIFIED:20241112T123007Z
UID:10002850-1797332400-1797339600@humanhousedelft.nl
SUMMARY:Koffieochtend
DESCRIPTION:Koffieochtend om uit het isolement te komen en gelijktijdig de Nederlandse taal te verbeteren \nPlaats en tijd: elke dinsdagochtend van 10-12 uur in het gebouw van het Apostolische Genootschap\, van Adrichemstraat 277\, 2614 BP te Delft\nData: elke dinsdagochtend\nKosten: gratis\nContactpersoon voor Informatie: Nushaba Mirzazade; 0642387299 of via de mail mndr53@live.nl\nAangeboden door: Wereldparels
URL:https://humanhousedelft.nl/event/koffieochtend/2026-12-15/
LOCATION:Apostolische Genootschap\, Adrichemstraat 277\, Delft\, 2614 BP\, Nederland
CATEGORIES:Human House Delft
END:VEVENT
BEGIN:VEVENT
DTSTART;TZID=Europe/Amsterdam:20261216T090000
DTEND;TZID=Europe/Amsterdam:20261216T103000
DTSTAMP:20260421T075215
CREATED:20241229T115325Z
LAST-MODIFIED:20241229T115325Z
UID:10006576-1797411600-1797417000@humanhousedelft.nl
SUMMARY:Gratis Sportochtend
DESCRIPTION:Het initiatief heeft als doel een gezonde leefstijl bij vrouwen te bevorderen. Door zich te richten op bewustwording en ondersteuning op het gebied van voeding\, beweging\, mentale gezondheid en preventieve zorg\, wil het programma vrouwen helpen bij het aannemen en behouden van gezonde gewoontes. \nWij gaan een combinatie van sportactiviteiten en voorlichtingsworkshops organiseren. Vrouwen krijgen elke week de mogelijkheid om deel te nemen aan de inloop sportochtend. De lessen variëren: soms zijn er Zumba-lessen\, andere keren tafeltennis of stoelgymnastiek voor oudere vrouwen\, en spierversterkende oefeningen\, enzovoort. \nWij gaan begeleiding en individuele coaching aanbieden\, vooral gericht op vrouwen die willen afvallen\, omdat persoonlijke begeleiding vaak effectiever is dan algemene programma’s. \nAf en toe organiseren we ook een workshop gezond koken en samen eten\, zodat de vrouwen kunnen ervaren hoe lekker gezond eten is\, en om verbinding en gezelligheid te creëren.
URL:https://humanhousedelft.nl/event/gratis-sportochtend/2026-12-16/
LOCATION:Wijkcentrum de Vleugel\, Aart van der Leeuwlaan 4\, Delft\, Nederland
CATEGORIES:Human House Delft
ATTACH;FMTTYPE=image/jpeg:https://humanhousedelft.nl/wp-content/uploads/2024/12/gym-5e678ff17ea634174d770fd788a7250d.jpg
END:VEVENT
BEGIN:VEVENT
DTSTART;TZID=Europe/Amsterdam:20261216T100000
DTEND;TZID=Europe/Amsterdam:20261216T120000
DTSTAMP:20260421T075215
CREATED:20240506T093655Z
LAST-MODIFIED:20241112T122941Z
UID:10004913-1797415200-1797422400@humanhousedelft.nl
SUMMARY:KoffieNL
DESCRIPTION:KoffieNL: Koffie drinken en gezellig Nederlands praten in kleine groepjes! \nData alle woensdagen\nKosten gratis\nContactpersoon voor Informatie en opgave Luc 0612424882/ Bernadette 0620837565\nAangeboden door DelftseBuur
URL:https://humanhousedelft.nl/event/koffienl-2/2026-12-16/
LOCATION:Jessehof\, Burgwal 50\, Delft\, Nederland
CATEGORIES:Human House Delft
END:VEVENT
BEGIN:VEVENT
DTSTART;TZID=Europe/Amsterdam:20261216T160000
DTEND;TZID=Europe/Amsterdam:20261216T180000
DTSTAMP:20260421T075215
CREATED:20260409T214700Z
LAST-MODIFIED:20260409T214730Z
UID:10009985-1797436800-1797444000@humanhousedelft.nl
SUMMARY:Carrouselgroep
DESCRIPTION:De Carrouselgroep is een laagdrempelige groepstraining voor volwassen mannen die (als pleger) betrokken zijn bij huiselijk geweld. Het kan gaan om geweld tegen partner of kinderen. Hoe kun je geweld thuis voorkomen? Met die vraag gaan de deelnemers aan de slag. \nDe Carrouselgroep is een training dat bestaat uit een intakegesprek\, acht groepsbijeenkomsten en een afrondende evaluatie met nazorgmoment. \naan deelname zijn geen kosten verbonden en we hanteren gezien de doorstroming geen wachtlijst!
URL:https://humanhousedelft.nl/event/carrouselgroep/2026-12-16/
LOCATION:Wijkcentrum de Vleugel\, Aart van der Leeuwlaan 4\, Delft\, Nederland
CATEGORIES:Human House Delft,Orange The World
ATTACH;FMTTYPE=image/webp:https://humanhousedelft.nl/wp-content/uploads/2026/04/Carrouselgroep_beeld_pratende_mensen-600x375-1.webp
ORGANIZER;CN="Reclassering":MAILTO:carrouselgroep-delft@reclassering.nl
END:VEVENT
BEGIN:VEVENT
DTSTART;TZID=Europe/Amsterdam:20261216T180000
DTEND;TZID=Europe/Amsterdam:20261216T193000
DTSTAMP:20260421T075215
CREATED:20251118T094913Z
LAST-MODIFIED:20251118T094913Z
UID:10007840-1797444000-1797449400@humanhousedelft.nl
SUMMARY:Inloop spreekuur Wetswinkel Delfland
DESCRIPTION:Wij zijn elke maandag en woensdag geopend van 18:15-19:30! Kom bij ons langs voor gratis juridisch advies!
URL:https://humanhousedelft.nl/event/inloop-spreekuur-wetswinkel-delfland/2026-12-16/
LOCATION:Wetswinel Delft\, Van Bleyswijckstraat 91\, Delft\, 2613 RR\, Nederland
CATEGORIES:Human House Delft
ATTACH;FMTTYPE=image/png:https://humanhousedelft.nl/wp-content/uploads/2025/10/Wetswinkel-Delfland_Logo-0ea1b6fc315fc5d7b1ddcafe1d61329b.png
END:VEVENT
BEGIN:VEVENT
DTSTART;TZID=Europe/Amsterdam:20261218T110000
DTEND;TZID=Europe/Amsterdam:20261218T190000
DTSTAMP:20260421T075215
CREATED:20231104T201546Z
LAST-MODIFIED:20241112T122426Z
UID:10003632-1797591600-1797620400@humanhousedelft.nl
SUMMARY:Buurtcafé Taste! Friday een huiskamer voor de wijk
DESCRIPTION:Buurtcafé Taste! Friday een huiskamer voor de wijk; buurtbewoners van de Voorhof ontmoeten elkaar bij goede koffie en huisgemaakte taart. Er zijn geen vaste prijzen\, maar een ‘betaal wat je het waard vindt’-systeem. \nPlaats en tijd: Buurtcafé Taste! aan de Roland Holstlaan 751. Iedere vrijdag tussen 10.00 en 18.00 \nData: Wekelijks\, met een stop tijdens de zomervakantie\nKosten: ‘betaal wat je het waard vindt’\nContactpersoon voor Informatie en opgave: Pieter-Jan Rodenburg\, pieterjan@tastedelft.nl. Opgeven niet nodig\nAangeboden door: Taste!
URL:https://humanhousedelft.nl/event/buurtcafe-taste-friday-een-huiskamer-voor-de-wijk/2026-12-18/
LOCATION:Taste! Voorhof\, Roland Holstlaan 751\, Delft\, Nederland
CATEGORIES:Human House Delft
END:VEVENT
BEGIN:VEVENT
DTSTART;TZID=Europe/Amsterdam:20261220T160000
DTEND;TZID=Europe/Amsterdam:20261220T190000
DTSTAMP:20260421T075215
CREATED:20231104T200219Z
LAST-MODIFIED:20241112T123134Z
UID:10002590-1797782400-1797793200@humanhousedelft.nl
SUMMARY:Taste! Feest
DESCRIPTION:Taste! Feest Een viering rond de Bijbel. Er is koffie\, thee en ontmoeting en een ontspannen\, afwisselende\, interactieve overdenking rond een bijbelgedeelte. \nData: Wekelijks\nKosten: gratis\nContactpersoon voor Informatie en opgave: Pieter-Jan Rodenburg\, pieterjan@tastedelft.nl.\nAangeboden door: Taste!
URL:https://humanhousedelft.nl/event/taste-feest/2026-12-20/
LOCATION:Taste! Voorhof\, Roland Holstlaan 751\, Delft\, Nederland
CATEGORIES:Human House Delft
END:VEVENT
BEGIN:VEVENT
DTSTART;TZID=Europe/Amsterdam:20261221T100000
DTEND;TZID=Europe/Amsterdam:20261221T120000
DTSTAMP:20260421T075215
CREATED:20260320T160907Z
LAST-MODIFIED:20260402T202325Z
UID:10009675-1797847200-1797854400@humanhousedelft.nl
SUMMARY:Spreekuur Huiselijk Geweld
DESCRIPTION:Op maandag is er spreekuur Huiselijk Geweld bij Wij West in winkelcentrum de Hoven.\nTijdens het spreekuur kunnen burgers en professionals terecht met vragen omtrent Huiselijk Geweld.\nProfessionals van Arosa in samenwerking met ervaringsdeskundige vanuit Worriors United staan u hier te woord.
URL:https://humanhousedelft.nl/event/spreekuur-huiselijk-geweld/2026-12-21/
LOCATION:Winkelcentrum ‘De Hoven Passage’\, Delft\, Nederland
CATEGORIES:Human House Delft,Orange The World
ATTACH;FMTTYPE=image/png:https://humanhousedelft.nl/wp-content/uploads/2025/12/logo-arosa-nieuwe-slogan-def-bae1518b0dfc00a4d7fa852603dc18cf.png
END:VEVENT
BEGIN:VEVENT
DTSTART;TZID=Europe/Amsterdam:20261221T180000
DTEND;TZID=Europe/Amsterdam:20261221T193000
DTSTAMP:20260421T075215
CREATED:20251118T094913Z
LAST-MODIFIED:20251118T094913Z
UID:10007841-1797876000-1797881400@humanhousedelft.nl
SUMMARY:Inloop spreekuur Wetswinkel Delfland
DESCRIPTION:Wij zijn elke maandag en woensdag geopend van 18:15-19:30! Kom bij ons langs voor gratis juridisch advies!
URL:https://humanhousedelft.nl/event/inloop-spreekuur-wetswinkel-delfland/2026-12-21/
LOCATION:Wetswinel Delft\, Van Bleyswijckstraat 91\, Delft\, 2613 RR\, Nederland
CATEGORIES:Human House Delft
ATTACH;FMTTYPE=image/png:https://humanhousedelft.nl/wp-content/uploads/2025/10/Wetswinkel-Delfland_Logo-0ea1b6fc315fc5d7b1ddcafe1d61329b.png
END:VEVENT
BEGIN:VEVENT
DTSTART;TZID=Europe/Amsterdam:20261222T093000
DTEND;TZID=Europe/Amsterdam:20261222T120000
DTSTAMP:20260421T075215
CREATED:20250627T111609Z
LAST-MODIFIED:20250627T111609Z
UID:10007154-1797931800-1797940800@humanhousedelft.nl
SUMMARY:spreekuur SchuldHulpMaatje
DESCRIPTION:Het spreekuur van SchuldHulpMaatje is er voor inwoners van Delft die vragen hebben rond hun financiën en administratie. Deze hulp is gratis en zonder oordeel. Wij helpen je graag op weg. Binnenlopen kan zonder afspraak.
URL:https://humanhousedelft.nl/event/spreekuur-schuldhulpmaatje/2026-12-22/
CATEGORIES:Human House Delft
ATTACH;FMTTYPE=image/png:https://humanhousedelft.nl/wp-content/uploads/2025/06/SHM_Delft-logo-b983bb326940eca37f67760cee9a1706.png
END:VEVENT
BEGIN:VEVENT
DTSTART;TZID=Europe/Amsterdam:20261222T110000
DTEND;TZID=Europe/Amsterdam:20261222T130000
DTSTAMP:20260421T075215
CREATED:20231104T201223Z
LAST-MODIFIED:20241112T123007Z
UID:10002851-1797937200-1797944400@humanhousedelft.nl
SUMMARY:Koffieochtend
DESCRIPTION:Koffieochtend om uit het isolement te komen en gelijktijdig de Nederlandse taal te verbeteren \nPlaats en tijd: elke dinsdagochtend van 10-12 uur in het gebouw van het Apostolische Genootschap\, van Adrichemstraat 277\, 2614 BP te Delft\nData: elke dinsdagochtend\nKosten: gratis\nContactpersoon voor Informatie: Nushaba Mirzazade; 0642387299 of via de mail mndr53@live.nl\nAangeboden door: Wereldparels
URL:https://humanhousedelft.nl/event/koffieochtend/2026-12-22/
LOCATION:Apostolische Genootschap\, Adrichemstraat 277\, Delft\, 2614 BP\, Nederland
CATEGORIES:Human House Delft
END:VEVENT
BEGIN:VEVENT
DTSTART;TZID=Europe/Amsterdam:20261223T090000
DTEND;TZID=Europe/Amsterdam:20261223T103000
DTSTAMP:20260421T075215
CREATED:20241229T115325Z
LAST-MODIFIED:20241229T115325Z
UID:10006577-1798016400-1798021800@humanhousedelft.nl
SUMMARY:Gratis Sportochtend
DESCRIPTION:Het initiatief heeft als doel een gezonde leefstijl bij vrouwen te bevorderen. Door zich te richten op bewustwording en ondersteuning op het gebied van voeding\, beweging\, mentale gezondheid en preventieve zorg\, wil het programma vrouwen helpen bij het aannemen en behouden van gezonde gewoontes. \nWij gaan een combinatie van sportactiviteiten en voorlichtingsworkshops organiseren. Vrouwen krijgen elke week de mogelijkheid om deel te nemen aan de inloop sportochtend. De lessen variëren: soms zijn er Zumba-lessen\, andere keren tafeltennis of stoelgymnastiek voor oudere vrouwen\, en spierversterkende oefeningen\, enzovoort. \nWij gaan begeleiding en individuele coaching aanbieden\, vooral gericht op vrouwen die willen afvallen\, omdat persoonlijke begeleiding vaak effectiever is dan algemene programma’s. \nAf en toe organiseren we ook een workshop gezond koken en samen eten\, zodat de vrouwen kunnen ervaren hoe lekker gezond eten is\, en om verbinding en gezelligheid te creëren.
URL:https://humanhousedelft.nl/event/gratis-sportochtend/2026-12-23/
LOCATION:Wijkcentrum de Vleugel\, Aart van der Leeuwlaan 4\, Delft\, Nederland
CATEGORIES:Human House Delft
ATTACH;FMTTYPE=image/jpeg:https://humanhousedelft.nl/wp-content/uploads/2024/12/gym-5e678ff17ea634174d770fd788a7250d.jpg
END:VEVENT
BEGIN:VEVENT
DTSTART;TZID=Europe/Amsterdam:20261223T100000
DTEND;TZID=Europe/Amsterdam:20261223T120000
DTSTAMP:20260421T075215
CREATED:20240506T093655Z
LAST-MODIFIED:20241112T122941Z
UID:10004915-1798020000-1798027200@humanhousedelft.nl
SUMMARY:KoffieNL
DESCRIPTION:KoffieNL: Koffie drinken en gezellig Nederlands praten in kleine groepjes! \nData alle woensdagen\nKosten gratis\nContactpersoon voor Informatie en opgave Luc 0612424882/ Bernadette 0620837565\nAangeboden door DelftseBuur
URL:https://humanhousedelft.nl/event/koffienl-2/2026-12-23/
LOCATION:Jessehof\, Burgwal 50\, Delft\, Nederland
CATEGORIES:Human House Delft
END:VEVENT
BEGIN:VEVENT
DTSTART;TZID=Europe/Amsterdam:20261223T160000
DTEND;TZID=Europe/Amsterdam:20261223T180000
DTSTAMP:20260421T075215
CREATED:20260409T214700Z
LAST-MODIFIED:20260409T214730Z
UID:10009986-1798041600-1798048800@humanhousedelft.nl
SUMMARY:Carrouselgroep
DESCRIPTION:De Carrouselgroep is een laagdrempelige groepstraining voor volwassen mannen die (als pleger) betrokken zijn bij huiselijk geweld. Het kan gaan om geweld tegen partner of kinderen. Hoe kun je geweld thuis voorkomen? Met die vraag gaan de deelnemers aan de slag. \nDe Carrouselgroep is een training dat bestaat uit een intakegesprek\, acht groepsbijeenkomsten en een afrondende evaluatie met nazorgmoment. \naan deelname zijn geen kosten verbonden en we hanteren gezien de doorstroming geen wachtlijst!
URL:https://humanhousedelft.nl/event/carrouselgroep/2026-12-23/
LOCATION:Wijkcentrum de Vleugel\, Aart van der Leeuwlaan 4\, Delft\, Nederland
CATEGORIES:Human House Delft,Orange The World
ATTACH;FMTTYPE=image/webp:https://humanhousedelft.nl/wp-content/uploads/2026/04/Carrouselgroep_beeld_pratende_mensen-600x375-1.webp
ORGANIZER;CN="Reclassering":MAILTO:carrouselgroep-delft@reclassering.nl
END:VEVENT
BEGIN:VEVENT
DTSTART;TZID=Europe/Amsterdam:20261223T180000
DTEND;TZID=Europe/Amsterdam:20261223T193000
DTSTAMP:20260421T075215
CREATED:20251118T094913Z
LAST-MODIFIED:20251118T094913Z
UID:10007842-1798048800-1798054200@humanhousedelft.nl
SUMMARY:Inloop spreekuur Wetswinkel Delfland
DESCRIPTION:Wij zijn elke maandag en woensdag geopend van 18:15-19:30! Kom bij ons langs voor gratis juridisch advies!
URL:https://humanhousedelft.nl/event/inloop-spreekuur-wetswinkel-delfland/2026-12-23/
LOCATION:Wetswinel Delft\, Van Bleyswijckstraat 91\, Delft\, 2613 RR\, Nederland
CATEGORIES:Human House Delft
ATTACH;FMTTYPE=image/png:https://humanhousedelft.nl/wp-content/uploads/2025/10/Wetswinkel-Delfland_Logo-0ea1b6fc315fc5d7b1ddcafe1d61329b.png
END:VEVENT
BEGIN:VEVENT
DTSTART;TZID=Europe/Amsterdam:20261225T110000
DTEND;TZID=Europe/Amsterdam:20261225T190000
DTSTAMP:20260421T075215
CREATED:20231104T201546Z
LAST-MODIFIED:20241112T122426Z
UID:10003633-1798196400-1798225200@humanhousedelft.nl
SUMMARY:Buurtcafé Taste! Friday een huiskamer voor de wijk
DESCRIPTION:Buurtcafé Taste! Friday een huiskamer voor de wijk; buurtbewoners van de Voorhof ontmoeten elkaar bij goede koffie en huisgemaakte taart. Er zijn geen vaste prijzen\, maar een ‘betaal wat je het waard vindt’-systeem. \nPlaats en tijd: Buurtcafé Taste! aan de Roland Holstlaan 751. Iedere vrijdag tussen 10.00 en 18.00 \nData: Wekelijks\, met een stop tijdens de zomervakantie\nKosten: ‘betaal wat je het waard vindt’\nContactpersoon voor Informatie en opgave: Pieter-Jan Rodenburg\, pieterjan@tastedelft.nl. Opgeven niet nodig\nAangeboden door: Taste!
URL:https://humanhousedelft.nl/event/buurtcafe-taste-friday-een-huiskamer-voor-de-wijk/2026-12-25/
LOCATION:Taste! Voorhof\, Roland Holstlaan 751\, Delft\, Nederland
CATEGORIES:Human House Delft
END:VEVENT
BEGIN:VEVENT
DTSTART;TZID=Europe/Amsterdam:20261227T160000
DTEND;TZID=Europe/Amsterdam:20261227T190000
DTSTAMP:20260421T075215
CREATED:20231104T200219Z
LAST-MODIFIED:20241112T123134Z
UID:10002591-1798387200-1798398000@humanhousedelft.nl
SUMMARY:Taste! Feest
DESCRIPTION:Taste! Feest Een viering rond de Bijbel. Er is koffie\, thee en ontmoeting en een ontspannen\, afwisselende\, interactieve overdenking rond een bijbelgedeelte. \nData: Wekelijks\nKosten: gratis\nContactpersoon voor Informatie en opgave: Pieter-Jan Rodenburg\, pieterjan@tastedelft.nl.\nAangeboden door: Taste!
URL:https://humanhousedelft.nl/event/taste-feest/2026-12-27/
LOCATION:Taste! Voorhof\, Roland Holstlaan 751\, Delft\, Nederland
CATEGORIES:Human House Delft
END:VEVENT
END:VCALENDAR