BEGIN:VCALENDAR
VERSION:2.0
PRODID:-//Human House Delft - ECPv6.15.20//NONSGML v1.0//EN
CALSCALE:GREGORIAN
METHOD:PUBLISH
X-WR-CALNAME:Human House Delft
X-ORIGINAL-URL:https://humanhousedelft.nl
X-WR-CALDESC:Evenementen voor Human House Delft
REFRESH-INTERVAL;VALUE=DURATION:PT1H
X-Robots-Tag:noindex
X-PUBLISHED-TTL:PT1H
BEGIN:VTIMEZONE
TZID:Europe/Amsterdam
BEGIN:DAYLIGHT
TZOFFSETFROM:+0100
TZOFFSETTO:+0200
TZNAME:CEST
DTSTART:20270328T010000
END:DAYLIGHT
BEGIN:STANDARD
TZOFFSETFROM:+0200
TZOFFSETTO:+0100
TZNAME:CET
DTSTART:20271031T010000
END:STANDARD
BEGIN:DAYLIGHT
TZOFFSETFROM:+0100
TZOFFSETTO:+0200
TZNAME:CEST
DTSTART:20280326T010000
END:DAYLIGHT
BEGIN:STANDARD
TZOFFSETFROM:+0200
TZOFFSETTO:+0100
TZNAME:CET
DTSTART:20281029T010000
END:STANDARD
BEGIN:DAYLIGHT
TZOFFSETFROM:+0100
TZOFFSETTO:+0200
TZNAME:CEST
DTSTART:20290325T010000
END:DAYLIGHT
BEGIN:STANDARD
TZOFFSETFROM:+0200
TZOFFSETTO:+0100
TZNAME:CET
DTSTART:20291028T010000
END:STANDARD
END:VTIMEZONE
BEGIN:VEVENT
DTSTART;TZID=Europe/Amsterdam:20280307T093000
DTEND;TZID=Europe/Amsterdam:20280307T120000
DTSTAMP:20260425T030429
CREATED:20250627T111609Z
LAST-MODIFIED:20250627T111609Z
UID:10007217-1836034200-1836043200@humanhousedelft.nl
SUMMARY:spreekuur SchuldHulpMaatje
DESCRIPTION:Het spreekuur van SchuldHulpMaatje is er voor inwoners van Delft die vragen hebben rond hun financiën en administratie. Deze hulp is gratis en zonder oordeel. Wij helpen je graag op weg. Binnenlopen kan zonder afspraak.
URL:https://humanhousedelft.nl/event/spreekuur-schuldhulpmaatje/2028-03-07/
LOCATION:Van Bleyswijckstraat 91\nDelft\, Nederland \n2613 RR Delft
CATEGORIES:Human House Delft
ATTACH;FMTTYPE=image/png:https://humanhousedelft.nl/wp-content/uploads/2025/06/SHM_Delft-logo-b983bb326940eca37f67760cee9a1706.png
END:VEVENT
BEGIN:VEVENT
DTSTART;TZID=Europe/Amsterdam:20280307T110000
DTEND;TZID=Europe/Amsterdam:20280307T130000
DTSTAMP:20260425T030429
CREATED:20231104T201223Z
LAST-MODIFIED:20241112T123007Z
UID:10002914-1836039600-1836046800@humanhousedelft.nl
SUMMARY:Koffieochtend
DESCRIPTION:Koffieochtend om uit het isolement te komen en gelijktijdig de Nederlandse taal te verbeteren \nPlaats en tijd: elke dinsdagochtend van 10-12 uur in het gebouw van het Apostolische Genootschap\, van Adrichemstraat 277\, 2614 BP te Delft\nData: elke dinsdagochtend\nKosten: gratis\nContactpersoon voor Informatie: Nushaba Mirzazade; 0642387299 of via de mail mndr53@live.nl\nAangeboden door: Wereldparels
URL:https://humanhousedelft.nl/event/koffieochtend/2028-03-07/
LOCATION:Apostolische Genootschap\, Adrichemstraat 277\, Delft\, 2614 BP\, Nederland
CATEGORIES:Human House Delft
END:VEVENT
BEGIN:VEVENT
DTSTART;TZID=Europe/Amsterdam:20280308T090000
DTEND;TZID=Europe/Amsterdam:20280308T103000
DTSTAMP:20260425T030429
CREATED:20241229T115325Z
LAST-MODIFIED:20241229T115325Z
UID:10006640-1836118800-1836124200@humanhousedelft.nl
SUMMARY:Gratis Sportochtend
DESCRIPTION:Het initiatief heeft als doel een gezonde leefstijl bij vrouwen te bevorderen. Door zich te richten op bewustwording en ondersteuning op het gebied van voeding\, beweging\, mentale gezondheid en preventieve zorg\, wil het programma vrouwen helpen bij het aannemen en behouden van gezonde gewoontes. \nWij gaan een combinatie van sportactiviteiten en voorlichtingsworkshops organiseren. Vrouwen krijgen elke week de mogelijkheid om deel te nemen aan de inloop sportochtend. De lessen variëren: soms zijn er Zumba-lessen\, andere keren tafeltennis of stoelgymnastiek voor oudere vrouwen\, en spierversterkende oefeningen\, enzovoort. \nWij gaan begeleiding en individuele coaching aanbieden\, vooral gericht op vrouwen die willen afvallen\, omdat persoonlijke begeleiding vaak effectiever is dan algemene programma’s. \nAf en toe organiseren we ook een workshop gezond koken en samen eten\, zodat de vrouwen kunnen ervaren hoe lekker gezond eten is\, en om verbinding en gezelligheid te creëren.
URL:https://humanhousedelft.nl/event/gratis-sportochtend/2028-03-08/
LOCATION:Wijkcentrum de Vleugel\, Aart van der Leeuwlaan 4\, Delft\, Nederland
CATEGORIES:Human House Delft
ATTACH;FMTTYPE=image/jpeg:https://humanhousedelft.nl/wp-content/uploads/2024/12/gym-5e678ff17ea634174d770fd788a7250d.jpg
END:VEVENT
BEGIN:VEVENT
DTSTART;TZID=Europe/Amsterdam:20280308T100000
DTEND;TZID=Europe/Amsterdam:20280308T120000
DTSTAMP:20260425T030429
CREATED:20240506T093655Z
LAST-MODIFIED:20241112T122941Z
UID:10005041-1836122400-1836129600@humanhousedelft.nl
SUMMARY:KoffieNL
DESCRIPTION:KoffieNL: Koffie drinken en gezellig Nederlands praten in kleine groepjes! \nData alle woensdagen\nKosten gratis\nContactpersoon voor Informatie en opgave Luc 0612424882/ Bernadette 0620837565\nAangeboden door DelftseBuur
URL:https://humanhousedelft.nl/event/koffienl-2/2028-03-08/
LOCATION:Jessehof\, Burgwal 50\, Delft\, Nederland
CATEGORIES:Human House Delft
END:VEVENT
BEGIN:VEVENT
DTSTART;TZID=Europe/Amsterdam:20280308T160000
DTEND;TZID=Europe/Amsterdam:20280308T180000
DTSTAMP:20260425T030429
CREATED:20260409T214700Z
LAST-MODIFIED:20260409T214730Z
UID:10010049-1836144000-1836151200@humanhousedelft.nl
SUMMARY:Carrouselgroep
DESCRIPTION:De Carrouselgroep is een laagdrempelige groepstraining voor volwassen mannen die (als pleger) betrokken zijn bij huiselijk geweld. Het kan gaan om geweld tegen partner of kinderen. Hoe kun je geweld thuis voorkomen? Met die vraag gaan de deelnemers aan de slag. \nDe Carrouselgroep is een training dat bestaat uit een intakegesprek\, acht groepsbijeenkomsten en een afrondende evaluatie met nazorgmoment. \naan deelname zijn geen kosten verbonden en we hanteren gezien de doorstroming geen wachtlijst!
URL:https://humanhousedelft.nl/event/carrouselgroep/2028-03-08/
LOCATION:Wijkcentrum de Vleugel\, Aart van der Leeuwlaan 4\, Delft\, Nederland
CATEGORIES:Human House Delft,Orange The World
ATTACH;FMTTYPE=image/webp:https://humanhousedelft.nl/wp-content/uploads/2026/04/Carrouselgroep_beeld_pratende_mensen-600x375-1.webp
ORGANIZER;CN="Reclassering":MAILTO:carrouselgroep-delft@reclassering.nl
END:VEVENT
BEGIN:VEVENT
DTSTART;TZID=Europe/Amsterdam:20280308T180000
DTEND;TZID=Europe/Amsterdam:20280308T193000
DTSTAMP:20260425T030429
CREATED:20251118T094913Z
LAST-MODIFIED:20251118T094913Z
UID:10007968-1836151200-1836156600@humanhousedelft.nl
SUMMARY:Inloop spreekuur Wetswinkel Delfland
DESCRIPTION:Wij zijn elke maandag en woensdag geopend van 18:15-19:30! Kom bij ons langs voor gratis juridisch advies!
URL:https://humanhousedelft.nl/event/inloop-spreekuur-wetswinkel-delfland/2028-03-08/
LOCATION:Wetswinel Delft\, Van Bleyswijckstraat 91\, Delft\, 2613 RR\, Nederland
CATEGORIES:Human House Delft
ATTACH;FMTTYPE=image/png:https://humanhousedelft.nl/wp-content/uploads/2025/10/Wetswinkel-Delfland_Logo-0ea1b6fc315fc5d7b1ddcafe1d61329b.png
END:VEVENT
BEGIN:VEVENT
DTSTART;TZID=Europe/Amsterdam:20280310T110000
DTEND;TZID=Europe/Amsterdam:20280310T190000
DTSTAMP:20260425T030429
CREATED:20231104T201546Z
LAST-MODIFIED:20241112T122426Z
UID:10003696-1836298800-1836327600@humanhousedelft.nl
SUMMARY:Buurtcafé Taste! Friday een huiskamer voor de wijk
DESCRIPTION:Buurtcafé Taste! Friday een huiskamer voor de wijk; buurtbewoners van de Voorhof ontmoeten elkaar bij goede koffie en huisgemaakte taart. Er zijn geen vaste prijzen\, maar een ‘betaal wat je het waard vindt’-systeem. \nPlaats en tijd: Buurtcafé Taste! aan de Roland Holstlaan 751. Iedere vrijdag tussen 10.00 en 18.00 \nData: Wekelijks\, met een stop tijdens de zomervakantie\nKosten: ‘betaal wat je het waard vindt’\nContactpersoon voor Informatie en opgave: Pieter-Jan Rodenburg\, pieterjan@tastedelft.nl. Opgeven niet nodig\nAangeboden door: Taste!
URL:https://humanhousedelft.nl/event/buurtcafe-taste-friday-een-huiskamer-voor-de-wijk/2028-03-10/
LOCATION:Taste! Voorhof\, Roland Holstlaan 751\, Delft\, Nederland
CATEGORIES:Human House Delft
END:VEVENT
BEGIN:VEVENT
DTSTART;TZID=Europe/Amsterdam:20280312T160000
DTEND;TZID=Europe/Amsterdam:20280312T190000
DTSTAMP:20260425T030429
CREATED:20231104T200219Z
LAST-MODIFIED:20241112T123134Z
UID:10002654-1836489600-1836500400@humanhousedelft.nl
SUMMARY:Taste! Feest
DESCRIPTION:Taste! Feest Een viering rond de Bijbel. Er is koffie\, thee en ontmoeting en een ontspannen\, afwisselende\, interactieve overdenking rond een bijbelgedeelte. \nData: Wekelijks\nKosten: gratis\nContactpersoon voor Informatie en opgave: Pieter-Jan Rodenburg\, pieterjan@tastedelft.nl.\nAangeboden door: Taste!
URL:https://humanhousedelft.nl/event/taste-feest/2028-03-12/
LOCATION:Taste! Voorhof\, Roland Holstlaan 751\, Delft\, Nederland
CATEGORIES:Human House Delft
END:VEVENT
BEGIN:VEVENT
DTSTART;TZID=Europe/Amsterdam:20280313T100000
DTEND;TZID=Europe/Amsterdam:20280313T120000
DTSTAMP:20260425T030429
CREATED:20260320T160907Z
LAST-MODIFIED:20260402T202325Z
UID:10009739-1836554400-1836561600@humanhousedelft.nl
SUMMARY:Spreekuur Huiselijk Geweld
DESCRIPTION:Op maandag is er spreekuur Huiselijk Geweld bij Wij West in winkelcentrum de Hoven.\nTijdens het spreekuur kunnen burgers en professionals terecht met vragen omtrent Huiselijk Geweld.\nProfessionals van Arosa in samenwerking met ervaringsdeskundige vanuit Worriors United staan u hier te woord.
URL:https://humanhousedelft.nl/event/spreekuur-huiselijk-geweld/2028-03-13/
LOCATION:Winkelcentrum ‘De Hoven Passage’\, Delft\, Nederland
CATEGORIES:Human House Delft,Orange The World
ATTACH;FMTTYPE=image/png:https://humanhousedelft.nl/wp-content/uploads/2025/12/logo-arosa-nieuwe-slogan-def-bae1518b0dfc00a4d7fa852603dc18cf.png
END:VEVENT
BEGIN:VEVENT
DTSTART;TZID=Europe/Amsterdam:20280313T180000
DTEND;TZID=Europe/Amsterdam:20280313T193000
DTSTAMP:20260425T030429
CREATED:20251118T094913Z
LAST-MODIFIED:20251118T094913Z
UID:10007969-1836583200-1836588600@humanhousedelft.nl
SUMMARY:Inloop spreekuur Wetswinkel Delfland
DESCRIPTION:Wij zijn elke maandag en woensdag geopend van 18:15-19:30! Kom bij ons langs voor gratis juridisch advies!
URL:https://humanhousedelft.nl/event/inloop-spreekuur-wetswinkel-delfland/2028-03-13/
LOCATION:Wetswinel Delft\, Van Bleyswijckstraat 91\, Delft\, 2613 RR\, Nederland
CATEGORIES:Human House Delft
ATTACH;FMTTYPE=image/png:https://humanhousedelft.nl/wp-content/uploads/2025/10/Wetswinkel-Delfland_Logo-0ea1b6fc315fc5d7b1ddcafe1d61329b.png
END:VEVENT
BEGIN:VEVENT
DTSTART;TZID=Europe/Amsterdam:20280314T093000
DTEND;TZID=Europe/Amsterdam:20280314T120000
DTSTAMP:20260425T030429
CREATED:20250627T111609Z
LAST-MODIFIED:20250627T111609Z
UID:10007218-1836639000-1836648000@humanhousedelft.nl
SUMMARY:spreekuur SchuldHulpMaatje
DESCRIPTION:Het spreekuur van SchuldHulpMaatje is er voor inwoners van Delft die vragen hebben rond hun financiën en administratie. Deze hulp is gratis en zonder oordeel. Wij helpen je graag op weg. Binnenlopen kan zonder afspraak.
URL:https://humanhousedelft.nl/event/spreekuur-schuldhulpmaatje/2028-03-14/
LOCATION:Van Bleyswijckstraat 91\nDelft\, Nederland \n2613 RR Delft
CATEGORIES:Human House Delft
ATTACH;FMTTYPE=image/png:https://humanhousedelft.nl/wp-content/uploads/2025/06/SHM_Delft-logo-b983bb326940eca37f67760cee9a1706.png
END:VEVENT
BEGIN:VEVENT
DTSTART;TZID=Europe/Amsterdam:20280314T110000
DTEND;TZID=Europe/Amsterdam:20280314T130000
DTSTAMP:20260425T030429
CREATED:20231104T201223Z
LAST-MODIFIED:20241112T123007Z
UID:10002915-1836644400-1836651600@humanhousedelft.nl
SUMMARY:Koffieochtend
DESCRIPTION:Koffieochtend om uit het isolement te komen en gelijktijdig de Nederlandse taal te verbeteren \nPlaats en tijd: elke dinsdagochtend van 10-12 uur in het gebouw van het Apostolische Genootschap\, van Adrichemstraat 277\, 2614 BP te Delft\nData: elke dinsdagochtend\nKosten: gratis\nContactpersoon voor Informatie: Nushaba Mirzazade; 0642387299 of via de mail mndr53@live.nl\nAangeboden door: Wereldparels
URL:https://humanhousedelft.nl/event/koffieochtend/2028-03-14/
LOCATION:Apostolische Genootschap\, Adrichemstraat 277\, Delft\, 2614 BP\, Nederland
CATEGORIES:Human House Delft
END:VEVENT
BEGIN:VEVENT
DTSTART;TZID=Europe/Amsterdam:20280315T090000
DTEND;TZID=Europe/Amsterdam:20280315T103000
DTSTAMP:20260425T030429
CREATED:20241229T115325Z
LAST-MODIFIED:20241229T115325Z
UID:10006641-1836723600-1836729000@humanhousedelft.nl
SUMMARY:Gratis Sportochtend
DESCRIPTION:Het initiatief heeft als doel een gezonde leefstijl bij vrouwen te bevorderen. Door zich te richten op bewustwording en ondersteuning op het gebied van voeding\, beweging\, mentale gezondheid en preventieve zorg\, wil het programma vrouwen helpen bij het aannemen en behouden van gezonde gewoontes. \nWij gaan een combinatie van sportactiviteiten en voorlichtingsworkshops organiseren. Vrouwen krijgen elke week de mogelijkheid om deel te nemen aan de inloop sportochtend. De lessen variëren: soms zijn er Zumba-lessen\, andere keren tafeltennis of stoelgymnastiek voor oudere vrouwen\, en spierversterkende oefeningen\, enzovoort. \nWij gaan begeleiding en individuele coaching aanbieden\, vooral gericht op vrouwen die willen afvallen\, omdat persoonlijke begeleiding vaak effectiever is dan algemene programma’s. \nAf en toe organiseren we ook een workshop gezond koken en samen eten\, zodat de vrouwen kunnen ervaren hoe lekker gezond eten is\, en om verbinding en gezelligheid te creëren.
URL:https://humanhousedelft.nl/event/gratis-sportochtend/2028-03-15/
LOCATION:Wijkcentrum de Vleugel\, Aart van der Leeuwlaan 4\, Delft\, Nederland
CATEGORIES:Human House Delft
ATTACH;FMTTYPE=image/jpeg:https://humanhousedelft.nl/wp-content/uploads/2024/12/gym-5e678ff17ea634174d770fd788a7250d.jpg
END:VEVENT
BEGIN:VEVENT
DTSTART;TZID=Europe/Amsterdam:20280315T100000
DTEND;TZID=Europe/Amsterdam:20280315T120000
DTSTAMP:20260425T030429
CREATED:20240506T093655Z
LAST-MODIFIED:20241112T122941Z
UID:10005043-1836727200-1836734400@humanhousedelft.nl
SUMMARY:KoffieNL
DESCRIPTION:KoffieNL: Koffie drinken en gezellig Nederlands praten in kleine groepjes! \nData alle woensdagen\nKosten gratis\nContactpersoon voor Informatie en opgave Luc 0612424882/ Bernadette 0620837565\nAangeboden door DelftseBuur
URL:https://humanhousedelft.nl/event/koffienl-2/2028-03-15/
LOCATION:Jessehof\, Burgwal 50\, Delft\, Nederland
CATEGORIES:Human House Delft
END:VEVENT
BEGIN:VEVENT
DTSTART;TZID=Europe/Amsterdam:20280315T160000
DTEND;TZID=Europe/Amsterdam:20280315T180000
DTSTAMP:20260425T030429
CREATED:20260409T214700Z
LAST-MODIFIED:20260409T214730Z
UID:10010050-1836748800-1836756000@humanhousedelft.nl
SUMMARY:Carrouselgroep
DESCRIPTION:De Carrouselgroep is een laagdrempelige groepstraining voor volwassen mannen die (als pleger) betrokken zijn bij huiselijk geweld. Het kan gaan om geweld tegen partner of kinderen. Hoe kun je geweld thuis voorkomen? Met die vraag gaan de deelnemers aan de slag. \nDe Carrouselgroep is een training dat bestaat uit een intakegesprek\, acht groepsbijeenkomsten en een afrondende evaluatie met nazorgmoment. \naan deelname zijn geen kosten verbonden en we hanteren gezien de doorstroming geen wachtlijst!
URL:https://humanhousedelft.nl/event/carrouselgroep/2028-03-15/
LOCATION:Wijkcentrum de Vleugel\, Aart van der Leeuwlaan 4\, Delft\, Nederland
CATEGORIES:Human House Delft,Orange The World
ATTACH;FMTTYPE=image/webp:https://humanhousedelft.nl/wp-content/uploads/2026/04/Carrouselgroep_beeld_pratende_mensen-600x375-1.webp
ORGANIZER;CN="Reclassering":MAILTO:carrouselgroep-delft@reclassering.nl
END:VEVENT
BEGIN:VEVENT
DTSTART;TZID=Europe/Amsterdam:20280315T180000
DTEND;TZID=Europe/Amsterdam:20280315T193000
DTSTAMP:20260425T030429
CREATED:20251118T094913Z
LAST-MODIFIED:20251118T094913Z
UID:10007970-1836756000-1836761400@humanhousedelft.nl
SUMMARY:Inloop spreekuur Wetswinkel Delfland
DESCRIPTION:Wij zijn elke maandag en woensdag geopend van 18:15-19:30! Kom bij ons langs voor gratis juridisch advies!
URL:https://humanhousedelft.nl/event/inloop-spreekuur-wetswinkel-delfland/2028-03-15/
LOCATION:Wetswinel Delft\, Van Bleyswijckstraat 91\, Delft\, 2613 RR\, Nederland
CATEGORIES:Human House Delft
ATTACH;FMTTYPE=image/png:https://humanhousedelft.nl/wp-content/uploads/2025/10/Wetswinkel-Delfland_Logo-0ea1b6fc315fc5d7b1ddcafe1d61329b.png
END:VEVENT
BEGIN:VEVENT
DTSTART;TZID=Europe/Amsterdam:20280317T110000
DTEND;TZID=Europe/Amsterdam:20280317T190000
DTSTAMP:20260425T030429
CREATED:20231104T201546Z
LAST-MODIFIED:20241112T122426Z
UID:10003697-1836903600-1836932400@humanhousedelft.nl
SUMMARY:Buurtcafé Taste! Friday een huiskamer voor de wijk
DESCRIPTION:Buurtcafé Taste! Friday een huiskamer voor de wijk; buurtbewoners van de Voorhof ontmoeten elkaar bij goede koffie en huisgemaakte taart. Er zijn geen vaste prijzen\, maar een ‘betaal wat je het waard vindt’-systeem. \nPlaats en tijd: Buurtcafé Taste! aan de Roland Holstlaan 751. Iedere vrijdag tussen 10.00 en 18.00 \nData: Wekelijks\, met een stop tijdens de zomervakantie\nKosten: ‘betaal wat je het waard vindt’\nContactpersoon voor Informatie en opgave: Pieter-Jan Rodenburg\, pieterjan@tastedelft.nl. Opgeven niet nodig\nAangeboden door: Taste!
URL:https://humanhousedelft.nl/event/buurtcafe-taste-friday-een-huiskamer-voor-de-wijk/2028-03-17/
LOCATION:Taste! Voorhof\, Roland Holstlaan 751\, Delft\, Nederland
CATEGORIES:Human House Delft
END:VEVENT
BEGIN:VEVENT
DTSTART;TZID=Europe/Amsterdam:20280319T160000
DTEND;TZID=Europe/Amsterdam:20280319T190000
DTSTAMP:20260425T030429
CREATED:20231104T200219Z
LAST-MODIFIED:20241112T123134Z
UID:10002655-1837094400-1837105200@humanhousedelft.nl
SUMMARY:Taste! Feest
DESCRIPTION:Taste! Feest Een viering rond de Bijbel. Er is koffie\, thee en ontmoeting en een ontspannen\, afwisselende\, interactieve overdenking rond een bijbelgedeelte. \nData: Wekelijks\nKosten: gratis\nContactpersoon voor Informatie en opgave: Pieter-Jan Rodenburg\, pieterjan@tastedelft.nl.\nAangeboden door: Taste!
URL:https://humanhousedelft.nl/event/taste-feest/2028-03-19/
LOCATION:Taste! Voorhof\, Roland Holstlaan 751\, Delft\, Nederland
CATEGORIES:Human House Delft
END:VEVENT
BEGIN:VEVENT
DTSTART;TZID=Europe/Amsterdam:20280320T100000
DTEND;TZID=Europe/Amsterdam:20280320T120000
DTSTAMP:20260425T030429
CREATED:20260320T160907Z
LAST-MODIFIED:20260402T202325Z
UID:10009740-1837159200-1837166400@humanhousedelft.nl
SUMMARY:Spreekuur Huiselijk Geweld
DESCRIPTION:Op maandag is er spreekuur Huiselijk Geweld bij Wij West in winkelcentrum de Hoven.\nTijdens het spreekuur kunnen burgers en professionals terecht met vragen omtrent Huiselijk Geweld.\nProfessionals van Arosa in samenwerking met ervaringsdeskundige vanuit Worriors United staan u hier te woord.
URL:https://humanhousedelft.nl/event/spreekuur-huiselijk-geweld/2028-03-20/
LOCATION:Winkelcentrum ‘De Hoven Passage’\, Delft\, Nederland
CATEGORIES:Human House Delft,Orange The World
ATTACH;FMTTYPE=image/png:https://humanhousedelft.nl/wp-content/uploads/2025/12/logo-arosa-nieuwe-slogan-def-bae1518b0dfc00a4d7fa852603dc18cf.png
END:VEVENT
BEGIN:VEVENT
DTSTART;TZID=Europe/Amsterdam:20280320T180000
DTEND;TZID=Europe/Amsterdam:20280320T193000
DTSTAMP:20260425T030429
CREATED:20251118T094913Z
LAST-MODIFIED:20251118T094913Z
UID:10007971-1837188000-1837193400@humanhousedelft.nl
SUMMARY:Inloop spreekuur Wetswinkel Delfland
DESCRIPTION:Wij zijn elke maandag en woensdag geopend van 18:15-19:30! Kom bij ons langs voor gratis juridisch advies!
URL:https://humanhousedelft.nl/event/inloop-spreekuur-wetswinkel-delfland/2028-03-20/
LOCATION:Wetswinel Delft\, Van Bleyswijckstraat 91\, Delft\, 2613 RR\, Nederland
CATEGORIES:Human House Delft
ATTACH;FMTTYPE=image/png:https://humanhousedelft.nl/wp-content/uploads/2025/10/Wetswinkel-Delfland_Logo-0ea1b6fc315fc5d7b1ddcafe1d61329b.png
END:VEVENT
BEGIN:VEVENT
DTSTART;TZID=Europe/Amsterdam:20280321T093000
DTEND;TZID=Europe/Amsterdam:20280321T120000
DTSTAMP:20260425T030429
CREATED:20250627T111609Z
LAST-MODIFIED:20250627T111609Z
UID:10007219-1837243800-1837252800@humanhousedelft.nl
SUMMARY:spreekuur SchuldHulpMaatje
DESCRIPTION:Het spreekuur van SchuldHulpMaatje is er voor inwoners van Delft die vragen hebben rond hun financiën en administratie. Deze hulp is gratis en zonder oordeel. Wij helpen je graag op weg. Binnenlopen kan zonder afspraak.
URL:https://humanhousedelft.nl/event/spreekuur-schuldhulpmaatje/2028-03-21/
LOCATION:Van Bleyswijckstraat 91\nDelft\, Nederland \n2613 RR Delft
CATEGORIES:Human House Delft
ATTACH;FMTTYPE=image/png:https://humanhousedelft.nl/wp-content/uploads/2025/06/SHM_Delft-logo-b983bb326940eca37f67760cee9a1706.png
END:VEVENT
BEGIN:VEVENT
DTSTART;TZID=Europe/Amsterdam:20280321T110000
DTEND;TZID=Europe/Amsterdam:20280321T130000
DTSTAMP:20260425T030429
CREATED:20231104T201223Z
LAST-MODIFIED:20241112T123007Z
UID:10002916-1837249200-1837256400@humanhousedelft.nl
SUMMARY:Koffieochtend
DESCRIPTION:Koffieochtend om uit het isolement te komen en gelijktijdig de Nederlandse taal te verbeteren \nPlaats en tijd: elke dinsdagochtend van 10-12 uur in het gebouw van het Apostolische Genootschap\, van Adrichemstraat 277\, 2614 BP te Delft\nData: elke dinsdagochtend\nKosten: gratis\nContactpersoon voor Informatie: Nushaba Mirzazade; 0642387299 of via de mail mndr53@live.nl\nAangeboden door: Wereldparels
URL:https://humanhousedelft.nl/event/koffieochtend/2028-03-21/
LOCATION:Apostolische Genootschap\, Adrichemstraat 277\, Delft\, 2614 BP\, Nederland
CATEGORIES:Human House Delft
END:VEVENT
BEGIN:VEVENT
DTSTART;TZID=Europe/Amsterdam:20280322T090000
DTEND;TZID=Europe/Amsterdam:20280322T103000
DTSTAMP:20260425T030429
CREATED:20241229T115325Z
LAST-MODIFIED:20241229T115325Z
UID:10006642-1837328400-1837333800@humanhousedelft.nl
SUMMARY:Gratis Sportochtend
DESCRIPTION:Het initiatief heeft als doel een gezonde leefstijl bij vrouwen te bevorderen. Door zich te richten op bewustwording en ondersteuning op het gebied van voeding\, beweging\, mentale gezondheid en preventieve zorg\, wil het programma vrouwen helpen bij het aannemen en behouden van gezonde gewoontes. \nWij gaan een combinatie van sportactiviteiten en voorlichtingsworkshops organiseren. Vrouwen krijgen elke week de mogelijkheid om deel te nemen aan de inloop sportochtend. De lessen variëren: soms zijn er Zumba-lessen\, andere keren tafeltennis of stoelgymnastiek voor oudere vrouwen\, en spierversterkende oefeningen\, enzovoort. \nWij gaan begeleiding en individuele coaching aanbieden\, vooral gericht op vrouwen die willen afvallen\, omdat persoonlijke begeleiding vaak effectiever is dan algemene programma’s. \nAf en toe organiseren we ook een workshop gezond koken en samen eten\, zodat de vrouwen kunnen ervaren hoe lekker gezond eten is\, en om verbinding en gezelligheid te creëren.
URL:https://humanhousedelft.nl/event/gratis-sportochtend/2028-03-22/
LOCATION:Wijkcentrum de Vleugel\, Aart van der Leeuwlaan 4\, Delft\, Nederland
CATEGORIES:Human House Delft
ATTACH;FMTTYPE=image/jpeg:https://humanhousedelft.nl/wp-content/uploads/2024/12/gym-5e678ff17ea634174d770fd788a7250d.jpg
END:VEVENT
BEGIN:VEVENT
DTSTART;TZID=Europe/Amsterdam:20280322T100000
DTEND;TZID=Europe/Amsterdam:20280322T120000
DTSTAMP:20260425T030429
CREATED:20240506T093655Z
LAST-MODIFIED:20241112T122941Z
UID:10005045-1837332000-1837339200@humanhousedelft.nl
SUMMARY:KoffieNL
DESCRIPTION:KoffieNL: Koffie drinken en gezellig Nederlands praten in kleine groepjes! \nData alle woensdagen\nKosten gratis\nContactpersoon voor Informatie en opgave Luc 0612424882/ Bernadette 0620837565\nAangeboden door DelftseBuur
URL:https://humanhousedelft.nl/event/koffienl-2/2028-03-22/
LOCATION:Jessehof\, Burgwal 50\, Delft\, Nederland
CATEGORIES:Human House Delft
END:VEVENT
BEGIN:VEVENT
DTSTART;TZID=Europe/Amsterdam:20280322T160000
DTEND;TZID=Europe/Amsterdam:20280322T180000
DTSTAMP:20260425T030429
CREATED:20260409T214700Z
LAST-MODIFIED:20260409T214730Z
UID:10010051-1837353600-1837360800@humanhousedelft.nl
SUMMARY:Carrouselgroep
DESCRIPTION:De Carrouselgroep is een laagdrempelige groepstraining voor volwassen mannen die (als pleger) betrokken zijn bij huiselijk geweld. Het kan gaan om geweld tegen partner of kinderen. Hoe kun je geweld thuis voorkomen? Met die vraag gaan de deelnemers aan de slag. \nDe Carrouselgroep is een training dat bestaat uit een intakegesprek\, acht groepsbijeenkomsten en een afrondende evaluatie met nazorgmoment. \naan deelname zijn geen kosten verbonden en we hanteren gezien de doorstroming geen wachtlijst!
URL:https://humanhousedelft.nl/event/carrouselgroep/2028-03-22/
LOCATION:Wijkcentrum de Vleugel\, Aart van der Leeuwlaan 4\, Delft\, Nederland
CATEGORIES:Human House Delft,Orange The World
ATTACH;FMTTYPE=image/webp:https://humanhousedelft.nl/wp-content/uploads/2026/04/Carrouselgroep_beeld_pratende_mensen-600x375-1.webp
ORGANIZER;CN="Reclassering":MAILTO:carrouselgroep-delft@reclassering.nl
END:VEVENT
BEGIN:VEVENT
DTSTART;TZID=Europe/Amsterdam:20280322T180000
DTEND;TZID=Europe/Amsterdam:20280322T193000
DTSTAMP:20260425T030429
CREATED:20251118T094913Z
LAST-MODIFIED:20251118T094913Z
UID:10007972-1837360800-1837366200@humanhousedelft.nl
SUMMARY:Inloop spreekuur Wetswinkel Delfland
DESCRIPTION:Wij zijn elke maandag en woensdag geopend van 18:15-19:30! Kom bij ons langs voor gratis juridisch advies!
URL:https://humanhousedelft.nl/event/inloop-spreekuur-wetswinkel-delfland/2028-03-22/
LOCATION:Wetswinel Delft\, Van Bleyswijckstraat 91\, Delft\, 2613 RR\, Nederland
CATEGORIES:Human House Delft
ATTACH;FMTTYPE=image/png:https://humanhousedelft.nl/wp-content/uploads/2025/10/Wetswinkel-Delfland_Logo-0ea1b6fc315fc5d7b1ddcafe1d61329b.png
END:VEVENT
BEGIN:VEVENT
DTSTART;TZID=Europe/Amsterdam:20280324T110000
DTEND;TZID=Europe/Amsterdam:20280324T190000
DTSTAMP:20260425T030429
CREATED:20231104T201546Z
LAST-MODIFIED:20241112T122426Z
UID:10003698-1837508400-1837537200@humanhousedelft.nl
SUMMARY:Buurtcafé Taste! Friday een huiskamer voor de wijk
DESCRIPTION:Buurtcafé Taste! Friday een huiskamer voor de wijk; buurtbewoners van de Voorhof ontmoeten elkaar bij goede koffie en huisgemaakte taart. Er zijn geen vaste prijzen\, maar een ‘betaal wat je het waard vindt’-systeem. \nPlaats en tijd: Buurtcafé Taste! aan de Roland Holstlaan 751. Iedere vrijdag tussen 10.00 en 18.00 \nData: Wekelijks\, met een stop tijdens de zomervakantie\nKosten: ‘betaal wat je het waard vindt’\nContactpersoon voor Informatie en opgave: Pieter-Jan Rodenburg\, pieterjan@tastedelft.nl. Opgeven niet nodig\nAangeboden door: Taste!
URL:https://humanhousedelft.nl/event/buurtcafe-taste-friday-een-huiskamer-voor-de-wijk/2028-03-24/
LOCATION:Taste! Voorhof\, Roland Holstlaan 751\, Delft\, Nederland
CATEGORIES:Human House Delft
END:VEVENT
BEGIN:VEVENT
DTSTART;TZID=Europe/Amsterdam:20280326T170000
DTEND;TZID=Europe/Amsterdam:20280326T200000
DTSTAMP:20260425T030429
CREATED:20231104T200219Z
LAST-MODIFIED:20241112T123134Z
UID:10002656-1837702800-1837713600@humanhousedelft.nl
SUMMARY:Taste! Feest
DESCRIPTION:Taste! Feest Een viering rond de Bijbel. Er is koffie\, thee en ontmoeting en een ontspannen\, afwisselende\, interactieve overdenking rond een bijbelgedeelte. \nData: Wekelijks\nKosten: gratis\nContactpersoon voor Informatie en opgave: Pieter-Jan Rodenburg\, pieterjan@tastedelft.nl.\nAangeboden door: Taste!
URL:https://humanhousedelft.nl/event/taste-feest/2028-03-26/
LOCATION:Taste! Voorhof\, Roland Holstlaan 751\, Delft\, Nederland
CATEGORIES:Human House Delft
END:VEVENT
BEGIN:VEVENT
DTSTART;TZID=Europe/Amsterdam:20280327T100000
DTEND;TZID=Europe/Amsterdam:20280327T120000
DTSTAMP:20260425T030429
CREATED:20260320T160907Z
LAST-MODIFIED:20260402T202325Z
UID:10009741-1837764000-1837771200@humanhousedelft.nl
SUMMARY:Spreekuur Huiselijk Geweld
DESCRIPTION:Op maandag is er spreekuur Huiselijk Geweld bij Wij West in winkelcentrum de Hoven.\nTijdens het spreekuur kunnen burgers en professionals terecht met vragen omtrent Huiselijk Geweld.\nProfessionals van Arosa in samenwerking met ervaringsdeskundige vanuit Worriors United staan u hier te woord.
URL:https://humanhousedelft.nl/event/spreekuur-huiselijk-geweld/2028-03-27/
LOCATION:Winkelcentrum ‘De Hoven Passage’\, Delft\, Nederland
CATEGORIES:Human House Delft,Orange The World
ATTACH;FMTTYPE=image/png:https://humanhousedelft.nl/wp-content/uploads/2025/12/logo-arosa-nieuwe-slogan-def-bae1518b0dfc00a4d7fa852603dc18cf.png
END:VEVENT
BEGIN:VEVENT
DTSTART;TZID=Europe/Amsterdam:20280327T180000
DTEND;TZID=Europe/Amsterdam:20280327T193000
DTSTAMP:20260425T030429
CREATED:20251118T094913Z
LAST-MODIFIED:20251118T094913Z
UID:10007973-1837792800-1837798200@humanhousedelft.nl
SUMMARY:Inloop spreekuur Wetswinkel Delfland
DESCRIPTION:Wij zijn elke maandag en woensdag geopend van 18:15-19:30! Kom bij ons langs voor gratis juridisch advies!
URL:https://humanhousedelft.nl/event/inloop-spreekuur-wetswinkel-delfland/2028-03-27/
LOCATION:Wetswinel Delft\, Van Bleyswijckstraat 91\, Delft\, 2613 RR\, Nederland
CATEGORIES:Human House Delft
ATTACH;FMTTYPE=image/png:https://humanhousedelft.nl/wp-content/uploads/2025/10/Wetswinkel-Delfland_Logo-0ea1b6fc315fc5d7b1ddcafe1d61329b.png
END:VEVENT
END:VCALENDAR