BEGIN:VCALENDAR
VERSION:2.0
PRODID:-//Human House Delft - ECPv6.15.20//NONSGML v1.0//EN
CALSCALE:GREGORIAN
METHOD:PUBLISH
X-WR-CALNAME:Human House Delft
X-ORIGINAL-URL:https://humanhousedelft.nl
X-WR-CALDESC:Evenementen voor Human House Delft
REFRESH-INTERVAL;VALUE=DURATION:PT1H
X-Robots-Tag:noindex
X-PUBLISHED-TTL:PT1H
BEGIN:VTIMEZONE
TZID:Europe/Amsterdam
BEGIN:DAYLIGHT
TZOFFSETFROM:+0100
TZOFFSETTO:+0200
TZNAME:CEST
DTSTART:20270328T010000
END:DAYLIGHT
BEGIN:STANDARD
TZOFFSETFROM:+0200
TZOFFSETTO:+0100
TZNAME:CET
DTSTART:20271031T010000
END:STANDARD
BEGIN:DAYLIGHT
TZOFFSETFROM:+0100
TZOFFSETTO:+0200
TZNAME:CEST
DTSTART:20280326T010000
END:DAYLIGHT
BEGIN:STANDARD
TZOFFSETFROM:+0200
TZOFFSETTO:+0100
TZNAME:CET
DTSTART:20281029T010000
END:STANDARD
BEGIN:DAYLIGHT
TZOFFSETFROM:+0100
TZOFFSETTO:+0200
TZNAME:CEST
DTSTART:20290325T010000
END:DAYLIGHT
BEGIN:STANDARD
TZOFFSETFROM:+0200
TZOFFSETTO:+0100
TZNAME:CET
DTSTART:20291028T010000
END:STANDARD
BEGIN:DAYLIGHT
TZOFFSETFROM:+0100
TZOFFSETTO:+0200
TZNAME:CEST
DTSTART:20300331T010000
END:DAYLIGHT
BEGIN:STANDARD
TZOFFSETFROM:+0200
TZOFFSETTO:+0100
TZNAME:CET
DTSTART:20301027T010000
END:STANDARD
END:VTIMEZONE
BEGIN:VEVENT
DTSTART;TZID=Europe/Amsterdam:20281030T180000
DTEND;TZID=Europe/Amsterdam:20281030T193000
DTSTAMP:20260420T105343
CREATED:20251118T094913Z
LAST-MODIFIED:20251118T094913Z
UID:10008035-1856541600-1856547000@humanhousedelft.nl
SUMMARY:Inloop spreekuur Wetswinkel Delfland
DESCRIPTION:Wij zijn elke maandag en woensdag geopend van 18:15-19:30! Kom bij ons langs voor gratis juridisch advies!
URL:https://humanhousedelft.nl/event/inloop-spreekuur-wetswinkel-delfland/2028-10-30/
LOCATION:Wetswinel Delft\, Van Bleyswijckstraat 91\, Delft\, 2613 RR\, Nederland
CATEGORIES:Human House Delft
ATTACH;FMTTYPE=image/png:https://humanhousedelft.nl/wp-content/uploads/2025/10/Wetswinkel-Delfland_Logo-0ea1b6fc315fc5d7b1ddcafe1d61329b.png
END:VEVENT
BEGIN:VEVENT
DTSTART;TZID=Europe/Amsterdam:20281101T180000
DTEND;TZID=Europe/Amsterdam:20281101T193000
DTSTAMP:20260420T105343
CREATED:20251118T094913Z
LAST-MODIFIED:20251118T094913Z
UID:10008036-1856714400-1856719800@humanhousedelft.nl
SUMMARY:Inloop spreekuur Wetswinkel Delfland
DESCRIPTION:Wij zijn elke maandag en woensdag geopend van 18:15-19:30! Kom bij ons langs voor gratis juridisch advies!
URL:https://humanhousedelft.nl/event/inloop-spreekuur-wetswinkel-delfland/2028-11-01/
LOCATION:Wetswinel Delft\, Van Bleyswijckstraat 91\, Delft\, 2613 RR\, Nederland
CATEGORIES:Human House Delft
ATTACH;FMTTYPE=image/png:https://humanhousedelft.nl/wp-content/uploads/2025/10/Wetswinkel-Delfland_Logo-0ea1b6fc315fc5d7b1ddcafe1d61329b.png
END:VEVENT
BEGIN:VEVENT
DTSTART;TZID=Europe/Amsterdam:20281106T180000
DTEND;TZID=Europe/Amsterdam:20281106T193000
DTSTAMP:20260420T105343
CREATED:20251118T094913Z
LAST-MODIFIED:20251118T094913Z
UID:10008037-1857146400-1857151800@humanhousedelft.nl
SUMMARY:Inloop spreekuur Wetswinkel Delfland
DESCRIPTION:Wij zijn elke maandag en woensdag geopend van 18:15-19:30! Kom bij ons langs voor gratis juridisch advies!
URL:https://humanhousedelft.nl/event/inloop-spreekuur-wetswinkel-delfland/2028-11-06/
LOCATION:Wetswinel Delft\, Van Bleyswijckstraat 91\, Delft\, 2613 RR\, Nederland
CATEGORIES:Human House Delft
ATTACH;FMTTYPE=image/png:https://humanhousedelft.nl/wp-content/uploads/2025/10/Wetswinkel-Delfland_Logo-0ea1b6fc315fc5d7b1ddcafe1d61329b.png
END:VEVENT
BEGIN:VEVENT
DTSTART;TZID=Europe/Amsterdam:20281108T180000
DTEND;TZID=Europe/Amsterdam:20281108T193000
DTSTAMP:20260420T105343
CREATED:20251118T094913Z
LAST-MODIFIED:20251118T094913Z
UID:10008038-1857319200-1857324600@humanhousedelft.nl
SUMMARY:Inloop spreekuur Wetswinkel Delfland
DESCRIPTION:Wij zijn elke maandag en woensdag geopend van 18:15-19:30! Kom bij ons langs voor gratis juridisch advies!
URL:https://humanhousedelft.nl/event/inloop-spreekuur-wetswinkel-delfland/2028-11-08/
LOCATION:Wetswinel Delft\, Van Bleyswijckstraat 91\, Delft\, 2613 RR\, Nederland
CATEGORIES:Human House Delft
ATTACH;FMTTYPE=image/png:https://humanhousedelft.nl/wp-content/uploads/2025/10/Wetswinkel-Delfland_Logo-0ea1b6fc315fc5d7b1ddcafe1d61329b.png
END:VEVENT
BEGIN:VEVENT
DTSTART;TZID=Europe/Amsterdam:20281113T180000
DTEND;TZID=Europe/Amsterdam:20281113T193000
DTSTAMP:20260420T105343
CREATED:20251118T094913Z
LAST-MODIFIED:20251118T094913Z
UID:10008039-1857751200-1857756600@humanhousedelft.nl
SUMMARY:Inloop spreekuur Wetswinkel Delfland
DESCRIPTION:Wij zijn elke maandag en woensdag geopend van 18:15-19:30! Kom bij ons langs voor gratis juridisch advies!
URL:https://humanhousedelft.nl/event/inloop-spreekuur-wetswinkel-delfland/2028-11-13/
LOCATION:Wetswinel Delft\, Van Bleyswijckstraat 91\, Delft\, 2613 RR\, Nederland
CATEGORIES:Human House Delft
ATTACH;FMTTYPE=image/png:https://humanhousedelft.nl/wp-content/uploads/2025/10/Wetswinkel-Delfland_Logo-0ea1b6fc315fc5d7b1ddcafe1d61329b.png
END:VEVENT
BEGIN:VEVENT
DTSTART;TZID=Europe/Amsterdam:20281115T180000
DTEND;TZID=Europe/Amsterdam:20281115T193000
DTSTAMP:20260420T105343
CREATED:20251118T094913Z
LAST-MODIFIED:20251118T094913Z
UID:10008040-1857924000-1857929400@humanhousedelft.nl
SUMMARY:Inloop spreekuur Wetswinkel Delfland
DESCRIPTION:Wij zijn elke maandag en woensdag geopend van 18:15-19:30! Kom bij ons langs voor gratis juridisch advies!
URL:https://humanhousedelft.nl/event/inloop-spreekuur-wetswinkel-delfland/2028-11-15/
LOCATION:Wetswinel Delft\, Van Bleyswijckstraat 91\, Delft\, 2613 RR\, Nederland
CATEGORIES:Human House Delft
ATTACH;FMTTYPE=image/png:https://humanhousedelft.nl/wp-content/uploads/2025/10/Wetswinkel-Delfland_Logo-0ea1b6fc315fc5d7b1ddcafe1d61329b.png
END:VEVENT
BEGIN:VEVENT
DTSTART;TZID=Europe/Amsterdam:20281120T180000
DTEND;TZID=Europe/Amsterdam:20281120T193000
DTSTAMP:20260420T105343
CREATED:20251118T094913Z
LAST-MODIFIED:20251118T094913Z
UID:10008041-1858356000-1858361400@humanhousedelft.nl
SUMMARY:Inloop spreekuur Wetswinkel Delfland
DESCRIPTION:Wij zijn elke maandag en woensdag geopend van 18:15-19:30! Kom bij ons langs voor gratis juridisch advies!
URL:https://humanhousedelft.nl/event/inloop-spreekuur-wetswinkel-delfland/2028-11-20/
LOCATION:Wetswinel Delft\, Van Bleyswijckstraat 91\, Delft\, 2613 RR\, Nederland
CATEGORIES:Human House Delft
ATTACH;FMTTYPE=image/png:https://humanhousedelft.nl/wp-content/uploads/2025/10/Wetswinkel-Delfland_Logo-0ea1b6fc315fc5d7b1ddcafe1d61329b.png
END:VEVENT
BEGIN:VEVENT
DTSTART;TZID=Europe/Amsterdam:20281122T180000
DTEND;TZID=Europe/Amsterdam:20281122T193000
DTSTAMP:20260420T105343
CREATED:20251118T094913Z
LAST-MODIFIED:20251118T094913Z
UID:10008042-1858528800-1858534200@humanhousedelft.nl
SUMMARY:Inloop spreekuur Wetswinkel Delfland
DESCRIPTION:Wij zijn elke maandag en woensdag geopend van 18:15-19:30! Kom bij ons langs voor gratis juridisch advies!
URL:https://humanhousedelft.nl/event/inloop-spreekuur-wetswinkel-delfland/2028-11-22/
LOCATION:Wetswinel Delft\, Van Bleyswijckstraat 91\, Delft\, 2613 RR\, Nederland
CATEGORIES:Human House Delft
ATTACH;FMTTYPE=image/png:https://humanhousedelft.nl/wp-content/uploads/2025/10/Wetswinkel-Delfland_Logo-0ea1b6fc315fc5d7b1ddcafe1d61329b.png
END:VEVENT
BEGIN:VEVENT
DTSTART;TZID=Europe/Amsterdam:20281127T180000
DTEND;TZID=Europe/Amsterdam:20281127T193000
DTSTAMP:20260420T105343
CREATED:20251118T094913Z
LAST-MODIFIED:20251118T094913Z
UID:10008043-1858960800-1858966200@humanhousedelft.nl
SUMMARY:Inloop spreekuur Wetswinkel Delfland
DESCRIPTION:Wij zijn elke maandag en woensdag geopend van 18:15-19:30! Kom bij ons langs voor gratis juridisch advies!
URL:https://humanhousedelft.nl/event/inloop-spreekuur-wetswinkel-delfland/2028-11-27/
LOCATION:Wetswinel Delft\, Van Bleyswijckstraat 91\, Delft\, 2613 RR\, Nederland
CATEGORIES:Human House Delft
ATTACH;FMTTYPE=image/png:https://humanhousedelft.nl/wp-content/uploads/2025/10/Wetswinkel-Delfland_Logo-0ea1b6fc315fc5d7b1ddcafe1d61329b.png
END:VEVENT
BEGIN:VEVENT
DTSTART;TZID=Europe/Amsterdam:20281129T180000
DTEND;TZID=Europe/Amsterdam:20281129T193000
DTSTAMP:20260420T105343
CREATED:20251118T094913Z
LAST-MODIFIED:20251118T094913Z
UID:10008044-1859133600-1859139000@humanhousedelft.nl
SUMMARY:Inloop spreekuur Wetswinkel Delfland
DESCRIPTION:Wij zijn elke maandag en woensdag geopend van 18:15-19:30! Kom bij ons langs voor gratis juridisch advies!
URL:https://humanhousedelft.nl/event/inloop-spreekuur-wetswinkel-delfland/2028-11-29/
LOCATION:Wetswinel Delft\, Van Bleyswijckstraat 91\, Delft\, 2613 RR\, Nederland
CATEGORIES:Human House Delft
ATTACH;FMTTYPE=image/png:https://humanhousedelft.nl/wp-content/uploads/2025/10/Wetswinkel-Delfland_Logo-0ea1b6fc315fc5d7b1ddcafe1d61329b.png
END:VEVENT
BEGIN:VEVENT
DTSTART;TZID=Europe/Amsterdam:20281204T180000
DTEND;TZID=Europe/Amsterdam:20281204T193000
DTSTAMP:20260420T105343
CREATED:20251118T094913Z
LAST-MODIFIED:20251118T094913Z
UID:10008045-1859565600-1859571000@humanhousedelft.nl
SUMMARY:Inloop spreekuur Wetswinkel Delfland
DESCRIPTION:Wij zijn elke maandag en woensdag geopend van 18:15-19:30! Kom bij ons langs voor gratis juridisch advies!
URL:https://humanhousedelft.nl/event/inloop-spreekuur-wetswinkel-delfland/2028-12-04/
LOCATION:Wetswinel Delft\, Van Bleyswijckstraat 91\, Delft\, 2613 RR\, Nederland
CATEGORIES:Human House Delft
ATTACH;FMTTYPE=image/png:https://humanhousedelft.nl/wp-content/uploads/2025/10/Wetswinkel-Delfland_Logo-0ea1b6fc315fc5d7b1ddcafe1d61329b.png
END:VEVENT
BEGIN:VEVENT
DTSTART;TZID=Europe/Amsterdam:20281206T180000
DTEND;TZID=Europe/Amsterdam:20281206T193000
DTSTAMP:20260420T105343
CREATED:20251118T094913Z
LAST-MODIFIED:20251118T094913Z
UID:10008046-1859738400-1859743800@humanhousedelft.nl
SUMMARY:Inloop spreekuur Wetswinkel Delfland
DESCRIPTION:Wij zijn elke maandag en woensdag geopend van 18:15-19:30! Kom bij ons langs voor gratis juridisch advies!
URL:https://humanhousedelft.nl/event/inloop-spreekuur-wetswinkel-delfland/2028-12-06/
LOCATION:Wetswinel Delft\, Van Bleyswijckstraat 91\, Delft\, 2613 RR\, Nederland
CATEGORIES:Human House Delft
ATTACH;FMTTYPE=image/png:https://humanhousedelft.nl/wp-content/uploads/2025/10/Wetswinkel-Delfland_Logo-0ea1b6fc315fc5d7b1ddcafe1d61329b.png
END:VEVENT
BEGIN:VEVENT
DTSTART;TZID=Europe/Amsterdam:20281211T180000
DTEND;TZID=Europe/Amsterdam:20281211T193000
DTSTAMP:20260420T105343
CREATED:20251118T094913Z
LAST-MODIFIED:20251118T094913Z
UID:10008047-1860170400-1860175800@humanhousedelft.nl
SUMMARY:Inloop spreekuur Wetswinkel Delfland
DESCRIPTION:Wij zijn elke maandag en woensdag geopend van 18:15-19:30! Kom bij ons langs voor gratis juridisch advies!
URL:https://humanhousedelft.nl/event/inloop-spreekuur-wetswinkel-delfland/2028-12-11/
LOCATION:Wetswinel Delft\, Van Bleyswijckstraat 91\, Delft\, 2613 RR\, Nederland
CATEGORIES:Human House Delft
ATTACH;FMTTYPE=image/png:https://humanhousedelft.nl/wp-content/uploads/2025/10/Wetswinkel-Delfland_Logo-0ea1b6fc315fc5d7b1ddcafe1d61329b.png
END:VEVENT
BEGIN:VEVENT
DTSTART;TZID=Europe/Amsterdam:20281213T180000
DTEND;TZID=Europe/Amsterdam:20281213T193000
DTSTAMP:20260420T105343
CREATED:20251118T094913Z
LAST-MODIFIED:20251118T094913Z
UID:10008048-1860343200-1860348600@humanhousedelft.nl
SUMMARY:Inloop spreekuur Wetswinkel Delfland
DESCRIPTION:Wij zijn elke maandag en woensdag geopend van 18:15-19:30! Kom bij ons langs voor gratis juridisch advies!
URL:https://humanhousedelft.nl/event/inloop-spreekuur-wetswinkel-delfland/2028-12-13/
LOCATION:Wetswinel Delft\, Van Bleyswijckstraat 91\, Delft\, 2613 RR\, Nederland
CATEGORIES:Human House Delft
ATTACH;FMTTYPE=image/png:https://humanhousedelft.nl/wp-content/uploads/2025/10/Wetswinkel-Delfland_Logo-0ea1b6fc315fc5d7b1ddcafe1d61329b.png
END:VEVENT
BEGIN:VEVENT
DTSTART;TZID=Europe/Amsterdam:20281218T180000
DTEND;TZID=Europe/Amsterdam:20281218T193000
DTSTAMP:20260420T105343
CREATED:20251118T094913Z
LAST-MODIFIED:20251118T094913Z
UID:10008049-1860775200-1860780600@humanhousedelft.nl
SUMMARY:Inloop spreekuur Wetswinkel Delfland
DESCRIPTION:Wij zijn elke maandag en woensdag geopend van 18:15-19:30! Kom bij ons langs voor gratis juridisch advies!
URL:https://humanhousedelft.nl/event/inloop-spreekuur-wetswinkel-delfland/2028-12-18/
LOCATION:Wetswinel Delft\, Van Bleyswijckstraat 91\, Delft\, 2613 RR\, Nederland
CATEGORIES:Human House Delft
ATTACH;FMTTYPE=image/png:https://humanhousedelft.nl/wp-content/uploads/2025/10/Wetswinkel-Delfland_Logo-0ea1b6fc315fc5d7b1ddcafe1d61329b.png
END:VEVENT
BEGIN:VEVENT
DTSTART;TZID=Europe/Amsterdam:20281220T180000
DTEND;TZID=Europe/Amsterdam:20281220T193000
DTSTAMP:20260420T105343
CREATED:20251118T094913Z
LAST-MODIFIED:20251118T094913Z
UID:10008050-1860948000-1860953400@humanhousedelft.nl
SUMMARY:Inloop spreekuur Wetswinkel Delfland
DESCRIPTION:Wij zijn elke maandag en woensdag geopend van 18:15-19:30! Kom bij ons langs voor gratis juridisch advies!
URL:https://humanhousedelft.nl/event/inloop-spreekuur-wetswinkel-delfland/2028-12-20/
LOCATION:Wetswinel Delft\, Van Bleyswijckstraat 91\, Delft\, 2613 RR\, Nederland
CATEGORIES:Human House Delft
ATTACH;FMTTYPE=image/png:https://humanhousedelft.nl/wp-content/uploads/2025/10/Wetswinkel-Delfland_Logo-0ea1b6fc315fc5d7b1ddcafe1d61329b.png
END:VEVENT
BEGIN:VEVENT
DTSTART;TZID=Europe/Amsterdam:20281225T180000
DTEND;TZID=Europe/Amsterdam:20281225T193000
DTSTAMP:20260420T105343
CREATED:20251118T094913Z
LAST-MODIFIED:20251118T094913Z
UID:10008051-1861380000-1861385400@humanhousedelft.nl
SUMMARY:Inloop spreekuur Wetswinkel Delfland
DESCRIPTION:Wij zijn elke maandag en woensdag geopend van 18:15-19:30! Kom bij ons langs voor gratis juridisch advies!
URL:https://humanhousedelft.nl/event/inloop-spreekuur-wetswinkel-delfland/2028-12-25/
LOCATION:Wetswinel Delft\, Van Bleyswijckstraat 91\, Delft\, 2613 RR\, Nederland
CATEGORIES:Human House Delft
ATTACH;FMTTYPE=image/png:https://humanhousedelft.nl/wp-content/uploads/2025/10/Wetswinkel-Delfland_Logo-0ea1b6fc315fc5d7b1ddcafe1d61329b.png
END:VEVENT
BEGIN:VEVENT
DTSTART;TZID=Europe/Amsterdam:20281227T180000
DTEND;TZID=Europe/Amsterdam:20281227T193000
DTSTAMP:20260420T105343
CREATED:20251118T094913Z
LAST-MODIFIED:20251118T094913Z
UID:10008052-1861552800-1861558200@humanhousedelft.nl
SUMMARY:Inloop spreekuur Wetswinkel Delfland
DESCRIPTION:Wij zijn elke maandag en woensdag geopend van 18:15-19:30! Kom bij ons langs voor gratis juridisch advies!
URL:https://humanhousedelft.nl/event/inloop-spreekuur-wetswinkel-delfland/2028-12-27/
LOCATION:Wetswinel Delft\, Van Bleyswijckstraat 91\, Delft\, 2613 RR\, Nederland
CATEGORIES:Human House Delft
ATTACH;FMTTYPE=image/png:https://humanhousedelft.nl/wp-content/uploads/2025/10/Wetswinkel-Delfland_Logo-0ea1b6fc315fc5d7b1ddcafe1d61329b.png
END:VEVENT
BEGIN:VEVENT
DTSTART;TZID=Europe/Amsterdam:20290101T180000
DTEND;TZID=Europe/Amsterdam:20290101T193000
DTSTAMP:20260420T105343
CREATED:20251118T094913Z
LAST-MODIFIED:20251118T094913Z
UID:10008053-1861984800-1861990200@humanhousedelft.nl
SUMMARY:Inloop spreekuur Wetswinkel Delfland
DESCRIPTION:Wij zijn elke maandag en woensdag geopend van 18:15-19:30! Kom bij ons langs voor gratis juridisch advies!
URL:https://humanhousedelft.nl/event/inloop-spreekuur-wetswinkel-delfland/2029-01-01/
LOCATION:Wetswinel Delft\, Van Bleyswijckstraat 91\, Delft\, 2613 RR\, Nederland
CATEGORIES:Human House Delft
ATTACH;FMTTYPE=image/png:https://humanhousedelft.nl/wp-content/uploads/2025/10/Wetswinkel-Delfland_Logo-0ea1b6fc315fc5d7b1ddcafe1d61329b.png
END:VEVENT
BEGIN:VEVENT
DTSTART;TZID=Europe/Amsterdam:20290103T180000
DTEND;TZID=Europe/Amsterdam:20290103T193000
DTSTAMP:20260420T105343
CREATED:20251118T094913Z
LAST-MODIFIED:20251118T094913Z
UID:10008054-1862157600-1862163000@humanhousedelft.nl
SUMMARY:Inloop spreekuur Wetswinkel Delfland
DESCRIPTION:Wij zijn elke maandag en woensdag geopend van 18:15-19:30! Kom bij ons langs voor gratis juridisch advies!
URL:https://humanhousedelft.nl/event/inloop-spreekuur-wetswinkel-delfland/2029-01-03/
LOCATION:Wetswinel Delft\, Van Bleyswijckstraat 91\, Delft\, 2613 RR\, Nederland
CATEGORIES:Human House Delft
ATTACH;FMTTYPE=image/png:https://humanhousedelft.nl/wp-content/uploads/2025/10/Wetswinkel-Delfland_Logo-0ea1b6fc315fc5d7b1ddcafe1d61329b.png
END:VEVENT
BEGIN:VEVENT
DTSTART;TZID=Europe/Amsterdam:20290108T180000
DTEND;TZID=Europe/Amsterdam:20290108T193000
DTSTAMP:20260420T105343
CREATED:20251118T094913Z
LAST-MODIFIED:20251118T094913Z
UID:10008055-1862589600-1862595000@humanhousedelft.nl
SUMMARY:Inloop spreekuur Wetswinkel Delfland
DESCRIPTION:Wij zijn elke maandag en woensdag geopend van 18:15-19:30! Kom bij ons langs voor gratis juridisch advies!
URL:https://humanhousedelft.nl/event/inloop-spreekuur-wetswinkel-delfland/2029-01-08/
LOCATION:Wetswinel Delft\, Van Bleyswijckstraat 91\, Delft\, 2613 RR\, Nederland
CATEGORIES:Human House Delft
ATTACH;FMTTYPE=image/png:https://humanhousedelft.nl/wp-content/uploads/2025/10/Wetswinkel-Delfland_Logo-0ea1b6fc315fc5d7b1ddcafe1d61329b.png
END:VEVENT
BEGIN:VEVENT
DTSTART;TZID=Europe/Amsterdam:20290110T180000
DTEND;TZID=Europe/Amsterdam:20290110T193000
DTSTAMP:20260420T105343
CREATED:20251118T094913Z
LAST-MODIFIED:20251118T094913Z
UID:10008056-1862762400-1862767800@humanhousedelft.nl
SUMMARY:Inloop spreekuur Wetswinkel Delfland
DESCRIPTION:Wij zijn elke maandag en woensdag geopend van 18:15-19:30! Kom bij ons langs voor gratis juridisch advies!
URL:https://humanhousedelft.nl/event/inloop-spreekuur-wetswinkel-delfland/2029-01-10/
LOCATION:Wetswinel Delft\, Van Bleyswijckstraat 91\, Delft\, 2613 RR\, Nederland
CATEGORIES:Human House Delft
ATTACH;FMTTYPE=image/png:https://humanhousedelft.nl/wp-content/uploads/2025/10/Wetswinkel-Delfland_Logo-0ea1b6fc315fc5d7b1ddcafe1d61329b.png
END:VEVENT
BEGIN:VEVENT
DTSTART;TZID=Europe/Amsterdam:20290115T180000
DTEND;TZID=Europe/Amsterdam:20290115T193000
DTSTAMP:20260420T105343
CREATED:20251118T094913Z
LAST-MODIFIED:20251118T094913Z
UID:10008057-1863194400-1863199800@humanhousedelft.nl
SUMMARY:Inloop spreekuur Wetswinkel Delfland
DESCRIPTION:Wij zijn elke maandag en woensdag geopend van 18:15-19:30! Kom bij ons langs voor gratis juridisch advies!
URL:https://humanhousedelft.nl/event/inloop-spreekuur-wetswinkel-delfland/2029-01-15/
LOCATION:Wetswinel Delft\, Van Bleyswijckstraat 91\, Delft\, 2613 RR\, Nederland
CATEGORIES:Human House Delft
ATTACH;FMTTYPE=image/png:https://humanhousedelft.nl/wp-content/uploads/2025/10/Wetswinkel-Delfland_Logo-0ea1b6fc315fc5d7b1ddcafe1d61329b.png
END:VEVENT
BEGIN:VEVENT
DTSTART;TZID=Europe/Amsterdam:20290117T180000
DTEND;TZID=Europe/Amsterdam:20290117T193000
DTSTAMP:20260420T105343
CREATED:20251118T094913Z
LAST-MODIFIED:20251118T094913Z
UID:10008058-1863367200-1863372600@humanhousedelft.nl
SUMMARY:Inloop spreekuur Wetswinkel Delfland
DESCRIPTION:Wij zijn elke maandag en woensdag geopend van 18:15-19:30! Kom bij ons langs voor gratis juridisch advies!
URL:https://humanhousedelft.nl/event/inloop-spreekuur-wetswinkel-delfland/2029-01-17/
LOCATION:Wetswinel Delft\, Van Bleyswijckstraat 91\, Delft\, 2613 RR\, Nederland
CATEGORIES:Human House Delft
ATTACH;FMTTYPE=image/png:https://humanhousedelft.nl/wp-content/uploads/2025/10/Wetswinkel-Delfland_Logo-0ea1b6fc315fc5d7b1ddcafe1d61329b.png
END:VEVENT
BEGIN:VEVENT
DTSTART;TZID=Europe/Amsterdam:20290122T180000
DTEND;TZID=Europe/Amsterdam:20290122T193000
DTSTAMP:20260420T105343
CREATED:20251118T094913Z
LAST-MODIFIED:20251118T094913Z
UID:10008059-1863799200-1863804600@humanhousedelft.nl
SUMMARY:Inloop spreekuur Wetswinkel Delfland
DESCRIPTION:Wij zijn elke maandag en woensdag geopend van 18:15-19:30! Kom bij ons langs voor gratis juridisch advies!
URL:https://humanhousedelft.nl/event/inloop-spreekuur-wetswinkel-delfland/2029-01-22/
LOCATION:Wetswinel Delft\, Van Bleyswijckstraat 91\, Delft\, 2613 RR\, Nederland
CATEGORIES:Human House Delft
ATTACH;FMTTYPE=image/png:https://humanhousedelft.nl/wp-content/uploads/2025/10/Wetswinkel-Delfland_Logo-0ea1b6fc315fc5d7b1ddcafe1d61329b.png
END:VEVENT
BEGIN:VEVENT
DTSTART;TZID=Europe/Amsterdam:20290124T180000
DTEND;TZID=Europe/Amsterdam:20290124T193000
DTSTAMP:20260420T105343
CREATED:20251118T094913Z
LAST-MODIFIED:20251118T094913Z
UID:10008060-1863972000-1863977400@humanhousedelft.nl
SUMMARY:Inloop spreekuur Wetswinkel Delfland
DESCRIPTION:Wij zijn elke maandag en woensdag geopend van 18:15-19:30! Kom bij ons langs voor gratis juridisch advies!
URL:https://humanhousedelft.nl/event/inloop-spreekuur-wetswinkel-delfland/2029-01-24/
LOCATION:Wetswinel Delft\, Van Bleyswijckstraat 91\, Delft\, 2613 RR\, Nederland
CATEGORIES:Human House Delft
ATTACH;FMTTYPE=image/png:https://humanhousedelft.nl/wp-content/uploads/2025/10/Wetswinkel-Delfland_Logo-0ea1b6fc315fc5d7b1ddcafe1d61329b.png
END:VEVENT
BEGIN:VEVENT
DTSTART;TZID=Europe/Amsterdam:20290129T180000
DTEND;TZID=Europe/Amsterdam:20290129T193000
DTSTAMP:20260420T105343
CREATED:20251118T094913Z
LAST-MODIFIED:20251118T094913Z
UID:10008061-1864404000-1864409400@humanhousedelft.nl
SUMMARY:Inloop spreekuur Wetswinkel Delfland
DESCRIPTION:Wij zijn elke maandag en woensdag geopend van 18:15-19:30! Kom bij ons langs voor gratis juridisch advies!
URL:https://humanhousedelft.nl/event/inloop-spreekuur-wetswinkel-delfland/2029-01-29/
LOCATION:Wetswinel Delft\, Van Bleyswijckstraat 91\, Delft\, 2613 RR\, Nederland
CATEGORIES:Human House Delft
ATTACH;FMTTYPE=image/png:https://humanhousedelft.nl/wp-content/uploads/2025/10/Wetswinkel-Delfland_Logo-0ea1b6fc315fc5d7b1ddcafe1d61329b.png
END:VEVENT
BEGIN:VEVENT
DTSTART;TZID=Europe/Amsterdam:20290131T180000
DTEND;TZID=Europe/Amsterdam:20290131T193000
DTSTAMP:20260420T105343
CREATED:20251118T094913Z
LAST-MODIFIED:20251118T094913Z
UID:10008062-1864576800-1864582200@humanhousedelft.nl
SUMMARY:Inloop spreekuur Wetswinkel Delfland
DESCRIPTION:Wij zijn elke maandag en woensdag geopend van 18:15-19:30! Kom bij ons langs voor gratis juridisch advies!
URL:https://humanhousedelft.nl/event/inloop-spreekuur-wetswinkel-delfland/2029-01-31/
LOCATION:Wetswinel Delft\, Van Bleyswijckstraat 91\, Delft\, 2613 RR\, Nederland
CATEGORIES:Human House Delft
ATTACH;FMTTYPE=image/png:https://humanhousedelft.nl/wp-content/uploads/2025/10/Wetswinkel-Delfland_Logo-0ea1b6fc315fc5d7b1ddcafe1d61329b.png
END:VEVENT
BEGIN:VEVENT
DTSTART;TZID=Europe/Amsterdam:20290205T180000
DTEND;TZID=Europe/Amsterdam:20290205T193000
DTSTAMP:20260420T105343
CREATED:20251118T094913Z
LAST-MODIFIED:20251118T094913Z
UID:10008063-1865008800-1865014200@humanhousedelft.nl
SUMMARY:Inloop spreekuur Wetswinkel Delfland
DESCRIPTION:Wij zijn elke maandag en woensdag geopend van 18:15-19:30! Kom bij ons langs voor gratis juridisch advies!
URL:https://humanhousedelft.nl/event/inloop-spreekuur-wetswinkel-delfland/2029-02-05/
LOCATION:Wetswinel Delft\, Van Bleyswijckstraat 91\, Delft\, 2613 RR\, Nederland
CATEGORIES:Human House Delft
ATTACH;FMTTYPE=image/png:https://humanhousedelft.nl/wp-content/uploads/2025/10/Wetswinkel-Delfland_Logo-0ea1b6fc315fc5d7b1ddcafe1d61329b.png
END:VEVENT
BEGIN:VEVENT
DTSTART;TZID=Europe/Amsterdam:20290207T180000
DTEND;TZID=Europe/Amsterdam:20290207T193000
DTSTAMP:20260420T105343
CREATED:20251118T094913Z
LAST-MODIFIED:20251118T094913Z
UID:10008064-1865181600-1865187000@humanhousedelft.nl
SUMMARY:Inloop spreekuur Wetswinkel Delfland
DESCRIPTION:Wij zijn elke maandag en woensdag geopend van 18:15-19:30! Kom bij ons langs voor gratis juridisch advies!
URL:https://humanhousedelft.nl/event/inloop-spreekuur-wetswinkel-delfland/2029-02-07/
LOCATION:Wetswinel Delft\, Van Bleyswijckstraat 91\, Delft\, 2613 RR\, Nederland
CATEGORIES:Human House Delft
ATTACH;FMTTYPE=image/png:https://humanhousedelft.nl/wp-content/uploads/2025/10/Wetswinkel-Delfland_Logo-0ea1b6fc315fc5d7b1ddcafe1d61329b.png
END:VEVENT
END:VCALENDAR