BEGIN:VCALENDAR
VERSION:2.0
PRODID:-//Human House Delft - ECPv6.15.20//NONSGML v1.0//EN
CALSCALE:GREGORIAN
METHOD:PUBLISH
X-ORIGINAL-URL:https://humanhousedelft.nl
X-WR-CALDESC:Evenementen voor Human House Delft
REFRESH-INTERVAL;VALUE=DURATION:PT1H
X-Robots-Tag:noindex
X-PUBLISHED-TTL:PT1H
BEGIN:VTIMEZONE
TZID:Europe/Amsterdam
BEGIN:DAYLIGHT
TZOFFSETFROM:+0100
TZOFFSETTO:+0200
TZNAME:CEST
DTSTART:20280326T010000
END:DAYLIGHT
BEGIN:STANDARD
TZOFFSETFROM:+0200
TZOFFSETTO:+0100
TZNAME:CET
DTSTART:20281029T010000
END:STANDARD
BEGIN:DAYLIGHT
TZOFFSETFROM:+0100
TZOFFSETTO:+0200
TZNAME:CEST
DTSTART:20290325T010000
END:DAYLIGHT
BEGIN:STANDARD
TZOFFSETFROM:+0200
TZOFFSETTO:+0100
TZNAME:CET
DTSTART:20291028T010000
END:STANDARD
BEGIN:DAYLIGHT
TZOFFSETFROM:+0100
TZOFFSETTO:+0200
TZNAME:CEST
DTSTART:20300331T010000
END:DAYLIGHT
BEGIN:STANDARD
TZOFFSETFROM:+0200
TZOFFSETTO:+0100
TZNAME:CET
DTSTART:20301027T010000
END:STANDARD
END:VTIMEZONE
BEGIN:VEVENT
DTSTART;TZID=Europe/Amsterdam:20290711T180000
DTEND;TZID=Europe/Amsterdam:20290711T193000
DTSTAMP:20260420T204146
CREATED:20251118T094913Z
LAST-MODIFIED:20251118T094913Z
UID:10008108-1878487200-1878492600@humanhousedelft.nl
SUMMARY:Inloop spreekuur Wetswinkel Delfland
DESCRIPTION:Wij zijn elke maandag en woensdag geopend van 18:15-19:30! Kom bij ons langs voor gratis juridisch advies!
URL:https://humanhousedelft.nl/event/inloop-spreekuur-wetswinkel-delfland/2029-07-11/
LOCATION:Wetswinel Delft\, Van Bleyswijckstraat 91\, Delft\, 2613 RR\, Nederland
CATEGORIES:Human House Delft
ATTACH;FMTTYPE=image/png:https://humanhousedelft.nl/wp-content/uploads/2025/10/Wetswinkel-Delfland_Logo-0ea1b6fc315fc5d7b1ddcafe1d61329b.png
END:VEVENT
BEGIN:VEVENT
DTSTART;TZID=Europe/Amsterdam:20290716T180000
DTEND;TZID=Europe/Amsterdam:20290716T193000
DTSTAMP:20260420T204146
CREATED:20251118T094913Z
LAST-MODIFIED:20251118T094913Z
UID:10008109-1878919200-1878924600@humanhousedelft.nl
SUMMARY:Inloop spreekuur Wetswinkel Delfland
DESCRIPTION:Wij zijn elke maandag en woensdag geopend van 18:15-19:30! Kom bij ons langs voor gratis juridisch advies!
URL:https://humanhousedelft.nl/event/inloop-spreekuur-wetswinkel-delfland/2029-07-16/
LOCATION:Wetswinel Delft\, Van Bleyswijckstraat 91\, Delft\, 2613 RR\, Nederland
CATEGORIES:Human House Delft
ATTACH;FMTTYPE=image/png:https://humanhousedelft.nl/wp-content/uploads/2025/10/Wetswinkel-Delfland_Logo-0ea1b6fc315fc5d7b1ddcafe1d61329b.png
END:VEVENT
BEGIN:VEVENT
DTSTART;TZID=Europe/Amsterdam:20290718T180000
DTEND;TZID=Europe/Amsterdam:20290718T193000
DTSTAMP:20260420T204146
CREATED:20251118T094913Z
LAST-MODIFIED:20251118T094913Z
UID:10008110-1879092000-1879097400@humanhousedelft.nl
SUMMARY:Inloop spreekuur Wetswinkel Delfland
DESCRIPTION:Wij zijn elke maandag en woensdag geopend van 18:15-19:30! Kom bij ons langs voor gratis juridisch advies!
URL:https://humanhousedelft.nl/event/inloop-spreekuur-wetswinkel-delfland/2029-07-18/
LOCATION:Wetswinel Delft\, Van Bleyswijckstraat 91\, Delft\, 2613 RR\, Nederland
CATEGORIES:Human House Delft
ATTACH;FMTTYPE=image/png:https://humanhousedelft.nl/wp-content/uploads/2025/10/Wetswinkel-Delfland_Logo-0ea1b6fc315fc5d7b1ddcafe1d61329b.png
END:VEVENT
BEGIN:VEVENT
DTSTART;TZID=Europe/Amsterdam:20290723T180000
DTEND;TZID=Europe/Amsterdam:20290723T193000
DTSTAMP:20260420T204146
CREATED:20251118T094913Z
LAST-MODIFIED:20251118T094913Z
UID:10008111-1879524000-1879529400@humanhousedelft.nl
SUMMARY:Inloop spreekuur Wetswinkel Delfland
DESCRIPTION:Wij zijn elke maandag en woensdag geopend van 18:15-19:30! Kom bij ons langs voor gratis juridisch advies!
URL:https://humanhousedelft.nl/event/inloop-spreekuur-wetswinkel-delfland/2029-07-23/
LOCATION:Wetswinel Delft\, Van Bleyswijckstraat 91\, Delft\, 2613 RR\, Nederland
CATEGORIES:Human House Delft
ATTACH;FMTTYPE=image/png:https://humanhousedelft.nl/wp-content/uploads/2025/10/Wetswinkel-Delfland_Logo-0ea1b6fc315fc5d7b1ddcafe1d61329b.png
END:VEVENT
BEGIN:VEVENT
DTSTART;TZID=Europe/Amsterdam:20290725T180000
DTEND;TZID=Europe/Amsterdam:20290725T193000
DTSTAMP:20260420T204146
CREATED:20251118T094913Z
LAST-MODIFIED:20251118T094913Z
UID:10008112-1879696800-1879702200@humanhousedelft.nl
SUMMARY:Inloop spreekuur Wetswinkel Delfland
DESCRIPTION:Wij zijn elke maandag en woensdag geopend van 18:15-19:30! Kom bij ons langs voor gratis juridisch advies!
URL:https://humanhousedelft.nl/event/inloop-spreekuur-wetswinkel-delfland/2029-07-25/
LOCATION:Wetswinel Delft\, Van Bleyswijckstraat 91\, Delft\, 2613 RR\, Nederland
CATEGORIES:Human House Delft
ATTACH;FMTTYPE=image/png:https://humanhousedelft.nl/wp-content/uploads/2025/10/Wetswinkel-Delfland_Logo-0ea1b6fc315fc5d7b1ddcafe1d61329b.png
END:VEVENT
BEGIN:VEVENT
DTSTART;TZID=Europe/Amsterdam:20290730T180000
DTEND;TZID=Europe/Amsterdam:20290730T193000
DTSTAMP:20260420T204146
CREATED:20251118T094913Z
LAST-MODIFIED:20251118T094913Z
UID:10008113-1880128800-1880134200@humanhousedelft.nl
SUMMARY:Inloop spreekuur Wetswinkel Delfland
DESCRIPTION:Wij zijn elke maandag en woensdag geopend van 18:15-19:30! Kom bij ons langs voor gratis juridisch advies!
URL:https://humanhousedelft.nl/event/inloop-spreekuur-wetswinkel-delfland/2029-07-30/
LOCATION:Wetswinel Delft\, Van Bleyswijckstraat 91\, Delft\, 2613 RR\, Nederland
CATEGORIES:Human House Delft
ATTACH;FMTTYPE=image/png:https://humanhousedelft.nl/wp-content/uploads/2025/10/Wetswinkel-Delfland_Logo-0ea1b6fc315fc5d7b1ddcafe1d61329b.png
END:VEVENT
BEGIN:VEVENT
DTSTART;TZID=Europe/Amsterdam:20290801T180000
DTEND;TZID=Europe/Amsterdam:20290801T193000
DTSTAMP:20260420T204146
CREATED:20251118T094913Z
LAST-MODIFIED:20251118T094913Z
UID:10008114-1880301600-1880307000@humanhousedelft.nl
SUMMARY:Inloop spreekuur Wetswinkel Delfland
DESCRIPTION:Wij zijn elke maandag en woensdag geopend van 18:15-19:30! Kom bij ons langs voor gratis juridisch advies!
URL:https://humanhousedelft.nl/event/inloop-spreekuur-wetswinkel-delfland/2029-08-01/
LOCATION:Wetswinel Delft\, Van Bleyswijckstraat 91\, Delft\, 2613 RR\, Nederland
CATEGORIES:Human House Delft
ATTACH;FMTTYPE=image/png:https://humanhousedelft.nl/wp-content/uploads/2025/10/Wetswinkel-Delfland_Logo-0ea1b6fc315fc5d7b1ddcafe1d61329b.png
END:VEVENT
BEGIN:VEVENT
DTSTART;TZID=Europe/Amsterdam:20290806T180000
DTEND;TZID=Europe/Amsterdam:20290806T193000
DTSTAMP:20260420T204146
CREATED:20251118T094913Z
LAST-MODIFIED:20251118T094913Z
UID:10008115-1880733600-1880739000@humanhousedelft.nl
SUMMARY:Inloop spreekuur Wetswinkel Delfland
DESCRIPTION:Wij zijn elke maandag en woensdag geopend van 18:15-19:30! Kom bij ons langs voor gratis juridisch advies!
URL:https://humanhousedelft.nl/event/inloop-spreekuur-wetswinkel-delfland/2029-08-06/
LOCATION:Wetswinel Delft\, Van Bleyswijckstraat 91\, Delft\, 2613 RR\, Nederland
CATEGORIES:Human House Delft
ATTACH;FMTTYPE=image/png:https://humanhousedelft.nl/wp-content/uploads/2025/10/Wetswinkel-Delfland_Logo-0ea1b6fc315fc5d7b1ddcafe1d61329b.png
END:VEVENT
BEGIN:VEVENT
DTSTART;TZID=Europe/Amsterdam:20290808T180000
DTEND;TZID=Europe/Amsterdam:20290808T193000
DTSTAMP:20260420T204146
CREATED:20251118T094913Z
LAST-MODIFIED:20251118T094913Z
UID:10008116-1880906400-1880911800@humanhousedelft.nl
SUMMARY:Inloop spreekuur Wetswinkel Delfland
DESCRIPTION:Wij zijn elke maandag en woensdag geopend van 18:15-19:30! Kom bij ons langs voor gratis juridisch advies!
URL:https://humanhousedelft.nl/event/inloop-spreekuur-wetswinkel-delfland/2029-08-08/
LOCATION:Wetswinel Delft\, Van Bleyswijckstraat 91\, Delft\, 2613 RR\, Nederland
CATEGORIES:Human House Delft
ATTACH;FMTTYPE=image/png:https://humanhousedelft.nl/wp-content/uploads/2025/10/Wetswinkel-Delfland_Logo-0ea1b6fc315fc5d7b1ddcafe1d61329b.png
END:VEVENT
BEGIN:VEVENT
DTSTART;TZID=Europe/Amsterdam:20290813T180000
DTEND;TZID=Europe/Amsterdam:20290813T193000
DTSTAMP:20260420T204146
CREATED:20251118T094913Z
LAST-MODIFIED:20251118T094913Z
UID:10008117-1881338400-1881343800@humanhousedelft.nl
SUMMARY:Inloop spreekuur Wetswinkel Delfland
DESCRIPTION:Wij zijn elke maandag en woensdag geopend van 18:15-19:30! Kom bij ons langs voor gratis juridisch advies!
URL:https://humanhousedelft.nl/event/inloop-spreekuur-wetswinkel-delfland/2029-08-13/
LOCATION:Wetswinel Delft\, Van Bleyswijckstraat 91\, Delft\, 2613 RR\, Nederland
CATEGORIES:Human House Delft
ATTACH;FMTTYPE=image/png:https://humanhousedelft.nl/wp-content/uploads/2025/10/Wetswinkel-Delfland_Logo-0ea1b6fc315fc5d7b1ddcafe1d61329b.png
END:VEVENT
BEGIN:VEVENT
DTSTART;TZID=Europe/Amsterdam:20290815T180000
DTEND;TZID=Europe/Amsterdam:20290815T193000
DTSTAMP:20260420T204146
CREATED:20251118T094913Z
LAST-MODIFIED:20251118T094913Z
UID:10008118-1881511200-1881516600@humanhousedelft.nl
SUMMARY:Inloop spreekuur Wetswinkel Delfland
DESCRIPTION:Wij zijn elke maandag en woensdag geopend van 18:15-19:30! Kom bij ons langs voor gratis juridisch advies!
URL:https://humanhousedelft.nl/event/inloop-spreekuur-wetswinkel-delfland/2029-08-15/
LOCATION:Wetswinel Delft\, Van Bleyswijckstraat 91\, Delft\, 2613 RR\, Nederland
CATEGORIES:Human House Delft
ATTACH;FMTTYPE=image/png:https://humanhousedelft.nl/wp-content/uploads/2025/10/Wetswinkel-Delfland_Logo-0ea1b6fc315fc5d7b1ddcafe1d61329b.png
END:VEVENT
BEGIN:VEVENT
DTSTART;TZID=Europe/Amsterdam:20290820T180000
DTEND;TZID=Europe/Amsterdam:20290820T193000
DTSTAMP:20260420T204146
CREATED:20251118T094913Z
LAST-MODIFIED:20251118T094913Z
UID:10008119-1881943200-1881948600@humanhousedelft.nl
SUMMARY:Inloop spreekuur Wetswinkel Delfland
DESCRIPTION:Wij zijn elke maandag en woensdag geopend van 18:15-19:30! Kom bij ons langs voor gratis juridisch advies!
URL:https://humanhousedelft.nl/event/inloop-spreekuur-wetswinkel-delfland/2029-08-20/
LOCATION:Wetswinel Delft\, Van Bleyswijckstraat 91\, Delft\, 2613 RR\, Nederland
CATEGORIES:Human House Delft
ATTACH;FMTTYPE=image/png:https://humanhousedelft.nl/wp-content/uploads/2025/10/Wetswinkel-Delfland_Logo-0ea1b6fc315fc5d7b1ddcafe1d61329b.png
END:VEVENT
BEGIN:VEVENT
DTSTART;TZID=Europe/Amsterdam:20290822T180000
DTEND;TZID=Europe/Amsterdam:20290822T193000
DTSTAMP:20260420T204146
CREATED:20251118T094913Z
LAST-MODIFIED:20251118T094913Z
UID:10008120-1882116000-1882121400@humanhousedelft.nl
SUMMARY:Inloop spreekuur Wetswinkel Delfland
DESCRIPTION:Wij zijn elke maandag en woensdag geopend van 18:15-19:30! Kom bij ons langs voor gratis juridisch advies!
URL:https://humanhousedelft.nl/event/inloop-spreekuur-wetswinkel-delfland/2029-08-22/
LOCATION:Wetswinel Delft\, Van Bleyswijckstraat 91\, Delft\, 2613 RR\, Nederland
CATEGORIES:Human House Delft
ATTACH;FMTTYPE=image/png:https://humanhousedelft.nl/wp-content/uploads/2025/10/Wetswinkel-Delfland_Logo-0ea1b6fc315fc5d7b1ddcafe1d61329b.png
END:VEVENT
BEGIN:VEVENT
DTSTART;TZID=Europe/Amsterdam:20290827T180000
DTEND;TZID=Europe/Amsterdam:20290827T193000
DTSTAMP:20260420T204146
CREATED:20251118T094913Z
LAST-MODIFIED:20251118T094913Z
UID:10008121-1882548000-1882553400@humanhousedelft.nl
SUMMARY:Inloop spreekuur Wetswinkel Delfland
DESCRIPTION:Wij zijn elke maandag en woensdag geopend van 18:15-19:30! Kom bij ons langs voor gratis juridisch advies!
URL:https://humanhousedelft.nl/event/inloop-spreekuur-wetswinkel-delfland/2029-08-27/
LOCATION:Wetswinel Delft\, Van Bleyswijckstraat 91\, Delft\, 2613 RR\, Nederland
CATEGORIES:Human House Delft
ATTACH;FMTTYPE=image/png:https://humanhousedelft.nl/wp-content/uploads/2025/10/Wetswinkel-Delfland_Logo-0ea1b6fc315fc5d7b1ddcafe1d61329b.png
END:VEVENT
BEGIN:VEVENT
DTSTART;TZID=Europe/Amsterdam:20290829T180000
DTEND;TZID=Europe/Amsterdam:20290829T193000
DTSTAMP:20260420T204146
CREATED:20251118T094913Z
LAST-MODIFIED:20251118T094913Z
UID:10008122-1882720800-1882726200@humanhousedelft.nl
SUMMARY:Inloop spreekuur Wetswinkel Delfland
DESCRIPTION:Wij zijn elke maandag en woensdag geopend van 18:15-19:30! Kom bij ons langs voor gratis juridisch advies!
URL:https://humanhousedelft.nl/event/inloop-spreekuur-wetswinkel-delfland/2029-08-29/
LOCATION:Wetswinel Delft\, Van Bleyswijckstraat 91\, Delft\, 2613 RR\, Nederland
CATEGORIES:Human House Delft
ATTACH;FMTTYPE=image/png:https://humanhousedelft.nl/wp-content/uploads/2025/10/Wetswinkel-Delfland_Logo-0ea1b6fc315fc5d7b1ddcafe1d61329b.png
END:VEVENT
BEGIN:VEVENT
DTSTART;TZID=Europe/Amsterdam:20290903T180000
DTEND;TZID=Europe/Amsterdam:20290903T193000
DTSTAMP:20260420T204146
CREATED:20251118T094913Z
LAST-MODIFIED:20251118T094913Z
UID:10008123-1883152800-1883158200@humanhousedelft.nl
SUMMARY:Inloop spreekuur Wetswinkel Delfland
DESCRIPTION:Wij zijn elke maandag en woensdag geopend van 18:15-19:30! Kom bij ons langs voor gratis juridisch advies!
URL:https://humanhousedelft.nl/event/inloop-spreekuur-wetswinkel-delfland/2029-09-03/
LOCATION:Wetswinel Delft\, Van Bleyswijckstraat 91\, Delft\, 2613 RR\, Nederland
CATEGORIES:Human House Delft
ATTACH;FMTTYPE=image/png:https://humanhousedelft.nl/wp-content/uploads/2025/10/Wetswinkel-Delfland_Logo-0ea1b6fc315fc5d7b1ddcafe1d61329b.png
END:VEVENT
BEGIN:VEVENT
DTSTART;TZID=Europe/Amsterdam:20290905T180000
DTEND;TZID=Europe/Amsterdam:20290905T193000
DTSTAMP:20260420T204146
CREATED:20251118T094913Z
LAST-MODIFIED:20251118T094913Z
UID:10008124-1883325600-1883331000@humanhousedelft.nl
SUMMARY:Inloop spreekuur Wetswinkel Delfland
DESCRIPTION:Wij zijn elke maandag en woensdag geopend van 18:15-19:30! Kom bij ons langs voor gratis juridisch advies!
URL:https://humanhousedelft.nl/event/inloop-spreekuur-wetswinkel-delfland/2029-09-05/
LOCATION:Wetswinel Delft\, Van Bleyswijckstraat 91\, Delft\, 2613 RR\, Nederland
CATEGORIES:Human House Delft
ATTACH;FMTTYPE=image/png:https://humanhousedelft.nl/wp-content/uploads/2025/10/Wetswinkel-Delfland_Logo-0ea1b6fc315fc5d7b1ddcafe1d61329b.png
END:VEVENT
BEGIN:VEVENT
DTSTART;TZID=Europe/Amsterdam:20290910T180000
DTEND;TZID=Europe/Amsterdam:20290910T193000
DTSTAMP:20260420T204146
CREATED:20251118T094913Z
LAST-MODIFIED:20251118T094913Z
UID:10008125-1883757600-1883763000@humanhousedelft.nl
SUMMARY:Inloop spreekuur Wetswinkel Delfland
DESCRIPTION:Wij zijn elke maandag en woensdag geopend van 18:15-19:30! Kom bij ons langs voor gratis juridisch advies!
URL:https://humanhousedelft.nl/event/inloop-spreekuur-wetswinkel-delfland/2029-09-10/
LOCATION:Wetswinel Delft\, Van Bleyswijckstraat 91\, Delft\, 2613 RR\, Nederland
CATEGORIES:Human House Delft
ATTACH;FMTTYPE=image/png:https://humanhousedelft.nl/wp-content/uploads/2025/10/Wetswinkel-Delfland_Logo-0ea1b6fc315fc5d7b1ddcafe1d61329b.png
END:VEVENT
BEGIN:VEVENT
DTSTART;TZID=Europe/Amsterdam:20290912T180000
DTEND;TZID=Europe/Amsterdam:20290912T193000
DTSTAMP:20260420T204146
CREATED:20251118T094913Z
LAST-MODIFIED:20251118T094913Z
UID:10008126-1883930400-1883935800@humanhousedelft.nl
SUMMARY:Inloop spreekuur Wetswinkel Delfland
DESCRIPTION:Wij zijn elke maandag en woensdag geopend van 18:15-19:30! Kom bij ons langs voor gratis juridisch advies!
URL:https://humanhousedelft.nl/event/inloop-spreekuur-wetswinkel-delfland/2029-09-12/
LOCATION:Wetswinel Delft\, Van Bleyswijckstraat 91\, Delft\, 2613 RR\, Nederland
CATEGORIES:Human House Delft
ATTACH;FMTTYPE=image/png:https://humanhousedelft.nl/wp-content/uploads/2025/10/Wetswinkel-Delfland_Logo-0ea1b6fc315fc5d7b1ddcafe1d61329b.png
END:VEVENT
BEGIN:VEVENT
DTSTART;TZID=Europe/Amsterdam:20290917T180000
DTEND;TZID=Europe/Amsterdam:20290917T193000
DTSTAMP:20260420T204146
CREATED:20251118T094913Z
LAST-MODIFIED:20251118T094913Z
UID:10008127-1884362400-1884367800@humanhousedelft.nl
SUMMARY:Inloop spreekuur Wetswinkel Delfland
DESCRIPTION:Wij zijn elke maandag en woensdag geopend van 18:15-19:30! Kom bij ons langs voor gratis juridisch advies!
URL:https://humanhousedelft.nl/event/inloop-spreekuur-wetswinkel-delfland/2029-09-17/
LOCATION:Wetswinel Delft\, Van Bleyswijckstraat 91\, Delft\, 2613 RR\, Nederland
CATEGORIES:Human House Delft
ATTACH;FMTTYPE=image/png:https://humanhousedelft.nl/wp-content/uploads/2025/10/Wetswinkel-Delfland_Logo-0ea1b6fc315fc5d7b1ddcafe1d61329b.png
END:VEVENT
BEGIN:VEVENT
DTSTART;TZID=Europe/Amsterdam:20290919T180000
DTEND;TZID=Europe/Amsterdam:20290919T193000
DTSTAMP:20260420T204146
CREATED:20251118T094913Z
LAST-MODIFIED:20251118T094913Z
UID:10008128-1884535200-1884540600@humanhousedelft.nl
SUMMARY:Inloop spreekuur Wetswinkel Delfland
DESCRIPTION:Wij zijn elke maandag en woensdag geopend van 18:15-19:30! Kom bij ons langs voor gratis juridisch advies!
URL:https://humanhousedelft.nl/event/inloop-spreekuur-wetswinkel-delfland/2029-09-19/
LOCATION:Wetswinel Delft\, Van Bleyswijckstraat 91\, Delft\, 2613 RR\, Nederland
CATEGORIES:Human House Delft
ATTACH;FMTTYPE=image/png:https://humanhousedelft.nl/wp-content/uploads/2025/10/Wetswinkel-Delfland_Logo-0ea1b6fc315fc5d7b1ddcafe1d61329b.png
END:VEVENT
BEGIN:VEVENT
DTSTART;TZID=Europe/Amsterdam:20290924T180000
DTEND;TZID=Europe/Amsterdam:20290924T193000
DTSTAMP:20260420T204146
CREATED:20251118T094913Z
LAST-MODIFIED:20251118T094913Z
UID:10008129-1884967200-1884972600@humanhousedelft.nl
SUMMARY:Inloop spreekuur Wetswinkel Delfland
DESCRIPTION:Wij zijn elke maandag en woensdag geopend van 18:15-19:30! Kom bij ons langs voor gratis juridisch advies!
URL:https://humanhousedelft.nl/event/inloop-spreekuur-wetswinkel-delfland/2029-09-24/
LOCATION:Wetswinel Delft\, Van Bleyswijckstraat 91\, Delft\, 2613 RR\, Nederland
CATEGORIES:Human House Delft
ATTACH;FMTTYPE=image/png:https://humanhousedelft.nl/wp-content/uploads/2025/10/Wetswinkel-Delfland_Logo-0ea1b6fc315fc5d7b1ddcafe1d61329b.png
END:VEVENT
BEGIN:VEVENT
DTSTART;TZID=Europe/Amsterdam:20290926T180000
DTEND;TZID=Europe/Amsterdam:20290926T193000
DTSTAMP:20260420T204146
CREATED:20251118T094913Z
LAST-MODIFIED:20251118T094913Z
UID:10008130-1885140000-1885145400@humanhousedelft.nl
SUMMARY:Inloop spreekuur Wetswinkel Delfland
DESCRIPTION:Wij zijn elke maandag en woensdag geopend van 18:15-19:30! Kom bij ons langs voor gratis juridisch advies!
URL:https://humanhousedelft.nl/event/inloop-spreekuur-wetswinkel-delfland/2029-09-26/
LOCATION:Wetswinel Delft\, Van Bleyswijckstraat 91\, Delft\, 2613 RR\, Nederland
CATEGORIES:Human House Delft
ATTACH;FMTTYPE=image/png:https://humanhousedelft.nl/wp-content/uploads/2025/10/Wetswinkel-Delfland_Logo-0ea1b6fc315fc5d7b1ddcafe1d61329b.png
END:VEVENT
BEGIN:VEVENT
DTSTART;TZID=Europe/Amsterdam:20291001T180000
DTEND;TZID=Europe/Amsterdam:20291001T193000
DTSTAMP:20260420T204146
CREATED:20251118T094913Z
LAST-MODIFIED:20251118T094913Z
UID:10008131-1885572000-1885577400@humanhousedelft.nl
SUMMARY:Inloop spreekuur Wetswinkel Delfland
DESCRIPTION:Wij zijn elke maandag en woensdag geopend van 18:15-19:30! Kom bij ons langs voor gratis juridisch advies!
URL:https://humanhousedelft.nl/event/inloop-spreekuur-wetswinkel-delfland/2029-10-01/
LOCATION:Wetswinel Delft\, Van Bleyswijckstraat 91\, Delft\, 2613 RR\, Nederland
CATEGORIES:Human House Delft
ATTACH;FMTTYPE=image/png:https://humanhousedelft.nl/wp-content/uploads/2025/10/Wetswinkel-Delfland_Logo-0ea1b6fc315fc5d7b1ddcafe1d61329b.png
END:VEVENT
BEGIN:VEVENT
DTSTART;TZID=Europe/Amsterdam:20291003T180000
DTEND;TZID=Europe/Amsterdam:20291003T193000
DTSTAMP:20260420T204146
CREATED:20251118T094913Z
LAST-MODIFIED:20251118T094913Z
UID:10008132-1885744800-1885750200@humanhousedelft.nl
SUMMARY:Inloop spreekuur Wetswinkel Delfland
DESCRIPTION:Wij zijn elke maandag en woensdag geopend van 18:15-19:30! Kom bij ons langs voor gratis juridisch advies!
URL:https://humanhousedelft.nl/event/inloop-spreekuur-wetswinkel-delfland/2029-10-03/
LOCATION:Wetswinel Delft\, Van Bleyswijckstraat 91\, Delft\, 2613 RR\, Nederland
CATEGORIES:Human House Delft
ATTACH;FMTTYPE=image/png:https://humanhousedelft.nl/wp-content/uploads/2025/10/Wetswinkel-Delfland_Logo-0ea1b6fc315fc5d7b1ddcafe1d61329b.png
END:VEVENT
BEGIN:VEVENT
DTSTART;TZID=Europe/Amsterdam:20291008T180000
DTEND;TZID=Europe/Amsterdam:20291008T193000
DTSTAMP:20260420T204146
CREATED:20251118T094913Z
LAST-MODIFIED:20251118T094913Z
UID:10008133-1886176800-1886182200@humanhousedelft.nl
SUMMARY:Inloop spreekuur Wetswinkel Delfland
DESCRIPTION:Wij zijn elke maandag en woensdag geopend van 18:15-19:30! Kom bij ons langs voor gratis juridisch advies!
URL:https://humanhousedelft.nl/event/inloop-spreekuur-wetswinkel-delfland/2029-10-08/
LOCATION:Wetswinel Delft\, Van Bleyswijckstraat 91\, Delft\, 2613 RR\, Nederland
CATEGORIES:Human House Delft
ATTACH;FMTTYPE=image/png:https://humanhousedelft.nl/wp-content/uploads/2025/10/Wetswinkel-Delfland_Logo-0ea1b6fc315fc5d7b1ddcafe1d61329b.png
END:VEVENT
BEGIN:VEVENT
DTSTART;TZID=Europe/Amsterdam:20291010T180000
DTEND;TZID=Europe/Amsterdam:20291010T193000
DTSTAMP:20260420T204146
CREATED:20251118T094913Z
LAST-MODIFIED:20251118T094913Z
UID:10008134-1886349600-1886355000@humanhousedelft.nl
SUMMARY:Inloop spreekuur Wetswinkel Delfland
DESCRIPTION:Wij zijn elke maandag en woensdag geopend van 18:15-19:30! Kom bij ons langs voor gratis juridisch advies!
URL:https://humanhousedelft.nl/event/inloop-spreekuur-wetswinkel-delfland/2029-10-10/
LOCATION:Wetswinel Delft\, Van Bleyswijckstraat 91\, Delft\, 2613 RR\, Nederland
CATEGORIES:Human House Delft
ATTACH;FMTTYPE=image/png:https://humanhousedelft.nl/wp-content/uploads/2025/10/Wetswinkel-Delfland_Logo-0ea1b6fc315fc5d7b1ddcafe1d61329b.png
END:VEVENT
BEGIN:VEVENT
DTSTART;TZID=Europe/Amsterdam:20291015T180000
DTEND;TZID=Europe/Amsterdam:20291015T193000
DTSTAMP:20260420T204146
CREATED:20251118T094913Z
LAST-MODIFIED:20251118T094913Z
UID:10008135-1886781600-1886787000@humanhousedelft.nl
SUMMARY:Inloop spreekuur Wetswinkel Delfland
DESCRIPTION:Wij zijn elke maandag en woensdag geopend van 18:15-19:30! Kom bij ons langs voor gratis juridisch advies!
URL:https://humanhousedelft.nl/event/inloop-spreekuur-wetswinkel-delfland/2029-10-15/
LOCATION:Wetswinel Delft\, Van Bleyswijckstraat 91\, Delft\, 2613 RR\, Nederland
CATEGORIES:Human House Delft
ATTACH;FMTTYPE=image/png:https://humanhousedelft.nl/wp-content/uploads/2025/10/Wetswinkel-Delfland_Logo-0ea1b6fc315fc5d7b1ddcafe1d61329b.png
END:VEVENT
BEGIN:VEVENT
DTSTART;TZID=Europe/Amsterdam:20291017T180000
DTEND;TZID=Europe/Amsterdam:20291017T193000
DTSTAMP:20260420T204146
CREATED:20251118T094913Z
LAST-MODIFIED:20251118T094913Z
UID:10008136-1886954400-1886959800@humanhousedelft.nl
SUMMARY:Inloop spreekuur Wetswinkel Delfland
DESCRIPTION:Wij zijn elke maandag en woensdag geopend van 18:15-19:30! Kom bij ons langs voor gratis juridisch advies!
URL:https://humanhousedelft.nl/event/inloop-spreekuur-wetswinkel-delfland/2029-10-17/
LOCATION:Wetswinel Delft\, Van Bleyswijckstraat 91\, Delft\, 2613 RR\, Nederland
CATEGORIES:Human House Delft
ATTACH;FMTTYPE=image/png:https://humanhousedelft.nl/wp-content/uploads/2025/10/Wetswinkel-Delfland_Logo-0ea1b6fc315fc5d7b1ddcafe1d61329b.png
END:VEVENT
BEGIN:VEVENT
DTSTART;TZID=Europe/Amsterdam:20291022T180000
DTEND;TZID=Europe/Amsterdam:20291022T193000
DTSTAMP:20260420T204146
CREATED:20251118T094913Z
LAST-MODIFIED:20251118T094913Z
UID:10008137-1887386400-1887391800@humanhousedelft.nl
SUMMARY:Inloop spreekuur Wetswinkel Delfland
DESCRIPTION:Wij zijn elke maandag en woensdag geopend van 18:15-19:30! Kom bij ons langs voor gratis juridisch advies!
URL:https://humanhousedelft.nl/event/inloop-spreekuur-wetswinkel-delfland/2029-10-22/
LOCATION:Wetswinel Delft\, Van Bleyswijckstraat 91\, Delft\, 2613 RR\, Nederland
CATEGORIES:Human House Delft
ATTACH;FMTTYPE=image/png:https://humanhousedelft.nl/wp-content/uploads/2025/10/Wetswinkel-Delfland_Logo-0ea1b6fc315fc5d7b1ddcafe1d61329b.png
END:VEVENT
END:VCALENDAR