BEGIN:VCALENDAR
VERSION:2.0
PRODID:-//Human House Delft - ECPv6.15.20//NONSGML v1.0//EN
CALSCALE:GREGORIAN
METHOD:PUBLISH
X-WR-CALNAME:Human House Delft
X-ORIGINAL-URL:https://humanhousedelft.nl
X-WR-CALDESC:Evenementen voor Human House Delft
REFRESH-INTERVAL;VALUE=DURATION:PT1H
X-Robots-Tag:noindex
X-PUBLISHED-TTL:PT1H
BEGIN:VTIMEZONE
TZID:Europe/Amsterdam
BEGIN:DAYLIGHT
TZOFFSETFROM:+0100
TZOFFSETTO:+0200
TZNAME:CEST
DTSTART:20280326T010000
END:DAYLIGHT
BEGIN:STANDARD
TZOFFSETFROM:+0200
TZOFFSETTO:+0100
TZNAME:CET
DTSTART:20281029T010000
END:STANDARD
BEGIN:DAYLIGHT
TZOFFSETFROM:+0100
TZOFFSETTO:+0200
TZNAME:CEST
DTSTART:20290325T010000
END:DAYLIGHT
BEGIN:STANDARD
TZOFFSETFROM:+0200
TZOFFSETTO:+0100
TZNAME:CET
DTSTART:20291028T010000
END:STANDARD
BEGIN:DAYLIGHT
TZOFFSETFROM:+0100
TZOFFSETTO:+0200
TZNAME:CEST
DTSTART:20300331T010000
END:DAYLIGHT
BEGIN:STANDARD
TZOFFSETFROM:+0200
TZOFFSETTO:+0100
TZNAME:CET
DTSTART:20301027T010000
END:STANDARD
BEGIN:DAYLIGHT
TZOFFSETFROM:+0100
TZOFFSETTO:+0200
TZNAME:CEST
DTSTART:20310330T010000
END:DAYLIGHT
BEGIN:STANDARD
TZOFFSETFROM:+0200
TZOFFSETTO:+0100
TZNAME:CET
DTSTART:20311026T010000
END:STANDARD
END:VTIMEZONE
BEGIN:VEVENT
DTSTART;TZID=Europe/Amsterdam:20291003T180000
DTEND;TZID=Europe/Amsterdam:20291003T193000
DTSTAMP:20260421T000032
CREATED:20251118T094913Z
LAST-MODIFIED:20251118T094913Z
UID:10008132-1885744800-1885750200@humanhousedelft.nl
SUMMARY:Inloop spreekuur Wetswinkel Delfland
DESCRIPTION:Wij zijn elke maandag en woensdag geopend van 18:15-19:30! Kom bij ons langs voor gratis juridisch advies!
URL:https://humanhousedelft.nl/event/inloop-spreekuur-wetswinkel-delfland/2029-10-03/
LOCATION:Wetswinel Delft\, Van Bleyswijckstraat 91\, Delft\, 2613 RR\, Nederland
CATEGORIES:Human House Delft
ATTACH;FMTTYPE=image/png:https://humanhousedelft.nl/wp-content/uploads/2025/10/Wetswinkel-Delfland_Logo-0ea1b6fc315fc5d7b1ddcafe1d61329b.png
END:VEVENT
BEGIN:VEVENT
DTSTART;TZID=Europe/Amsterdam:20291008T180000
DTEND;TZID=Europe/Amsterdam:20291008T193000
DTSTAMP:20260421T000032
CREATED:20251118T094913Z
LAST-MODIFIED:20251118T094913Z
UID:10008133-1886176800-1886182200@humanhousedelft.nl
SUMMARY:Inloop spreekuur Wetswinkel Delfland
DESCRIPTION:Wij zijn elke maandag en woensdag geopend van 18:15-19:30! Kom bij ons langs voor gratis juridisch advies!
URL:https://humanhousedelft.nl/event/inloop-spreekuur-wetswinkel-delfland/2029-10-08/
LOCATION:Wetswinel Delft\, Van Bleyswijckstraat 91\, Delft\, 2613 RR\, Nederland
CATEGORIES:Human House Delft
ATTACH;FMTTYPE=image/png:https://humanhousedelft.nl/wp-content/uploads/2025/10/Wetswinkel-Delfland_Logo-0ea1b6fc315fc5d7b1ddcafe1d61329b.png
END:VEVENT
BEGIN:VEVENT
DTSTART;TZID=Europe/Amsterdam:20291010T180000
DTEND;TZID=Europe/Amsterdam:20291010T193000
DTSTAMP:20260421T000032
CREATED:20251118T094913Z
LAST-MODIFIED:20251118T094913Z
UID:10008134-1886349600-1886355000@humanhousedelft.nl
SUMMARY:Inloop spreekuur Wetswinkel Delfland
DESCRIPTION:Wij zijn elke maandag en woensdag geopend van 18:15-19:30! Kom bij ons langs voor gratis juridisch advies!
URL:https://humanhousedelft.nl/event/inloop-spreekuur-wetswinkel-delfland/2029-10-10/
LOCATION:Wetswinel Delft\, Van Bleyswijckstraat 91\, Delft\, 2613 RR\, Nederland
CATEGORIES:Human House Delft
ATTACH;FMTTYPE=image/png:https://humanhousedelft.nl/wp-content/uploads/2025/10/Wetswinkel-Delfland_Logo-0ea1b6fc315fc5d7b1ddcafe1d61329b.png
END:VEVENT
BEGIN:VEVENT
DTSTART;TZID=Europe/Amsterdam:20291015T180000
DTEND;TZID=Europe/Amsterdam:20291015T193000
DTSTAMP:20260421T000032
CREATED:20251118T094913Z
LAST-MODIFIED:20251118T094913Z
UID:10008135-1886781600-1886787000@humanhousedelft.nl
SUMMARY:Inloop spreekuur Wetswinkel Delfland
DESCRIPTION:Wij zijn elke maandag en woensdag geopend van 18:15-19:30! Kom bij ons langs voor gratis juridisch advies!
URL:https://humanhousedelft.nl/event/inloop-spreekuur-wetswinkel-delfland/2029-10-15/
LOCATION:Wetswinel Delft\, Van Bleyswijckstraat 91\, Delft\, 2613 RR\, Nederland
CATEGORIES:Human House Delft
ATTACH;FMTTYPE=image/png:https://humanhousedelft.nl/wp-content/uploads/2025/10/Wetswinkel-Delfland_Logo-0ea1b6fc315fc5d7b1ddcafe1d61329b.png
END:VEVENT
BEGIN:VEVENT
DTSTART;TZID=Europe/Amsterdam:20291017T180000
DTEND;TZID=Europe/Amsterdam:20291017T193000
DTSTAMP:20260421T000032
CREATED:20251118T094913Z
LAST-MODIFIED:20251118T094913Z
UID:10008136-1886954400-1886959800@humanhousedelft.nl
SUMMARY:Inloop spreekuur Wetswinkel Delfland
DESCRIPTION:Wij zijn elke maandag en woensdag geopend van 18:15-19:30! Kom bij ons langs voor gratis juridisch advies!
URL:https://humanhousedelft.nl/event/inloop-spreekuur-wetswinkel-delfland/2029-10-17/
LOCATION:Wetswinel Delft\, Van Bleyswijckstraat 91\, Delft\, 2613 RR\, Nederland
CATEGORIES:Human House Delft
ATTACH;FMTTYPE=image/png:https://humanhousedelft.nl/wp-content/uploads/2025/10/Wetswinkel-Delfland_Logo-0ea1b6fc315fc5d7b1ddcafe1d61329b.png
END:VEVENT
BEGIN:VEVENT
DTSTART;TZID=Europe/Amsterdam:20291022T180000
DTEND;TZID=Europe/Amsterdam:20291022T193000
DTSTAMP:20260421T000032
CREATED:20251118T094913Z
LAST-MODIFIED:20251118T094913Z
UID:10008137-1887386400-1887391800@humanhousedelft.nl
SUMMARY:Inloop spreekuur Wetswinkel Delfland
DESCRIPTION:Wij zijn elke maandag en woensdag geopend van 18:15-19:30! Kom bij ons langs voor gratis juridisch advies!
URL:https://humanhousedelft.nl/event/inloop-spreekuur-wetswinkel-delfland/2029-10-22/
LOCATION:Wetswinel Delft\, Van Bleyswijckstraat 91\, Delft\, 2613 RR\, Nederland
CATEGORIES:Human House Delft
ATTACH;FMTTYPE=image/png:https://humanhousedelft.nl/wp-content/uploads/2025/10/Wetswinkel-Delfland_Logo-0ea1b6fc315fc5d7b1ddcafe1d61329b.png
END:VEVENT
BEGIN:VEVENT
DTSTART;TZID=Europe/Amsterdam:20291024T180000
DTEND;TZID=Europe/Amsterdam:20291024T193000
DTSTAMP:20260421T000032
CREATED:20251118T094913Z
LAST-MODIFIED:20251118T094913Z
UID:10008138-1887559200-1887564600@humanhousedelft.nl
SUMMARY:Inloop spreekuur Wetswinkel Delfland
DESCRIPTION:Wij zijn elke maandag en woensdag geopend van 18:15-19:30! Kom bij ons langs voor gratis juridisch advies!
URL:https://humanhousedelft.nl/event/inloop-spreekuur-wetswinkel-delfland/2029-10-24/
LOCATION:Wetswinel Delft\, Van Bleyswijckstraat 91\, Delft\, 2613 RR\, Nederland
CATEGORIES:Human House Delft
ATTACH;FMTTYPE=image/png:https://humanhousedelft.nl/wp-content/uploads/2025/10/Wetswinkel-Delfland_Logo-0ea1b6fc315fc5d7b1ddcafe1d61329b.png
END:VEVENT
BEGIN:VEVENT
DTSTART;TZID=Europe/Amsterdam:20291029T180000
DTEND;TZID=Europe/Amsterdam:20291029T193000
DTSTAMP:20260421T000033
CREATED:20251118T094913Z
LAST-MODIFIED:20251118T094913Z
UID:10008139-1887991200-1887996600@humanhousedelft.nl
SUMMARY:Inloop spreekuur Wetswinkel Delfland
DESCRIPTION:Wij zijn elke maandag en woensdag geopend van 18:15-19:30! Kom bij ons langs voor gratis juridisch advies!
URL:https://humanhousedelft.nl/event/inloop-spreekuur-wetswinkel-delfland/2029-10-29/
LOCATION:Wetswinel Delft\, Van Bleyswijckstraat 91\, Delft\, 2613 RR\, Nederland
CATEGORIES:Human House Delft
ATTACH;FMTTYPE=image/png:https://humanhousedelft.nl/wp-content/uploads/2025/10/Wetswinkel-Delfland_Logo-0ea1b6fc315fc5d7b1ddcafe1d61329b.png
END:VEVENT
BEGIN:VEVENT
DTSTART;TZID=Europe/Amsterdam:20291031T180000
DTEND;TZID=Europe/Amsterdam:20291031T193000
DTSTAMP:20260421T000033
CREATED:20251118T094913Z
LAST-MODIFIED:20251118T094913Z
UID:10008140-1888164000-1888169400@humanhousedelft.nl
SUMMARY:Inloop spreekuur Wetswinkel Delfland
DESCRIPTION:Wij zijn elke maandag en woensdag geopend van 18:15-19:30! Kom bij ons langs voor gratis juridisch advies!
URL:https://humanhousedelft.nl/event/inloop-spreekuur-wetswinkel-delfland/2029-10-31/
LOCATION:Wetswinel Delft\, Van Bleyswijckstraat 91\, Delft\, 2613 RR\, Nederland
CATEGORIES:Human House Delft
ATTACH;FMTTYPE=image/png:https://humanhousedelft.nl/wp-content/uploads/2025/10/Wetswinkel-Delfland_Logo-0ea1b6fc315fc5d7b1ddcafe1d61329b.png
END:VEVENT
BEGIN:VEVENT
DTSTART;TZID=Europe/Amsterdam:20291105T180000
DTEND;TZID=Europe/Amsterdam:20291105T193000
DTSTAMP:20260421T000033
CREATED:20251118T094913Z
LAST-MODIFIED:20251118T094913Z
UID:10008141-1888596000-1888601400@humanhousedelft.nl
SUMMARY:Inloop spreekuur Wetswinkel Delfland
DESCRIPTION:Wij zijn elke maandag en woensdag geopend van 18:15-19:30! Kom bij ons langs voor gratis juridisch advies!
URL:https://humanhousedelft.nl/event/inloop-spreekuur-wetswinkel-delfland/2029-11-05/
LOCATION:Wetswinel Delft\, Van Bleyswijckstraat 91\, Delft\, 2613 RR\, Nederland
CATEGORIES:Human House Delft
ATTACH;FMTTYPE=image/png:https://humanhousedelft.nl/wp-content/uploads/2025/10/Wetswinkel-Delfland_Logo-0ea1b6fc315fc5d7b1ddcafe1d61329b.png
END:VEVENT
BEGIN:VEVENT
DTSTART;TZID=Europe/Amsterdam:20291107T180000
DTEND;TZID=Europe/Amsterdam:20291107T193000
DTSTAMP:20260421T000033
CREATED:20251118T094913Z
LAST-MODIFIED:20251118T094913Z
UID:10008142-1888768800-1888774200@humanhousedelft.nl
SUMMARY:Inloop spreekuur Wetswinkel Delfland
DESCRIPTION:Wij zijn elke maandag en woensdag geopend van 18:15-19:30! Kom bij ons langs voor gratis juridisch advies!
URL:https://humanhousedelft.nl/event/inloop-spreekuur-wetswinkel-delfland/2029-11-07/
LOCATION:Wetswinel Delft\, Van Bleyswijckstraat 91\, Delft\, 2613 RR\, Nederland
CATEGORIES:Human House Delft
ATTACH;FMTTYPE=image/png:https://humanhousedelft.nl/wp-content/uploads/2025/10/Wetswinkel-Delfland_Logo-0ea1b6fc315fc5d7b1ddcafe1d61329b.png
END:VEVENT
BEGIN:VEVENT
DTSTART;TZID=Europe/Amsterdam:20291112T180000
DTEND;TZID=Europe/Amsterdam:20291112T193000
DTSTAMP:20260421T000033
CREATED:20251118T094913Z
LAST-MODIFIED:20251118T094913Z
UID:10008143-1889200800-1889206200@humanhousedelft.nl
SUMMARY:Inloop spreekuur Wetswinkel Delfland
DESCRIPTION:Wij zijn elke maandag en woensdag geopend van 18:15-19:30! Kom bij ons langs voor gratis juridisch advies!
URL:https://humanhousedelft.nl/event/inloop-spreekuur-wetswinkel-delfland/2029-11-12/
LOCATION:Wetswinel Delft\, Van Bleyswijckstraat 91\, Delft\, 2613 RR\, Nederland
CATEGORIES:Human House Delft
ATTACH;FMTTYPE=image/png:https://humanhousedelft.nl/wp-content/uploads/2025/10/Wetswinkel-Delfland_Logo-0ea1b6fc315fc5d7b1ddcafe1d61329b.png
END:VEVENT
BEGIN:VEVENT
DTSTART;TZID=Europe/Amsterdam:20291114T180000
DTEND;TZID=Europe/Amsterdam:20291114T193000
DTSTAMP:20260421T000033
CREATED:20251118T094913Z
LAST-MODIFIED:20251118T094913Z
UID:10008144-1889373600-1889379000@humanhousedelft.nl
SUMMARY:Inloop spreekuur Wetswinkel Delfland
DESCRIPTION:Wij zijn elke maandag en woensdag geopend van 18:15-19:30! Kom bij ons langs voor gratis juridisch advies!
URL:https://humanhousedelft.nl/event/inloop-spreekuur-wetswinkel-delfland/2029-11-14/
LOCATION:Wetswinel Delft\, Van Bleyswijckstraat 91\, Delft\, 2613 RR\, Nederland
CATEGORIES:Human House Delft
ATTACH;FMTTYPE=image/png:https://humanhousedelft.nl/wp-content/uploads/2025/10/Wetswinkel-Delfland_Logo-0ea1b6fc315fc5d7b1ddcafe1d61329b.png
END:VEVENT
BEGIN:VEVENT
DTSTART;TZID=Europe/Amsterdam:20291119T180000
DTEND;TZID=Europe/Amsterdam:20291119T193000
DTSTAMP:20260421T000033
CREATED:20251118T094913Z
LAST-MODIFIED:20251118T094913Z
UID:10008145-1889805600-1889811000@humanhousedelft.nl
SUMMARY:Inloop spreekuur Wetswinkel Delfland
DESCRIPTION:Wij zijn elke maandag en woensdag geopend van 18:15-19:30! Kom bij ons langs voor gratis juridisch advies!
URL:https://humanhousedelft.nl/event/inloop-spreekuur-wetswinkel-delfland/2029-11-19/
LOCATION:Wetswinel Delft\, Van Bleyswijckstraat 91\, Delft\, 2613 RR\, Nederland
CATEGORIES:Human House Delft
ATTACH;FMTTYPE=image/png:https://humanhousedelft.nl/wp-content/uploads/2025/10/Wetswinkel-Delfland_Logo-0ea1b6fc315fc5d7b1ddcafe1d61329b.png
END:VEVENT
BEGIN:VEVENT
DTSTART;TZID=Europe/Amsterdam:20291121T180000
DTEND;TZID=Europe/Amsterdam:20291121T193000
DTSTAMP:20260421T000033
CREATED:20251118T094913Z
LAST-MODIFIED:20251118T094913Z
UID:10008146-1889978400-1889983800@humanhousedelft.nl
SUMMARY:Inloop spreekuur Wetswinkel Delfland
DESCRIPTION:Wij zijn elke maandag en woensdag geopend van 18:15-19:30! Kom bij ons langs voor gratis juridisch advies!
URL:https://humanhousedelft.nl/event/inloop-spreekuur-wetswinkel-delfland/2029-11-21/
LOCATION:Wetswinel Delft\, Van Bleyswijckstraat 91\, Delft\, 2613 RR\, Nederland
CATEGORIES:Human House Delft
ATTACH;FMTTYPE=image/png:https://humanhousedelft.nl/wp-content/uploads/2025/10/Wetswinkel-Delfland_Logo-0ea1b6fc315fc5d7b1ddcafe1d61329b.png
END:VEVENT
BEGIN:VEVENT
DTSTART;TZID=Europe/Amsterdam:20291126T180000
DTEND;TZID=Europe/Amsterdam:20291126T193000
DTSTAMP:20260421T000033
CREATED:20251118T094913Z
LAST-MODIFIED:20251118T094913Z
UID:10008147-1890410400-1890415800@humanhousedelft.nl
SUMMARY:Inloop spreekuur Wetswinkel Delfland
DESCRIPTION:Wij zijn elke maandag en woensdag geopend van 18:15-19:30! Kom bij ons langs voor gratis juridisch advies!
URL:https://humanhousedelft.nl/event/inloop-spreekuur-wetswinkel-delfland/2029-11-26/
LOCATION:Wetswinel Delft\, Van Bleyswijckstraat 91\, Delft\, 2613 RR\, Nederland
CATEGORIES:Human House Delft
ATTACH;FMTTYPE=image/png:https://humanhousedelft.nl/wp-content/uploads/2025/10/Wetswinkel-Delfland_Logo-0ea1b6fc315fc5d7b1ddcafe1d61329b.png
END:VEVENT
BEGIN:VEVENT
DTSTART;TZID=Europe/Amsterdam:20291128T180000
DTEND;TZID=Europe/Amsterdam:20291128T193000
DTSTAMP:20260421T000033
CREATED:20251118T094913Z
LAST-MODIFIED:20251118T094913Z
UID:10008148-1890583200-1890588600@humanhousedelft.nl
SUMMARY:Inloop spreekuur Wetswinkel Delfland
DESCRIPTION:Wij zijn elke maandag en woensdag geopend van 18:15-19:30! Kom bij ons langs voor gratis juridisch advies!
URL:https://humanhousedelft.nl/event/inloop-spreekuur-wetswinkel-delfland/2029-11-28/
LOCATION:Wetswinel Delft\, Van Bleyswijckstraat 91\, Delft\, 2613 RR\, Nederland
CATEGORIES:Human House Delft
ATTACH;FMTTYPE=image/png:https://humanhousedelft.nl/wp-content/uploads/2025/10/Wetswinkel-Delfland_Logo-0ea1b6fc315fc5d7b1ddcafe1d61329b.png
END:VEVENT
BEGIN:VEVENT
DTSTART;TZID=Europe/Amsterdam:20291203T180000
DTEND;TZID=Europe/Amsterdam:20291203T193000
DTSTAMP:20260421T000033
CREATED:20251118T094913Z
LAST-MODIFIED:20251118T094913Z
UID:10008149-1891015200-1891020600@humanhousedelft.nl
SUMMARY:Inloop spreekuur Wetswinkel Delfland
DESCRIPTION:Wij zijn elke maandag en woensdag geopend van 18:15-19:30! Kom bij ons langs voor gratis juridisch advies!
URL:https://humanhousedelft.nl/event/inloop-spreekuur-wetswinkel-delfland/2029-12-03/
LOCATION:Wetswinel Delft\, Van Bleyswijckstraat 91\, Delft\, 2613 RR\, Nederland
CATEGORIES:Human House Delft
ATTACH;FMTTYPE=image/png:https://humanhousedelft.nl/wp-content/uploads/2025/10/Wetswinkel-Delfland_Logo-0ea1b6fc315fc5d7b1ddcafe1d61329b.png
END:VEVENT
BEGIN:VEVENT
DTSTART;TZID=Europe/Amsterdam:20291205T180000
DTEND;TZID=Europe/Amsterdam:20291205T193000
DTSTAMP:20260421T000033
CREATED:20251118T094913Z
LAST-MODIFIED:20251118T094913Z
UID:10008150-1891188000-1891193400@humanhousedelft.nl
SUMMARY:Inloop spreekuur Wetswinkel Delfland
DESCRIPTION:Wij zijn elke maandag en woensdag geopend van 18:15-19:30! Kom bij ons langs voor gratis juridisch advies!
URL:https://humanhousedelft.nl/event/inloop-spreekuur-wetswinkel-delfland/2029-12-05/
LOCATION:Wetswinel Delft\, Van Bleyswijckstraat 91\, Delft\, 2613 RR\, Nederland
CATEGORIES:Human House Delft
ATTACH;FMTTYPE=image/png:https://humanhousedelft.nl/wp-content/uploads/2025/10/Wetswinkel-Delfland_Logo-0ea1b6fc315fc5d7b1ddcafe1d61329b.png
END:VEVENT
BEGIN:VEVENT
DTSTART;TZID=Europe/Amsterdam:20291210T180000
DTEND;TZID=Europe/Amsterdam:20291210T193000
DTSTAMP:20260421T000033
CREATED:20251118T094913Z
LAST-MODIFIED:20251118T094913Z
UID:10008151-1891620000-1891625400@humanhousedelft.nl
SUMMARY:Inloop spreekuur Wetswinkel Delfland
DESCRIPTION:Wij zijn elke maandag en woensdag geopend van 18:15-19:30! Kom bij ons langs voor gratis juridisch advies!
URL:https://humanhousedelft.nl/event/inloop-spreekuur-wetswinkel-delfland/2029-12-10/
LOCATION:Wetswinel Delft\, Van Bleyswijckstraat 91\, Delft\, 2613 RR\, Nederland
CATEGORIES:Human House Delft
ATTACH;FMTTYPE=image/png:https://humanhousedelft.nl/wp-content/uploads/2025/10/Wetswinkel-Delfland_Logo-0ea1b6fc315fc5d7b1ddcafe1d61329b.png
END:VEVENT
BEGIN:VEVENT
DTSTART;TZID=Europe/Amsterdam:20291212T180000
DTEND;TZID=Europe/Amsterdam:20291212T193000
DTSTAMP:20260421T000033
CREATED:20251118T094913Z
LAST-MODIFIED:20251118T094913Z
UID:10008152-1891792800-1891798200@humanhousedelft.nl
SUMMARY:Inloop spreekuur Wetswinkel Delfland
DESCRIPTION:Wij zijn elke maandag en woensdag geopend van 18:15-19:30! Kom bij ons langs voor gratis juridisch advies!
URL:https://humanhousedelft.nl/event/inloop-spreekuur-wetswinkel-delfland/2029-12-12/
LOCATION:Wetswinel Delft\, Van Bleyswijckstraat 91\, Delft\, 2613 RR\, Nederland
CATEGORIES:Human House Delft
ATTACH;FMTTYPE=image/png:https://humanhousedelft.nl/wp-content/uploads/2025/10/Wetswinkel-Delfland_Logo-0ea1b6fc315fc5d7b1ddcafe1d61329b.png
END:VEVENT
BEGIN:VEVENT
DTSTART;TZID=Europe/Amsterdam:20291217T180000
DTEND;TZID=Europe/Amsterdam:20291217T193000
DTSTAMP:20260421T000033
CREATED:20251118T094913Z
LAST-MODIFIED:20251118T094913Z
UID:10008153-1892224800-1892230200@humanhousedelft.nl
SUMMARY:Inloop spreekuur Wetswinkel Delfland
DESCRIPTION:Wij zijn elke maandag en woensdag geopend van 18:15-19:30! Kom bij ons langs voor gratis juridisch advies!
URL:https://humanhousedelft.nl/event/inloop-spreekuur-wetswinkel-delfland/2029-12-17/
LOCATION:Wetswinel Delft\, Van Bleyswijckstraat 91\, Delft\, 2613 RR\, Nederland
CATEGORIES:Human House Delft
ATTACH;FMTTYPE=image/png:https://humanhousedelft.nl/wp-content/uploads/2025/10/Wetswinkel-Delfland_Logo-0ea1b6fc315fc5d7b1ddcafe1d61329b.png
END:VEVENT
BEGIN:VEVENT
DTSTART;TZID=Europe/Amsterdam:20291219T180000
DTEND;TZID=Europe/Amsterdam:20291219T193000
DTSTAMP:20260421T000033
CREATED:20251118T094913Z
LAST-MODIFIED:20251118T094913Z
UID:10008154-1892397600-1892403000@humanhousedelft.nl
SUMMARY:Inloop spreekuur Wetswinkel Delfland
DESCRIPTION:Wij zijn elke maandag en woensdag geopend van 18:15-19:30! Kom bij ons langs voor gratis juridisch advies!
URL:https://humanhousedelft.nl/event/inloop-spreekuur-wetswinkel-delfland/2029-12-19/
LOCATION:Wetswinel Delft\, Van Bleyswijckstraat 91\, Delft\, 2613 RR\, Nederland
CATEGORIES:Human House Delft
ATTACH;FMTTYPE=image/png:https://humanhousedelft.nl/wp-content/uploads/2025/10/Wetswinkel-Delfland_Logo-0ea1b6fc315fc5d7b1ddcafe1d61329b.png
END:VEVENT
BEGIN:VEVENT
DTSTART;TZID=Europe/Amsterdam:20291224T180000
DTEND;TZID=Europe/Amsterdam:20291224T193000
DTSTAMP:20260421T000033
CREATED:20251118T094913Z
LAST-MODIFIED:20251118T094913Z
UID:10008155-1892829600-1892835000@humanhousedelft.nl
SUMMARY:Inloop spreekuur Wetswinkel Delfland
DESCRIPTION:Wij zijn elke maandag en woensdag geopend van 18:15-19:30! Kom bij ons langs voor gratis juridisch advies!
URL:https://humanhousedelft.nl/event/inloop-spreekuur-wetswinkel-delfland/2029-12-24/
LOCATION:Wetswinel Delft\, Van Bleyswijckstraat 91\, Delft\, 2613 RR\, Nederland
CATEGORIES:Human House Delft
ATTACH;FMTTYPE=image/png:https://humanhousedelft.nl/wp-content/uploads/2025/10/Wetswinkel-Delfland_Logo-0ea1b6fc315fc5d7b1ddcafe1d61329b.png
END:VEVENT
BEGIN:VEVENT
DTSTART;TZID=Europe/Amsterdam:20291226T180000
DTEND;TZID=Europe/Amsterdam:20291226T193000
DTSTAMP:20260421T000033
CREATED:20251118T094913Z
LAST-MODIFIED:20251118T094913Z
UID:10008156-1893002400-1893007800@humanhousedelft.nl
SUMMARY:Inloop spreekuur Wetswinkel Delfland
DESCRIPTION:Wij zijn elke maandag en woensdag geopend van 18:15-19:30! Kom bij ons langs voor gratis juridisch advies!
URL:https://humanhousedelft.nl/event/inloop-spreekuur-wetswinkel-delfland/2029-12-26/
LOCATION:Wetswinel Delft\, Van Bleyswijckstraat 91\, Delft\, 2613 RR\, Nederland
CATEGORIES:Human House Delft
ATTACH;FMTTYPE=image/png:https://humanhousedelft.nl/wp-content/uploads/2025/10/Wetswinkel-Delfland_Logo-0ea1b6fc315fc5d7b1ddcafe1d61329b.png
END:VEVENT
BEGIN:VEVENT
DTSTART;TZID=Europe/Amsterdam:20291231T180000
DTEND;TZID=Europe/Amsterdam:20291231T193000
DTSTAMP:20260421T000033
CREATED:20251118T094913Z
LAST-MODIFIED:20251118T094913Z
UID:10008157-1893434400-1893439800@humanhousedelft.nl
SUMMARY:Inloop spreekuur Wetswinkel Delfland
DESCRIPTION:Wij zijn elke maandag en woensdag geopend van 18:15-19:30! Kom bij ons langs voor gratis juridisch advies!
URL:https://humanhousedelft.nl/event/inloop-spreekuur-wetswinkel-delfland/2029-12-31/
LOCATION:Wetswinel Delft\, Van Bleyswijckstraat 91\, Delft\, 2613 RR\, Nederland
CATEGORIES:Human House Delft
ATTACH;FMTTYPE=image/png:https://humanhousedelft.nl/wp-content/uploads/2025/10/Wetswinkel-Delfland_Logo-0ea1b6fc315fc5d7b1ddcafe1d61329b.png
END:VEVENT
BEGIN:VEVENT
DTSTART;TZID=Europe/Amsterdam:20300102T180000
DTEND;TZID=Europe/Amsterdam:20300102T193000
DTSTAMP:20260421T000033
CREATED:20251118T094913Z
LAST-MODIFIED:20251118T094913Z
UID:10008158-1893607200-1893612600@humanhousedelft.nl
SUMMARY:Inloop spreekuur Wetswinkel Delfland
DESCRIPTION:Wij zijn elke maandag en woensdag geopend van 18:15-19:30! Kom bij ons langs voor gratis juridisch advies!
URL:https://humanhousedelft.nl/event/inloop-spreekuur-wetswinkel-delfland/2030-01-02/
LOCATION:Wetswinel Delft\, Van Bleyswijckstraat 91\, Delft\, 2613 RR\, Nederland
CATEGORIES:Human House Delft
ATTACH;FMTTYPE=image/png:https://humanhousedelft.nl/wp-content/uploads/2025/10/Wetswinkel-Delfland_Logo-0ea1b6fc315fc5d7b1ddcafe1d61329b.png
END:VEVENT
BEGIN:VEVENT
DTSTART;TZID=Europe/Amsterdam:20300107T180000
DTEND;TZID=Europe/Amsterdam:20300107T193000
DTSTAMP:20260421T000033
CREATED:20251118T094913Z
LAST-MODIFIED:20251118T094913Z
UID:10008159-1894039200-1894044600@humanhousedelft.nl
SUMMARY:Inloop spreekuur Wetswinkel Delfland
DESCRIPTION:Wij zijn elke maandag en woensdag geopend van 18:15-19:30! Kom bij ons langs voor gratis juridisch advies!
URL:https://humanhousedelft.nl/event/inloop-spreekuur-wetswinkel-delfland/2030-01-07/
LOCATION:Wetswinel Delft\, Van Bleyswijckstraat 91\, Delft\, 2613 RR\, Nederland
CATEGORIES:Human House Delft
ATTACH;FMTTYPE=image/png:https://humanhousedelft.nl/wp-content/uploads/2025/10/Wetswinkel-Delfland_Logo-0ea1b6fc315fc5d7b1ddcafe1d61329b.png
END:VEVENT
BEGIN:VEVENT
DTSTART;TZID=Europe/Amsterdam:20300109T180000
DTEND;TZID=Europe/Amsterdam:20300109T193000
DTSTAMP:20260421T000033
CREATED:20251118T094913Z
LAST-MODIFIED:20251118T094913Z
UID:10008160-1894212000-1894217400@humanhousedelft.nl
SUMMARY:Inloop spreekuur Wetswinkel Delfland
DESCRIPTION:Wij zijn elke maandag en woensdag geopend van 18:15-19:30! Kom bij ons langs voor gratis juridisch advies!
URL:https://humanhousedelft.nl/event/inloop-spreekuur-wetswinkel-delfland/2030-01-09/
LOCATION:Wetswinel Delft\, Van Bleyswijckstraat 91\, Delft\, 2613 RR\, Nederland
CATEGORIES:Human House Delft
ATTACH;FMTTYPE=image/png:https://humanhousedelft.nl/wp-content/uploads/2025/10/Wetswinkel-Delfland_Logo-0ea1b6fc315fc5d7b1ddcafe1d61329b.png
END:VEVENT
BEGIN:VEVENT
DTSTART;TZID=Europe/Amsterdam:20300114T180000
DTEND;TZID=Europe/Amsterdam:20300114T193000
DTSTAMP:20260421T000033
CREATED:20251118T094913Z
LAST-MODIFIED:20251118T094913Z
UID:10008161-1894644000-1894649400@humanhousedelft.nl
SUMMARY:Inloop spreekuur Wetswinkel Delfland
DESCRIPTION:Wij zijn elke maandag en woensdag geopend van 18:15-19:30! Kom bij ons langs voor gratis juridisch advies!
URL:https://humanhousedelft.nl/event/inloop-spreekuur-wetswinkel-delfland/2030-01-14/
LOCATION:Wetswinel Delft\, Van Bleyswijckstraat 91\, Delft\, 2613 RR\, Nederland
CATEGORIES:Human House Delft
ATTACH;FMTTYPE=image/png:https://humanhousedelft.nl/wp-content/uploads/2025/10/Wetswinkel-Delfland_Logo-0ea1b6fc315fc5d7b1ddcafe1d61329b.png
END:VEVENT
END:VCALENDAR