BEGIN:VCALENDAR
VERSION:2.0
PRODID:-//Human House Delft - ECPv6.15.20//NONSGML v1.0//EN
CALSCALE:GREGORIAN
METHOD:PUBLISH
X-WR-CALNAME:Human House Delft
X-ORIGINAL-URL:https://humanhousedelft.nl
X-WR-CALDESC:Evenementen voor Human House Delft
REFRESH-INTERVAL;VALUE=DURATION:PT1H
X-Robots-Tag:noindex
X-PUBLISHED-TTL:PT1H
BEGIN:VTIMEZONE
TZID:Europe/Amsterdam
BEGIN:DAYLIGHT
TZOFFSETFROM:+0100
TZOFFSETTO:+0200
TZNAME:CEST
DTSTART:20280326T010000
END:DAYLIGHT
BEGIN:STANDARD
TZOFFSETFROM:+0200
TZOFFSETTO:+0100
TZNAME:CET
DTSTART:20281029T010000
END:STANDARD
BEGIN:DAYLIGHT
TZOFFSETFROM:+0100
TZOFFSETTO:+0200
TZNAME:CEST
DTSTART:20290325T010000
END:DAYLIGHT
BEGIN:STANDARD
TZOFFSETFROM:+0200
TZOFFSETTO:+0100
TZNAME:CET
DTSTART:20291028T010000
END:STANDARD
BEGIN:DAYLIGHT
TZOFFSETFROM:+0100
TZOFFSETTO:+0200
TZNAME:CEST
DTSTART:20300331T010000
END:DAYLIGHT
BEGIN:STANDARD
TZOFFSETFROM:+0200
TZOFFSETTO:+0100
TZNAME:CET
DTSTART:20301027T010000
END:STANDARD
BEGIN:DAYLIGHT
TZOFFSETFROM:+0100
TZOFFSETTO:+0200
TZNAME:CEST
DTSTART:20310330T010000
END:DAYLIGHT
BEGIN:STANDARD
TZOFFSETFROM:+0200
TZOFFSETTO:+0100
TZNAME:CET
DTSTART:20311026T010000
END:STANDARD
END:VTIMEZONE
BEGIN:VEVENT
DTSTART;TZID=Europe/Amsterdam:20291226T180000
DTEND;TZID=Europe/Amsterdam:20291226T193000
DTSTAMP:20260421T032508
CREATED:20251118T094913Z
LAST-MODIFIED:20251118T094913Z
UID:10008156-1893002400-1893007800@humanhousedelft.nl
SUMMARY:Inloop spreekuur Wetswinkel Delfland
DESCRIPTION:Wij zijn elke maandag en woensdag geopend van 18:15-19:30! Kom bij ons langs voor gratis juridisch advies!
URL:https://humanhousedelft.nl/event/inloop-spreekuur-wetswinkel-delfland/2029-12-26/
LOCATION:Wetswinel Delft\, Van Bleyswijckstraat 91\, Delft\, 2613 RR\, Nederland
CATEGORIES:Human House Delft
ATTACH;FMTTYPE=image/png:https://humanhousedelft.nl/wp-content/uploads/2025/10/Wetswinkel-Delfland_Logo-0ea1b6fc315fc5d7b1ddcafe1d61329b.png
END:VEVENT
BEGIN:VEVENT
DTSTART;TZID=Europe/Amsterdam:20291231T180000
DTEND;TZID=Europe/Amsterdam:20291231T193000
DTSTAMP:20260421T032508
CREATED:20251118T094913Z
LAST-MODIFIED:20251118T094913Z
UID:10008157-1893434400-1893439800@humanhousedelft.nl
SUMMARY:Inloop spreekuur Wetswinkel Delfland
DESCRIPTION:Wij zijn elke maandag en woensdag geopend van 18:15-19:30! Kom bij ons langs voor gratis juridisch advies!
URL:https://humanhousedelft.nl/event/inloop-spreekuur-wetswinkel-delfland/2029-12-31/
LOCATION:Wetswinel Delft\, Van Bleyswijckstraat 91\, Delft\, 2613 RR\, Nederland
CATEGORIES:Human House Delft
ATTACH;FMTTYPE=image/png:https://humanhousedelft.nl/wp-content/uploads/2025/10/Wetswinkel-Delfland_Logo-0ea1b6fc315fc5d7b1ddcafe1d61329b.png
END:VEVENT
BEGIN:VEVENT
DTSTART;TZID=Europe/Amsterdam:20300102T180000
DTEND;TZID=Europe/Amsterdam:20300102T193000
DTSTAMP:20260421T032508
CREATED:20251118T094913Z
LAST-MODIFIED:20251118T094913Z
UID:10008158-1893607200-1893612600@humanhousedelft.nl
SUMMARY:Inloop spreekuur Wetswinkel Delfland
DESCRIPTION:Wij zijn elke maandag en woensdag geopend van 18:15-19:30! Kom bij ons langs voor gratis juridisch advies!
URL:https://humanhousedelft.nl/event/inloop-spreekuur-wetswinkel-delfland/2030-01-02/
LOCATION:Wetswinel Delft\, Van Bleyswijckstraat 91\, Delft\, 2613 RR\, Nederland
CATEGORIES:Human House Delft
ATTACH;FMTTYPE=image/png:https://humanhousedelft.nl/wp-content/uploads/2025/10/Wetswinkel-Delfland_Logo-0ea1b6fc315fc5d7b1ddcafe1d61329b.png
END:VEVENT
BEGIN:VEVENT
DTSTART;TZID=Europe/Amsterdam:20300107T180000
DTEND;TZID=Europe/Amsterdam:20300107T193000
DTSTAMP:20260421T032508
CREATED:20251118T094913Z
LAST-MODIFIED:20251118T094913Z
UID:10008159-1894039200-1894044600@humanhousedelft.nl
SUMMARY:Inloop spreekuur Wetswinkel Delfland
DESCRIPTION:Wij zijn elke maandag en woensdag geopend van 18:15-19:30! Kom bij ons langs voor gratis juridisch advies!
URL:https://humanhousedelft.nl/event/inloop-spreekuur-wetswinkel-delfland/2030-01-07/
LOCATION:Wetswinel Delft\, Van Bleyswijckstraat 91\, Delft\, 2613 RR\, Nederland
CATEGORIES:Human House Delft
ATTACH;FMTTYPE=image/png:https://humanhousedelft.nl/wp-content/uploads/2025/10/Wetswinkel-Delfland_Logo-0ea1b6fc315fc5d7b1ddcafe1d61329b.png
END:VEVENT
BEGIN:VEVENT
DTSTART;TZID=Europe/Amsterdam:20300109T180000
DTEND;TZID=Europe/Amsterdam:20300109T193000
DTSTAMP:20260421T032508
CREATED:20251118T094913Z
LAST-MODIFIED:20251118T094913Z
UID:10008160-1894212000-1894217400@humanhousedelft.nl
SUMMARY:Inloop spreekuur Wetswinkel Delfland
DESCRIPTION:Wij zijn elke maandag en woensdag geopend van 18:15-19:30! Kom bij ons langs voor gratis juridisch advies!
URL:https://humanhousedelft.nl/event/inloop-spreekuur-wetswinkel-delfland/2030-01-09/
LOCATION:Wetswinel Delft\, Van Bleyswijckstraat 91\, Delft\, 2613 RR\, Nederland
CATEGORIES:Human House Delft
ATTACH;FMTTYPE=image/png:https://humanhousedelft.nl/wp-content/uploads/2025/10/Wetswinkel-Delfland_Logo-0ea1b6fc315fc5d7b1ddcafe1d61329b.png
END:VEVENT
BEGIN:VEVENT
DTSTART;TZID=Europe/Amsterdam:20300114T180000
DTEND;TZID=Europe/Amsterdam:20300114T193000
DTSTAMP:20260421T032508
CREATED:20251118T094913Z
LAST-MODIFIED:20251118T094913Z
UID:10008161-1894644000-1894649400@humanhousedelft.nl
SUMMARY:Inloop spreekuur Wetswinkel Delfland
DESCRIPTION:Wij zijn elke maandag en woensdag geopend van 18:15-19:30! Kom bij ons langs voor gratis juridisch advies!
URL:https://humanhousedelft.nl/event/inloop-spreekuur-wetswinkel-delfland/2030-01-14/
LOCATION:Wetswinel Delft\, Van Bleyswijckstraat 91\, Delft\, 2613 RR\, Nederland
CATEGORIES:Human House Delft
ATTACH;FMTTYPE=image/png:https://humanhousedelft.nl/wp-content/uploads/2025/10/Wetswinkel-Delfland_Logo-0ea1b6fc315fc5d7b1ddcafe1d61329b.png
END:VEVENT
BEGIN:VEVENT
DTSTART;TZID=Europe/Amsterdam:20300116T180000
DTEND;TZID=Europe/Amsterdam:20300116T193000
DTSTAMP:20260421T032508
CREATED:20251118T094913Z
LAST-MODIFIED:20251118T094913Z
UID:10008162-1894816800-1894822200@humanhousedelft.nl
SUMMARY:Inloop spreekuur Wetswinkel Delfland
DESCRIPTION:Wij zijn elke maandag en woensdag geopend van 18:15-19:30! Kom bij ons langs voor gratis juridisch advies!
URL:https://humanhousedelft.nl/event/inloop-spreekuur-wetswinkel-delfland/2030-01-16/
LOCATION:Wetswinel Delft\, Van Bleyswijckstraat 91\, Delft\, 2613 RR\, Nederland
CATEGORIES:Human House Delft
ATTACH;FMTTYPE=image/png:https://humanhousedelft.nl/wp-content/uploads/2025/10/Wetswinkel-Delfland_Logo-0ea1b6fc315fc5d7b1ddcafe1d61329b.png
END:VEVENT
BEGIN:VEVENT
DTSTART;TZID=Europe/Amsterdam:20300121T180000
DTEND;TZID=Europe/Amsterdam:20300121T193000
DTSTAMP:20260421T032508
CREATED:20251118T094913Z
LAST-MODIFIED:20251118T094913Z
UID:10008163-1895248800-1895254200@humanhousedelft.nl
SUMMARY:Inloop spreekuur Wetswinkel Delfland
DESCRIPTION:Wij zijn elke maandag en woensdag geopend van 18:15-19:30! Kom bij ons langs voor gratis juridisch advies!
URL:https://humanhousedelft.nl/event/inloop-spreekuur-wetswinkel-delfland/2030-01-21/
LOCATION:Wetswinel Delft\, Van Bleyswijckstraat 91\, Delft\, 2613 RR\, Nederland
CATEGORIES:Human House Delft
ATTACH;FMTTYPE=image/png:https://humanhousedelft.nl/wp-content/uploads/2025/10/Wetswinkel-Delfland_Logo-0ea1b6fc315fc5d7b1ddcafe1d61329b.png
END:VEVENT
BEGIN:VEVENT
DTSTART;TZID=Europe/Amsterdam:20300123T180000
DTEND;TZID=Europe/Amsterdam:20300123T193000
DTSTAMP:20260421T032508
CREATED:20251118T094913Z
LAST-MODIFIED:20251118T094913Z
UID:10008164-1895421600-1895427000@humanhousedelft.nl
SUMMARY:Inloop spreekuur Wetswinkel Delfland
DESCRIPTION:Wij zijn elke maandag en woensdag geopend van 18:15-19:30! Kom bij ons langs voor gratis juridisch advies!
URL:https://humanhousedelft.nl/event/inloop-spreekuur-wetswinkel-delfland/2030-01-23/
LOCATION:Wetswinel Delft\, Van Bleyswijckstraat 91\, Delft\, 2613 RR\, Nederland
CATEGORIES:Human House Delft
ATTACH;FMTTYPE=image/png:https://humanhousedelft.nl/wp-content/uploads/2025/10/Wetswinkel-Delfland_Logo-0ea1b6fc315fc5d7b1ddcafe1d61329b.png
END:VEVENT
BEGIN:VEVENT
DTSTART;TZID=Europe/Amsterdam:20300128T180000
DTEND;TZID=Europe/Amsterdam:20300128T193000
DTSTAMP:20260421T032508
CREATED:20251118T094913Z
LAST-MODIFIED:20251118T094913Z
UID:10008165-1895853600-1895859000@humanhousedelft.nl
SUMMARY:Inloop spreekuur Wetswinkel Delfland
DESCRIPTION:Wij zijn elke maandag en woensdag geopend van 18:15-19:30! Kom bij ons langs voor gratis juridisch advies!
URL:https://humanhousedelft.nl/event/inloop-spreekuur-wetswinkel-delfland/2030-01-28/
LOCATION:Wetswinel Delft\, Van Bleyswijckstraat 91\, Delft\, 2613 RR\, Nederland
CATEGORIES:Human House Delft
ATTACH;FMTTYPE=image/png:https://humanhousedelft.nl/wp-content/uploads/2025/10/Wetswinkel-Delfland_Logo-0ea1b6fc315fc5d7b1ddcafe1d61329b.png
END:VEVENT
BEGIN:VEVENT
DTSTART;TZID=Europe/Amsterdam:20300130T180000
DTEND;TZID=Europe/Amsterdam:20300130T193000
DTSTAMP:20260421T032508
CREATED:20251118T094913Z
LAST-MODIFIED:20251118T094913Z
UID:10008166-1896026400-1896031800@humanhousedelft.nl
SUMMARY:Inloop spreekuur Wetswinkel Delfland
DESCRIPTION:Wij zijn elke maandag en woensdag geopend van 18:15-19:30! Kom bij ons langs voor gratis juridisch advies!
URL:https://humanhousedelft.nl/event/inloop-spreekuur-wetswinkel-delfland/2030-01-30/
LOCATION:Wetswinel Delft\, Van Bleyswijckstraat 91\, Delft\, 2613 RR\, Nederland
CATEGORIES:Human House Delft
ATTACH;FMTTYPE=image/png:https://humanhousedelft.nl/wp-content/uploads/2025/10/Wetswinkel-Delfland_Logo-0ea1b6fc315fc5d7b1ddcafe1d61329b.png
END:VEVENT
BEGIN:VEVENT
DTSTART;TZID=Europe/Amsterdam:20300204T180000
DTEND;TZID=Europe/Amsterdam:20300204T193000
DTSTAMP:20260421T032508
CREATED:20251118T094913Z
LAST-MODIFIED:20251118T094913Z
UID:10008167-1896458400-1896463800@humanhousedelft.nl
SUMMARY:Inloop spreekuur Wetswinkel Delfland
DESCRIPTION:Wij zijn elke maandag en woensdag geopend van 18:15-19:30! Kom bij ons langs voor gratis juridisch advies!
URL:https://humanhousedelft.nl/event/inloop-spreekuur-wetswinkel-delfland/2030-02-04/
LOCATION:Wetswinel Delft\, Van Bleyswijckstraat 91\, Delft\, 2613 RR\, Nederland
CATEGORIES:Human House Delft
ATTACH;FMTTYPE=image/png:https://humanhousedelft.nl/wp-content/uploads/2025/10/Wetswinkel-Delfland_Logo-0ea1b6fc315fc5d7b1ddcafe1d61329b.png
END:VEVENT
BEGIN:VEVENT
DTSTART;TZID=Europe/Amsterdam:20300206T180000
DTEND;TZID=Europe/Amsterdam:20300206T193000
DTSTAMP:20260421T032508
CREATED:20251118T094913Z
LAST-MODIFIED:20251118T094913Z
UID:10008168-1896631200-1896636600@humanhousedelft.nl
SUMMARY:Inloop spreekuur Wetswinkel Delfland
DESCRIPTION:Wij zijn elke maandag en woensdag geopend van 18:15-19:30! Kom bij ons langs voor gratis juridisch advies!
URL:https://humanhousedelft.nl/event/inloop-spreekuur-wetswinkel-delfland/2030-02-06/
LOCATION:Wetswinel Delft\, Van Bleyswijckstraat 91\, Delft\, 2613 RR\, Nederland
CATEGORIES:Human House Delft
ATTACH;FMTTYPE=image/png:https://humanhousedelft.nl/wp-content/uploads/2025/10/Wetswinkel-Delfland_Logo-0ea1b6fc315fc5d7b1ddcafe1d61329b.png
END:VEVENT
BEGIN:VEVENT
DTSTART;TZID=Europe/Amsterdam:20300211T180000
DTEND;TZID=Europe/Amsterdam:20300211T193000
DTSTAMP:20260421T032508
CREATED:20251118T094913Z
LAST-MODIFIED:20251118T094913Z
UID:10008169-1897063200-1897068600@humanhousedelft.nl
SUMMARY:Inloop spreekuur Wetswinkel Delfland
DESCRIPTION:Wij zijn elke maandag en woensdag geopend van 18:15-19:30! Kom bij ons langs voor gratis juridisch advies!
URL:https://humanhousedelft.nl/event/inloop-spreekuur-wetswinkel-delfland/2030-02-11/
LOCATION:Wetswinel Delft\, Van Bleyswijckstraat 91\, Delft\, 2613 RR\, Nederland
CATEGORIES:Human House Delft
ATTACH;FMTTYPE=image/png:https://humanhousedelft.nl/wp-content/uploads/2025/10/Wetswinkel-Delfland_Logo-0ea1b6fc315fc5d7b1ddcafe1d61329b.png
END:VEVENT
BEGIN:VEVENT
DTSTART;TZID=Europe/Amsterdam:20300213T180000
DTEND;TZID=Europe/Amsterdam:20300213T193000
DTSTAMP:20260421T032508
CREATED:20251118T094913Z
LAST-MODIFIED:20251118T094913Z
UID:10008170-1897236000-1897241400@humanhousedelft.nl
SUMMARY:Inloop spreekuur Wetswinkel Delfland
DESCRIPTION:Wij zijn elke maandag en woensdag geopend van 18:15-19:30! Kom bij ons langs voor gratis juridisch advies!
URL:https://humanhousedelft.nl/event/inloop-spreekuur-wetswinkel-delfland/2030-02-13/
LOCATION:Wetswinel Delft\, Van Bleyswijckstraat 91\, Delft\, 2613 RR\, Nederland
CATEGORIES:Human House Delft
ATTACH;FMTTYPE=image/png:https://humanhousedelft.nl/wp-content/uploads/2025/10/Wetswinkel-Delfland_Logo-0ea1b6fc315fc5d7b1ddcafe1d61329b.png
END:VEVENT
BEGIN:VEVENT
DTSTART;TZID=Europe/Amsterdam:20300218T180000
DTEND;TZID=Europe/Amsterdam:20300218T193000
DTSTAMP:20260421T032508
CREATED:20251118T094913Z
LAST-MODIFIED:20251118T094913Z
UID:10008171-1897668000-1897673400@humanhousedelft.nl
SUMMARY:Inloop spreekuur Wetswinkel Delfland
DESCRIPTION:Wij zijn elke maandag en woensdag geopend van 18:15-19:30! Kom bij ons langs voor gratis juridisch advies!
URL:https://humanhousedelft.nl/event/inloop-spreekuur-wetswinkel-delfland/2030-02-18/
LOCATION:Wetswinel Delft\, Van Bleyswijckstraat 91\, Delft\, 2613 RR\, Nederland
CATEGORIES:Human House Delft
ATTACH;FMTTYPE=image/png:https://humanhousedelft.nl/wp-content/uploads/2025/10/Wetswinkel-Delfland_Logo-0ea1b6fc315fc5d7b1ddcafe1d61329b.png
END:VEVENT
BEGIN:VEVENT
DTSTART;TZID=Europe/Amsterdam:20300220T180000
DTEND;TZID=Europe/Amsterdam:20300220T193000
DTSTAMP:20260421T032508
CREATED:20251118T094913Z
LAST-MODIFIED:20251118T094913Z
UID:10008172-1897840800-1897846200@humanhousedelft.nl
SUMMARY:Inloop spreekuur Wetswinkel Delfland
DESCRIPTION:Wij zijn elke maandag en woensdag geopend van 18:15-19:30! Kom bij ons langs voor gratis juridisch advies!
URL:https://humanhousedelft.nl/event/inloop-spreekuur-wetswinkel-delfland/2030-02-20/
LOCATION:Wetswinel Delft\, Van Bleyswijckstraat 91\, Delft\, 2613 RR\, Nederland
CATEGORIES:Human House Delft
ATTACH;FMTTYPE=image/png:https://humanhousedelft.nl/wp-content/uploads/2025/10/Wetswinkel-Delfland_Logo-0ea1b6fc315fc5d7b1ddcafe1d61329b.png
END:VEVENT
BEGIN:VEVENT
DTSTART;TZID=Europe/Amsterdam:20300225T180000
DTEND;TZID=Europe/Amsterdam:20300225T193000
DTSTAMP:20260421T032508
CREATED:20251118T094913Z
LAST-MODIFIED:20251118T094913Z
UID:10008173-1898272800-1898278200@humanhousedelft.nl
SUMMARY:Inloop spreekuur Wetswinkel Delfland
DESCRIPTION:Wij zijn elke maandag en woensdag geopend van 18:15-19:30! Kom bij ons langs voor gratis juridisch advies!
URL:https://humanhousedelft.nl/event/inloop-spreekuur-wetswinkel-delfland/2030-02-25/
LOCATION:Wetswinel Delft\, Van Bleyswijckstraat 91\, Delft\, 2613 RR\, Nederland
CATEGORIES:Human House Delft
ATTACH;FMTTYPE=image/png:https://humanhousedelft.nl/wp-content/uploads/2025/10/Wetswinkel-Delfland_Logo-0ea1b6fc315fc5d7b1ddcafe1d61329b.png
END:VEVENT
BEGIN:VEVENT
DTSTART;TZID=Europe/Amsterdam:20300227T180000
DTEND;TZID=Europe/Amsterdam:20300227T193000
DTSTAMP:20260421T032508
CREATED:20251118T094913Z
LAST-MODIFIED:20251118T094913Z
UID:10008174-1898445600-1898451000@humanhousedelft.nl
SUMMARY:Inloop spreekuur Wetswinkel Delfland
DESCRIPTION:Wij zijn elke maandag en woensdag geopend van 18:15-19:30! Kom bij ons langs voor gratis juridisch advies!
URL:https://humanhousedelft.nl/event/inloop-spreekuur-wetswinkel-delfland/2030-02-27/
LOCATION:Wetswinel Delft\, Van Bleyswijckstraat 91\, Delft\, 2613 RR\, Nederland
CATEGORIES:Human House Delft
ATTACH;FMTTYPE=image/png:https://humanhousedelft.nl/wp-content/uploads/2025/10/Wetswinkel-Delfland_Logo-0ea1b6fc315fc5d7b1ddcafe1d61329b.png
END:VEVENT
BEGIN:VEVENT
DTSTART;TZID=Europe/Amsterdam:20300304T180000
DTEND;TZID=Europe/Amsterdam:20300304T193000
DTSTAMP:20260421T032508
CREATED:20251118T094913Z
LAST-MODIFIED:20251118T094913Z
UID:10008175-1898877600-1898883000@humanhousedelft.nl
SUMMARY:Inloop spreekuur Wetswinkel Delfland
DESCRIPTION:Wij zijn elke maandag en woensdag geopend van 18:15-19:30! Kom bij ons langs voor gratis juridisch advies!
URL:https://humanhousedelft.nl/event/inloop-spreekuur-wetswinkel-delfland/2030-03-04/
LOCATION:Wetswinel Delft\, Van Bleyswijckstraat 91\, Delft\, 2613 RR\, Nederland
CATEGORIES:Human House Delft
ATTACH;FMTTYPE=image/png:https://humanhousedelft.nl/wp-content/uploads/2025/10/Wetswinkel-Delfland_Logo-0ea1b6fc315fc5d7b1ddcafe1d61329b.png
END:VEVENT
BEGIN:VEVENT
DTSTART;TZID=Europe/Amsterdam:20300306T180000
DTEND;TZID=Europe/Amsterdam:20300306T193000
DTSTAMP:20260421T032508
CREATED:20251118T094913Z
LAST-MODIFIED:20251118T094913Z
UID:10008176-1899050400-1899055800@humanhousedelft.nl
SUMMARY:Inloop spreekuur Wetswinkel Delfland
DESCRIPTION:Wij zijn elke maandag en woensdag geopend van 18:15-19:30! Kom bij ons langs voor gratis juridisch advies!
URL:https://humanhousedelft.nl/event/inloop-spreekuur-wetswinkel-delfland/2030-03-06/
LOCATION:Wetswinel Delft\, Van Bleyswijckstraat 91\, Delft\, 2613 RR\, Nederland
CATEGORIES:Human House Delft
ATTACH;FMTTYPE=image/png:https://humanhousedelft.nl/wp-content/uploads/2025/10/Wetswinkel-Delfland_Logo-0ea1b6fc315fc5d7b1ddcafe1d61329b.png
END:VEVENT
BEGIN:VEVENT
DTSTART;TZID=Europe/Amsterdam:20300311T180000
DTEND;TZID=Europe/Amsterdam:20300311T193000
DTSTAMP:20260421T032508
CREATED:20251118T094913Z
LAST-MODIFIED:20251118T094913Z
UID:10008177-1899482400-1899487800@humanhousedelft.nl
SUMMARY:Inloop spreekuur Wetswinkel Delfland
DESCRIPTION:Wij zijn elke maandag en woensdag geopend van 18:15-19:30! Kom bij ons langs voor gratis juridisch advies!
URL:https://humanhousedelft.nl/event/inloop-spreekuur-wetswinkel-delfland/2030-03-11/
LOCATION:Wetswinel Delft\, Van Bleyswijckstraat 91\, Delft\, 2613 RR\, Nederland
CATEGORIES:Human House Delft
ATTACH;FMTTYPE=image/png:https://humanhousedelft.nl/wp-content/uploads/2025/10/Wetswinkel-Delfland_Logo-0ea1b6fc315fc5d7b1ddcafe1d61329b.png
END:VEVENT
BEGIN:VEVENT
DTSTART;TZID=Europe/Amsterdam:20300313T180000
DTEND;TZID=Europe/Amsterdam:20300313T193000
DTSTAMP:20260421T032508
CREATED:20251118T094913Z
LAST-MODIFIED:20251118T094913Z
UID:10008178-1899655200-1899660600@humanhousedelft.nl
SUMMARY:Inloop spreekuur Wetswinkel Delfland
DESCRIPTION:Wij zijn elke maandag en woensdag geopend van 18:15-19:30! Kom bij ons langs voor gratis juridisch advies!
URL:https://humanhousedelft.nl/event/inloop-spreekuur-wetswinkel-delfland/2030-03-13/
LOCATION:Wetswinel Delft\, Van Bleyswijckstraat 91\, Delft\, 2613 RR\, Nederland
CATEGORIES:Human House Delft
ATTACH;FMTTYPE=image/png:https://humanhousedelft.nl/wp-content/uploads/2025/10/Wetswinkel-Delfland_Logo-0ea1b6fc315fc5d7b1ddcafe1d61329b.png
END:VEVENT
BEGIN:VEVENT
DTSTART;TZID=Europe/Amsterdam:20300318T180000
DTEND;TZID=Europe/Amsterdam:20300318T193000
DTSTAMP:20260421T032508
CREATED:20251118T094913Z
LAST-MODIFIED:20251118T094913Z
UID:10008179-1900087200-1900092600@humanhousedelft.nl
SUMMARY:Inloop spreekuur Wetswinkel Delfland
DESCRIPTION:Wij zijn elke maandag en woensdag geopend van 18:15-19:30! Kom bij ons langs voor gratis juridisch advies!
URL:https://humanhousedelft.nl/event/inloop-spreekuur-wetswinkel-delfland/2030-03-18/
LOCATION:Wetswinel Delft\, Van Bleyswijckstraat 91\, Delft\, 2613 RR\, Nederland
CATEGORIES:Human House Delft
ATTACH;FMTTYPE=image/png:https://humanhousedelft.nl/wp-content/uploads/2025/10/Wetswinkel-Delfland_Logo-0ea1b6fc315fc5d7b1ddcafe1d61329b.png
END:VEVENT
BEGIN:VEVENT
DTSTART;TZID=Europe/Amsterdam:20300320T180000
DTEND;TZID=Europe/Amsterdam:20300320T193000
DTSTAMP:20260421T032508
CREATED:20251118T094913Z
LAST-MODIFIED:20251118T094913Z
UID:10008180-1900260000-1900265400@humanhousedelft.nl
SUMMARY:Inloop spreekuur Wetswinkel Delfland
DESCRIPTION:Wij zijn elke maandag en woensdag geopend van 18:15-19:30! Kom bij ons langs voor gratis juridisch advies!
URL:https://humanhousedelft.nl/event/inloop-spreekuur-wetswinkel-delfland/2030-03-20/
LOCATION:Wetswinel Delft\, Van Bleyswijckstraat 91\, Delft\, 2613 RR\, Nederland
CATEGORIES:Human House Delft
ATTACH;FMTTYPE=image/png:https://humanhousedelft.nl/wp-content/uploads/2025/10/Wetswinkel-Delfland_Logo-0ea1b6fc315fc5d7b1ddcafe1d61329b.png
END:VEVENT
BEGIN:VEVENT
DTSTART;TZID=Europe/Amsterdam:20300325T180000
DTEND;TZID=Europe/Amsterdam:20300325T193000
DTSTAMP:20260421T032508
CREATED:20251118T094913Z
LAST-MODIFIED:20251118T094913Z
UID:10008181-1900692000-1900697400@humanhousedelft.nl
SUMMARY:Inloop spreekuur Wetswinkel Delfland
DESCRIPTION:Wij zijn elke maandag en woensdag geopend van 18:15-19:30! Kom bij ons langs voor gratis juridisch advies!
URL:https://humanhousedelft.nl/event/inloop-spreekuur-wetswinkel-delfland/2030-03-25/
LOCATION:Wetswinel Delft\, Van Bleyswijckstraat 91\, Delft\, 2613 RR\, Nederland
CATEGORIES:Human House Delft
ATTACH;FMTTYPE=image/png:https://humanhousedelft.nl/wp-content/uploads/2025/10/Wetswinkel-Delfland_Logo-0ea1b6fc315fc5d7b1ddcafe1d61329b.png
END:VEVENT
BEGIN:VEVENT
DTSTART;TZID=Europe/Amsterdam:20300327T180000
DTEND;TZID=Europe/Amsterdam:20300327T193000
DTSTAMP:20260421T032508
CREATED:20251118T094913Z
LAST-MODIFIED:20251118T094913Z
UID:10008182-1900864800-1900870200@humanhousedelft.nl
SUMMARY:Inloop spreekuur Wetswinkel Delfland
DESCRIPTION:Wij zijn elke maandag en woensdag geopend van 18:15-19:30! Kom bij ons langs voor gratis juridisch advies!
URL:https://humanhousedelft.nl/event/inloop-spreekuur-wetswinkel-delfland/2030-03-27/
LOCATION:Wetswinel Delft\, Van Bleyswijckstraat 91\, Delft\, 2613 RR\, Nederland
CATEGORIES:Human House Delft
ATTACH;FMTTYPE=image/png:https://humanhousedelft.nl/wp-content/uploads/2025/10/Wetswinkel-Delfland_Logo-0ea1b6fc315fc5d7b1ddcafe1d61329b.png
END:VEVENT
BEGIN:VEVENT
DTSTART;TZID=Europe/Amsterdam:20300401T180000
DTEND;TZID=Europe/Amsterdam:20300401T193000
DTSTAMP:20260421T032508
CREATED:20251118T094913Z
LAST-MODIFIED:20251118T094913Z
UID:10008183-1901296800-1901302200@humanhousedelft.nl
SUMMARY:Inloop spreekuur Wetswinkel Delfland
DESCRIPTION:Wij zijn elke maandag en woensdag geopend van 18:15-19:30! Kom bij ons langs voor gratis juridisch advies!
URL:https://humanhousedelft.nl/event/inloop-spreekuur-wetswinkel-delfland/2030-04-01/
LOCATION:Wetswinel Delft\, Van Bleyswijckstraat 91\, Delft\, 2613 RR\, Nederland
CATEGORIES:Human House Delft
ATTACH;FMTTYPE=image/png:https://humanhousedelft.nl/wp-content/uploads/2025/10/Wetswinkel-Delfland_Logo-0ea1b6fc315fc5d7b1ddcafe1d61329b.png
END:VEVENT
BEGIN:VEVENT
DTSTART;TZID=Europe/Amsterdam:20300403T180000
DTEND;TZID=Europe/Amsterdam:20300403T193000
DTSTAMP:20260421T032508
CREATED:20251118T094913Z
LAST-MODIFIED:20251118T094913Z
UID:10008184-1901469600-1901475000@humanhousedelft.nl
SUMMARY:Inloop spreekuur Wetswinkel Delfland
DESCRIPTION:Wij zijn elke maandag en woensdag geopend van 18:15-19:30! Kom bij ons langs voor gratis juridisch advies!
URL:https://humanhousedelft.nl/event/inloop-spreekuur-wetswinkel-delfland/2030-04-03/
LOCATION:Wetswinel Delft\, Van Bleyswijckstraat 91\, Delft\, 2613 RR\, Nederland
CATEGORIES:Human House Delft
ATTACH;FMTTYPE=image/png:https://humanhousedelft.nl/wp-content/uploads/2025/10/Wetswinkel-Delfland_Logo-0ea1b6fc315fc5d7b1ddcafe1d61329b.png
END:VEVENT
BEGIN:VEVENT
DTSTART;TZID=Europe/Amsterdam:20300408T180000
DTEND;TZID=Europe/Amsterdam:20300408T193000
DTSTAMP:20260421T032508
CREATED:20251118T094913Z
LAST-MODIFIED:20251118T094913Z
UID:10008185-1901901600-1901907000@humanhousedelft.nl
SUMMARY:Inloop spreekuur Wetswinkel Delfland
DESCRIPTION:Wij zijn elke maandag en woensdag geopend van 18:15-19:30! Kom bij ons langs voor gratis juridisch advies!
URL:https://humanhousedelft.nl/event/inloop-spreekuur-wetswinkel-delfland/2030-04-08/
LOCATION:Wetswinel Delft\, Van Bleyswijckstraat 91\, Delft\, 2613 RR\, Nederland
CATEGORIES:Human House Delft
ATTACH;FMTTYPE=image/png:https://humanhousedelft.nl/wp-content/uploads/2025/10/Wetswinkel-Delfland_Logo-0ea1b6fc315fc5d7b1ddcafe1d61329b.png
END:VEVENT
END:VCALENDAR